{"text_format":"1","workbook":"xlsx","n_sheets":5,"sheets":["Entries","Results","Sheet1","Sheet2","Cat-Wins"],"not_rendered":{"charts":0,"images":1,"macros":1,"external_links":0,"defined_names":1,"comments":1,"pivot_tables":0},"unopened":[],"bounds":{"document_bytes":16777216,"sheet_cells":100000,"rows_first":2000,"rows_last":500,"rows_between":2000,"halvings":0,"cell_chars":16384,"cell_head_chars":4096},"cells_cut":0,"cells_raw":0,"read":"whole","date_system":"1900"}

{"sheet":"Entries","index":0,"n_rows":318,"n_cols":32,"rows_kept":318,"cut":false,"hidden":false,"merged":[[0,0,0,2]]}
[{"$f":"Z2","v":"Bradwell 2015"},null,null,null,{"$f":"\"Number of entries: \"&COUNTIF(C4:C1000,\">\"\"\")","v":"Number of entries: 112"},null,{"$f":"COUNTIF(B3:B303,\"=y\")","v":112},null,null,null,null,null,null,null,null,null,null,null,null,{"$f":"COUNTIF(A3:A300,\">0\")","v":113},null,null,null,{"$f":"CELL(\"filename\",A1)","v":"C:\\Users\\Daniel\\Desktop\\[Bradwell 2015.xlsm]Entries"},null,null,null,null,null,null,null,{"$f":"NOW()","v":"2015-08-05T11:57:34.070"}]
["Race No.","Pre Entry","Runners Name","Given Name","Club code","Age","Sex","Special Cat","Club","Category",null,"id clubs - offset",null,"Catagories",null,"Code","No. of awards",null,"eMail","phone","Address",null,null,{"$f":"FIND(\"[\",X1)+1","v":26},{"$f":"FIND(\".\",X1)-X2","v":13},{"$f":"MID(X1,X2,Y2)","v":"Bradwell 2015"},null,null,"Club Coding"]
[0,null,"Finisher  Unidentified!",null,"u",60,"M"," ",{"$f":"IFERROR(PROPER(OFFSET($AC$3,MATCH(E3,AD$4:AD$53,0),0)),PROPER(E3))","v":"U/A"},{"$f":"cat(AF3,G3)","v":"MV60"},{"$f":"IF(ISERROR(MATCH(PROPER(I3),K$2:K2,0)),PROPER(I3),\"-\")","v":"U/A"},{"$f":"IFERROR(MATCH(K3,I$3:I4,0),10000)","v":1},null,"Senior Man",null,"M",3,null,null,null,null,null,"Runner Returned",null,null,"List of Clubs",null,null,"Club","Code",null,{"$f":"IF(LEN(F3)>2,INT((AF$1-F3)/365.25),F3)","v":60}]
[1,null,"David Perkins",null,null,"1900-02-09","M",null,"Steel City Striders",{"$f":"cat(AF4,G4)","v":"MV40"},{"$f":"IF(ISERROR(MATCH(PROPER(I4),K$2:K3,0)),PROPER(I4),\"-\")","v":"Steel City Striders"},{"$f":"IFERROR(MATCH(K4,I$3:I5,0),10000)","v":2},null,"Senior Female",null,"F",3,null,null,null,null,null,{"$f":"IF(ISERROR(OFFSET(Results!$B$3,MATCH(A4,Results!B$4:B302,0),0)),A4,0)","v":0},null,null,{"$f":"OFFSET(L$2,MATCH(SMALL(L$3:L$500,ROW(A1)),L$3:L$500,0),-1)","v":"U/A"},null,null,"Barnsley Harriers","barn",null,{"$f":"IF(LEN(F4)>2,INT((AF$1-F4)/365.25),F4)","v":40}]
[{"$f":"IF(C4>\"\",A4+1,\"\")","v":2},{"$f":"IF(ISERROR(A5*1>0),\"\",\"y\")","v":"y"},"Keith Holmes",null,null,61,"M",null,"Dark Peak",{"$f":"cat(F5,G5)","v":"MV60"},{"$f":"IF(ISERROR(MATCH(PROPER(I5),K$2:K4,0)),PROPER(I5),\"-\")","v":"Dark Peak"},{"$f":"IFERROR(MATCH(K5,I$3:I6,0),10000)","v":3},null,"Male vet 40",null,"MV40",3,null,null,null,null,null,{"$f":"IF(ISERROR(OFFSET(Results!$B$3,MATCH(A5,Results!B$4:B303,0),0)),A5,0)","v":0},null,null,{"$f":"OFFSET(L$2,MATCH(SMALL(L$3:L$500,ROW(A2)),L$3:L$500,0),-1)","v":"Steel City Striders"},null,null,"Buxton","bux",null,61]
[3,"y","Bland Quigley",null,null,"1900-02-13","M",null,"Steel City Striders","MV40",{"$f":"IF(ISERROR(MATCH(PROPER(I6),K$2:K5,0)),PROPER(I6),\"-\")","v":"-"},{"$f":"IFERROR(MATCH(K6,I$3:I7,0),10000)","v":10000},null,"Female vet 40",null,"FV40",3,null,null,null,null,null,{"$f":"IF(ISERROR(OFFSET(Results!$B$3,MATCH(A6,Results!B$4:B304,0),0)),A6,0)","v":0},null,null,"Dark Peak",null,null,"Cheshire Racers","chesh",null,44]
[4,"y","Nathan Hoyland",null,null,30,"M",null,"Steel City Striders","MS",{"$f":"IF(ISERROR(MATCH(PROPER(I7),K$2:K6,0)),PROPER(I7),\"-\")","v":"-"},{"$f":"IFERROR(MATCH(K7,I$3:I8,0),10000)","v":10000},null,"Male vet 50",null,"MV50",3,null,null,null,null,null,{"$f":"IF(ISERROR(OFFSET(Results!$B$3,MATCH(A7,Results!B$4:B305,0),0)),A7,0)","v":0},null,null,"Tideswell Rc",null,null,"Congleton","cong",null,30]
[5,"y","Phil Gregory",null,null,41,"M"," ","Tideswell Rc","MV40",{"$f":"IF(ISERROR(MATCH(PROPER(I8),K$2:K7,0)),PROPER(I8),\"-\")","v":"Tideswell Rc"},{"$f":"IFERROR(MATCH(K8,I$3:I9,0),10000)","v":6},null,"Female vet 50",null,"FV50",1,null,null,null,null,null,{"$f":"IF(ISERROR(OFFSET(Results!$B$3,MATCH(A8,Results!B$4:B306,0),0)),A8,0)","v":0},null,null,"Totley Ac",null,null,"Dark Peak ","dp",null,41]
[6,"y","Roz Massey",null,null,36,"f"," ","Totley AC","FS",{"$f":"IF(ISERROR(MATCH(PROPER(I9),K$2:K8,0)),PROPER(I9),\"-\")","v":"Totley Ac"},{"$f":"IFERROR(MATCH(K9,I$3:I10,0),10000)","v":7},null,"Male vet 60",null,"MV60",1,null,null,null,null,null,{"$f":"IF(ISERROR(OFFSET(Results!$B$3,MATCH(A9,Results!B$4:B307,0),0)),A9,0)","v":0},null,null,"",null,null,"Erewash","ere",null,36]
[7,"y","Stuart Bond",null,null,38,"M"," ","Dark Peak","MS",{"$f":"IF(ISERROR(MATCH(PROPER(I10),K$2:K9,0)),PROPER(I10),\"-\")","v":"-"},{"$f":"IFERROR(MATCH(K10,I$3:I11,0),10000)","v":10000},null,"Female vet 60",null,"FV60",1,null,null,null,null,null,{"$f":"IF(ISERROR(OFFSET(Results!$B$3,MATCH(A10,Results!B$4:B308,0),0)),A10,0)","v":0},null,null,"Penistone Footpath Runners",null,null,"Fat Boys","fb",null,38]
[8,"y","Trevor Burton",null,null,58,"M",null,"Steel City Striders",{"$f":"cat(F11,G11)","v":"MV55"},{"$f":"IF(ISERROR(MATCH(PROPER(I11),K$2:K10,0)),PROPER(I11),\"-\")","v":"-"},{"$f":"IFERROR(MATCH(K11,I$3:I12,0),10000)","v":10000},null,"Male vet 70",null,"MV70",1,null,null,null,null,null,{"$f":"IF(ISERROR(OFFSET(Results!$B$3,MATCH(A11,Results!B$4:B309,0),0)),A11,0)","v":0},null,null,"Taylored Running Group",null,null,"Glossopdale","glos",null,58]
[9,"y","Corina Philps",null,null,21,"f","B",{"$f":"IFERROR(PROPER(OFFSET($AC$3,MATCH(E12,AD$4:AD$53,0),0)),PROPER(E12))","v":""},"FS",{"$f":"IF(ISERROR(MATCH(PROPER(I12),K$2:K11,0)),PROPER(I12),\"-\")","v":""},{"$f":"IFERROR(MATCH(K12,I$3:I13,0),10000)","v":10},null,"Female vet 70",null,"FV70",1,null,null,null,null,null,{"$f":"IF(ISERROR(OFFSET(Results!$B$3,MATCH(A12,Results!B$4:B310,0),0)),A12,0)","v":0},null,null,"Buxton Ac",null,null,"Goyt Valley","goyt",null,21]
[10,"y","Shane Phillips",null,null,21,"M",null,"","MS",{"$f":"IF(ISERROR(MATCH(PROPER(I13),K$2:K12,0)),PROPER(I13),\"-\")","v":"-"},{"$f":"IFERROR(MATCH(K13,I$3:I14,0),10000)","v":10000},null,"Spec Cat 1",null,"N",3,"Nottingham FRC",null,null,null,null,{"$f":"IF(ISERROR(OFFSET(Results!$B$3,MATCH(A13,Results!B$4:B311,0),0)),A13,0)","v":0},null,null,"Pennine Fell Racers",null,null,"Hallamshire Harriers","hal",null,21]
[11,"y","Peter Stanley",null,null,57,"M",null,"Penistone Footpath runners","MV55",{"$f":"IF(ISERROR(MATCH(PROPER(I14),K$2:K13,0)),PROPER(I14),\"-\")","v":"Penistone Footpath Runners"},{"$f":"IFERROR(MATCH(K14,I$3:I15,0),10000)","v":12},null,"Spec Cat 2",null,"B",3,"Bradwell",null,null,null,null,{"$f":"IF(ISERROR(OFFSET(Results!$B$3,MATCH(A14,Results!B$4:B312,0),0)),A14,0)","v":0},null,null,"Fra",null,null,"Handsworth Road Hogs","hand",null,57]
[12,"y","Mick Archer",null,null,50,"M","B","Dark Peak","MV50",{"$f":"IF(ISERROR(MATCH(PROPER(I15),K$2:K14,0)),PROPER(I15),\"-\")","v":"-"},{"$f":"IFERROR(MATCH(K15,I$3:I16,0),10000)","v":10000},null,"Spec Cat 3",null,"H",3,"Hope Valley",null,null,null,null,{"$f":"IF(ISERROR(OFFSET(Results!$B$3,MATCH(A15,Results!B$4:B313,0),0)),A15,0)","v":0},null,null,"Handsworth Road Hogs",null,null,"Holme Pierrepoint","holmp",null,50]
[13,"y","Mark Elwis",null,null,51,"M",null,"","MV50",{"$f":"IF(ISERROR(MATCH(PROPER(I16),K$2:K15,0)),PROPER(I16),\"-\")","v":"-"},{"$f":"IFERROR(MATCH(K16,I$3:I17,0),10000)","v":10000},null,null,null,null,null,null,null,null,null,null,{"$f":"IF(ISERROR(OFFSET(Results!$B$3,MATCH(A16,Results!B$4:B314,0),0)),A16,0)","v":0},null,null,"Norham Running Club",null,null,"Holmfirth Harriers","holmf",null,51]
[14,"y","Peter Stenton",null,null,21,"M",null,"Dark Peak","MS",{"$f":"IF(ISERROR(MATCH(PROPER(I17),K$2:K16,0)),PROPER(I17),\"-\")","v":"-"},{"$f":"IFERROR(MATCH(K17,I$3:I18,0),10000)","v":10000},null,"Male vet 45",null,"MV45",null,null,null,null,null,null,{"$f":"IF(ISERROR(OFFSET(Results!$B$3,MATCH(A17,Results!B$4:B315,0),0)),A17,0)","v":0},null,null,"Heidelberg International School",null,null,"Kilamarsh","kil",null,21]
[15,"y","Peter Wallis",null,null,55,"M","B","Tideswell Rc","MV55",{"$f":"IF(ISERROR(MATCH(PROPER(I18),K$2:K17,0)),PROPER(I18),\"-\")","v":"-"},{"$f":"IFERROR(MATCH(K18,I$3:I19,0),10000)","v":10000},null,"Female vet 45",null,"FV45",null,null,null,null,null,null,{"$f":"IF(ISERROR(OFFSET(Results!$B$3,MATCH(A18,Results!B$4:B316,0),0)),A18,0)","v":0},null,null,"Fusion Cc",null,null,"kimberworth","kim",null,55]
[16,"y","Diane Clewes",null,null,52,"F",null,"Totley AC","FV50",{"$f":"IF(ISERROR(MATCH(PROPER(I19),K$2:K18,0)),PROPER(I19),\"-\")","v":"-"},{"$f":"IFERROR(MATCH(K19,I$3:I20,0),10000)","v":10000},null,"Male vet 55",null,"MV55",null,null,null,null,null,null,{"$f":"IF(ISERROR(OFFSET(Results!$B$3,MATCH(A19,Results!B$4:B317,0),0)),A19,0)","v":0},null,null,"Glossopdale",null,null,"Long Eaton","longe",null,52]
[17,"y","Graham Barnes",null,null,60,"M",null,"","MV60",{"$f":"IF(ISERROR(MATCH(PROPER(I20),K$2:K19,0)),PROPER(I20),\"-\")","v":"-"},{"$f":"IFERROR(MATCH(K20,I$3:I21,0),10000)","v":10000},null,"Female vet 55",null,"FV55",null,null,null,null,null,null,{"$f":"IF(ISERROR(OFFSET(Results!$B$3,MATCH(A20,Results!B$4:B318,0),0)),A20,0)","v":0},null,null,"Serpentine Rc",null,null,"Macclesfield Harriers","mac",null,60]
[18,"y","Karis Hodgkinson",null,null,30,"f",null,"Taylored Running Group","FS",{"$f":"IF(ISERROR(MATCH(PROPER(I21),K$2:K20,0)),PROPER(I21),\"-\")","v":"Taylored Running Group"},{"$f":"IFERROR(MATCH(K21,I$3:I22,0),10000)","v":19},null,"Male vet 65",null,"MV65",null,null,null,null,null,null,{"$f":"IF(ISERROR(OFFSET(Results!$B$3,MATCH(A21,Results!B$4:B319,0),0)),A21,0)","v":0},null,null,"Fatboys Rc",null,null,"mansfield","man",null,30]
[19,"y","Jennifer Machan",null,null,38,"f",null,"Taylored Running Group","FS",{"$f":"IF(ISERROR(MATCH(PROPER(I22),K$2:K21,0)),PROPER(I22),\"-\")","v":"-"},{"$f":"IFERROR(MATCH(K22,I$3:I23,0),10000)","v":10000},null,"Female vet 65",null,"FV65",null,null,null,null,null,null,{"$f":"IF(ISERROR(OFFSET(Results!$B$3,MATCH(A22,Results!B$4:B320,0),0)),A22,0)","v":0},null,null,"Goyt Valley Striders",null,null,"Matlock","mat",null,38]
[20,"y","Rob Willis",null,null,44,"M",null,"Totley AC","MV40",{"$f":"IF(ISERROR(MATCH(PROPER(I23),K$2:K22,0)),PROPER(I23),\"-\")","v":"-"},{"$f":"IFERROR(MATCH(K23,I$3:I24,0),10000)","v":10000},null,"Male vet 75",null,"MV75",null,null,null,null,null,null,{"$f":"IF(ISERROR(OFFSET(Results!$B$3,MATCH(A23,Results!B$4:B321,0),0)),A23,0)","v":0},null,null,"Sheffield Tri Club",null,null,"Mercia","mer",null,44]
[21,"y","Nancy Stuart",null,null,36,"F",null,"Steel City Striders","FS",{"$f":"IF(ISERROR(MATCH(PROPER(I24),K$2:K23,0)),PROPER(I24),\"-\")","v":"-"},{"$f":"IFERROR(MATCH(K24,I$3:I25,0),10000)","v":10000},null,"Female vet 75",null,"FV75",null,null,null,null,null,null,{"$f":"IF(ISERROR(OFFSET(Results!$B$3,MATCH(A24,Results!B$4:B322,0),0)),A24,0)","v":0},null,null,"Retford Ac",null,null,"Pennine Fell Runners","p9",null,36]
[22,"y","Alexander Arblaster",null,null,36,"M",null,"Steel City Striders","MS",{"$f":"IF(ISERROR(MATCH(PROPER(I25),K$2:K24,0)),PROPER(I25),\"-\")","v":"-"},{"$f":"IFERROR(MATCH(K25,I$3:I26,0),10000)","v":10000},null,null,null,null,null,null,null,null,null,null,{"$f":"IF(ISERROR(OFFSET(Results!$B$3,MATCH(A25,Results!B$4:B323,0),0)),A25,0)","v":0},null,null,"-",null,null,"Pennistone","pstone",null,36]
[23,"y","Carol Beattie",null,null,61,"F",null,"Steel City Striders","FV60",{"$f":"IF(ISERROR(MATCH(PROPER(I26),K$2:K25,0)),PROPER(I26),\"-\")","v":"-"},{"$f":"IFERROR(MATCH(K26,I$3:I27,0),10000)","v":10000},null,null,null,null,null,null,null,null,null,null,{"$f":"IF(ISERROR(OFFSET(Results!$B$3,MATCH(A26,Results!B$4:B324,0),0)),A26,0)","v":0},null,null,"-",null,null,"Redhill Road Runners","red",null,61]
[24,"y","Mark Quince",null,null,46,"M",null,"Buxton AC","MV45",{"$f":"IF(ISERROR(MATCH(PROPER(I27),K$2:K26,0)),PROPER(I27),\"-\")","v":"Buxton Ac"},{"$f":"IFERROR(MATCH(K27,I$3:I28,0),10000)","v":25},null,null,null,null,null,null,null,null,null,null,{"$f":"IF(ISERROR(OFFSET(Results!$B$3,MATCH(A27,Results!B$4:B325,0),0)),A27,0)","v":0},null,null,"-",null,null,"Retford AC","ret",null,46]
[25,"y","Sophie Quince",null,null,17,"F",null,"Pennine Fell racers","FS",{"$f":"IF(ISERROR(MATCH(PROPER(I28),K$2:K27,0)),PROPER(I28),\"-\")","v":"Pennine Fell Racers"},{"$f":"IFERROR(MATCH(K28,I$3:I29,0),10000)","v":26},null,null,null,null,null,null,null,null,null,null,{"$f":"IF(ISERROR(OFFSET(Results!$B$3,MATCH(A28,Results!B$4:B326,0),0)),A28,0)","v":0},null,null,"-",null,null,"Ripley","rip",null,17]
[26,"y","Heather Beaumont",null,null,31,"F",null,"Totley AC","FS",{"$f":"IF(ISERROR(MATCH(PROPER(I29),K$2:K28,0)),PROPER(I29),\"-\")","v":"-"},{"$f":"IFERROR(MATCH(K29,I$3:I30,0),10000)","v":10000},null,null,null,null,null,null,null,null,null,null,{"$f":"IF(ISERROR(OFFSET(Results!$B$3,MATCH(A29,Results!B$4:B327,0),0)),A29,0)","v":0},null,null,"-",null,null,"Steel City Striders","scs",null,31]
[27,"y","Lorenzo Allievi",null,null,33,"M",null,"Totley AC","MS",{"$f":"IF(ISERROR(MATCH(PROPER(I30),K$2:K29,0)),PROPER(I30),\"-\")","v":"-"},{"$f":"IFERROR(MATCH(K30,I$3:I31,0),10000)","v":10000},null,null,null,null,null,null,null,null,null,null,{"$f":"IF(ISERROR(OFFSET(Results!$B$3,MATCH(A30,Results!B$4:B328,0),0)),A30,0)","v":0},null,null,"-",null,null,"Southwell","southw",null,33]
[28,"y","Neil Hindle",null,null,60,"M",null,"FRA","MV60",{"$f":"IF(ISERROR(MATCH(PROPER(I31),K$2:K30,0)),PROPER(I31),\"-\")","v":"Fra"},{"$f":"IFERROR(MATCH(K31,I$3:I32,0),10000)","v":29},null,null,null,null,null,null,null,null,null,null,{"$f":"IF(ISERROR(OFFSET(Results!$B$3,MATCH(A31,Results!B$4:B329,0),0)),A31,0)","v":0},null,null,"-",null,null,"Staffordshire Moorland","stafm",null,60]
[29,"y","Andrew Davies",null,null,47,"M",null,"Steel City Striders","MV45",{"$f":"IF(ISERROR(MATCH(PROPER(I32),K$2:K31,0)),PROPER(I32),\"-\")","v":"-"},{"$f":"IFERROR(MATCH(K32,I$3:I33,0),10000)","v":10000},null,null,null,null,null,null,null,null,null,null,{"$f":"IF(ISERROR(OFFSET(Results!$B$3,MATCH(A32,Results!B$4:B330,0),0)),A32,0)","v":0},null,null,"-",null,null,"Sheffield Tri","stri",null,47]
[30,"y","Naomi Rabin",null,null,29,"F",null,"","FS",{"$f":"IF(ISERROR(MATCH(PROPER(I33),K$2:K32,0)),PROPER(I33),\"-\")","v":"-"},{"$f":"IFERROR(MATCH(K33,I$3:I34,0),10000)","v":10000},null,null,null,null,null,null,null,null,null,null,{"$f":"IF(ISERROR(OFFSET(Results!$B$3,MATCH(A33,Results!B$4:B331,0),0)),A33,0)","v":0},null,null,"-",null,null,"Sheffield University","su",null,29]
[31,"y","Steve Clarke",null,null,36,"M",null,"Steel City Striders","MS",{"$f":"IF(ISERROR(MATCH(PROPER(I34),K$2:K33,0)),PROPER(I34),\"-\")","v":"-"},{"$f":"IFERROR(MATCH(K34,I$3:I35,0),10000)","v":10000},null,null,null,null,null,null,null,null,null,null,{"$f":"IF(ISERROR(OFFSET(Results!$B$3,MATCH(A34,Results!B$4:B332,0),0)),A34,0)","v":0},null,null,"-",null,null,"South Yorkshire Police","syp",null,36]
[32,"y","Kate Jenkins",null,null,41,"F",null,"Handsworth Road Hogs","FV40",{"$f":"IF(ISERROR(MATCH(PROPER(I35),K$2:K34,0)),PROPER(I35),\"-\")","v":"Handsworth Road Hogs"},{"$f":"IFERROR(MATCH(K35,I$3:I36,0),10000)","v":33},null,null,null,null,null,null,null,null,null,null,{"$f":"IF(ISERROR(OFFSET(Results!$B$3,MATCH(A35,Results!B$4:B333,0),0)),A35,0)","v":0},null,null,"-",null,null,"Totley AC","tot",null,41]
[33,"y","Kevin Mahon",null,null,42,"M",null,"Handsworth Road Hogs","MV40",{"$f":"IF(ISERROR(MATCH(PROPER(I36),K$2:K35,0)),PROPER(I36),\"-\")","v":"-"},{"$f":"IFERROR(MATCH(K36,I$3:I37,0),10000)","v":10000},null,null,null,null,null,null,null,null,null,null,{"$f":"IF(ISERROR(OFFSET(Results!$B$3,MATCH(A36,Results!B$4:B334,0),0)),A36,0)","v":0},null,null,"-",null,null,"Racing TNT","tnt",null,42]
[34,"y","Yvonne Twelvetrees",null,null,64,"F",null,"Totley AC","FV60",{"$f":"IF(ISERROR(MATCH(PROPER(I37),K$2:K36,0)),PROPER(I37),\"-\")","v":"-"},{"$f":"IFERROR(MATCH(K37,I$3:I38,0),10000)","v":10000},null,null,null,null,null,null,null,null,null,null,{"$f":"IF(ISERROR(OFFSET(Results!$B$3,MATCH(A37,Results!B$4:B335,0),0)),A37,0)","v":0},null,null,"-",null,null,"U/A","u",null,64]
[35,"y","Emma Dent",null,null,46,"F",null,"Totley AC","FV45",{"$f":"IF(ISERROR(MATCH(PROPER(I38),K$2:K37,0)),PROPER(I38),\"-\")","v":"-"},{"$f":"IFERROR(MATCH(K38,I$3:I39,0),10000)","v":10000},null,null,null,null,null,null,null,null,null,null,{"$f":"IF(ISERROR(OFFSET(Results!$B$3,MATCH(A38,Results!B$4:B336,0),0)),A38,0)","v":0},null,null,"-",null,null,null,null,null,46]
[36,"y","Mike Jones",null,null,49,"M","B","Norham Running Club","MV45",{"$f":"IF(ISERROR(MATCH(PROPER(I39),K$2:K38,0)),PROPER(I39),\"-\")","v":"Norham Running Club"},{"$f":"IFERROR(MATCH(K39,I$3:I40,0),10000)","v":37},null,null,null,null,null,null,null,null,null,null,{"$f":"IF(ISERROR(OFFSET(Results!$B$3,MATCH(A39,Results!B$4:B337,0),0)),A39,0)","v":0},null,null,"-",null,null,null,null,null,49]
[37,"y","Stuart Rook",null,null,42,"M","B","Tideswell Rc","MV40",{"$f":"IF(ISERROR(MATCH(PROPER(I40),K$2:K39,0)),PROPER(I40),\"-\")","v":"-"},{"$f":"IFERROR(MATCH(K40,I$3:I41,0),10000)","v":10000},null,null,null,null,null,null,null,null,null,null,{"$f":"IF(ISERROR(OFFSET(Results!$B$3,MATCH(A40,Results!B$4:B338,0),0)),A40,0)","v":0},null,null,"-",null,null,null,null,null,42]
[38,"y","Colette Holden",null,null,42,"F","B","Tideswell Rc","FV40",{"$f":"IF(ISERROR(MATCH(PROPER(I41),K$2:K40,0)),PROPER(I41),\"-\")","v":"-"},{"$f":"IFERROR(MATCH(K41,I$3:I42,0),10000)","v":10000},null,null,null,null,null,null,null,null,null,null,{"$f":"IF(ISERROR(OFFSET(Results!$B$3,MATCH(A41,Results!B$4:B339,0),0)),A41,0)","v":0},null,null,"-",null,null,null,null,null,42]
[39,"y","Helen Davis",null,null,35,"F",null,"Steel City Striders","FS",{"$f":"IF(ISERROR(MATCH(PROPER(I42),K$2:K41,0)),PROPER(I42),\"-\")","v":"-"},{"$f":"IFERROR(MATCH(K42,I$3:I43,0),10000)","v":10000},null,null,null,null,null,null,null,null,null,null,{"$f":"IF(ISERROR(OFFSET(Results!$B$3,MATCH(A42,Results!B$4:B340,0),0)),A42,0)","v":0},null,null,"-",null,null,null,null,null,35]
[40,"y","Nick Morris",null,null,36,"M",null,"Handsworth Road Hogs","MS",{"$f":"IF(ISERROR(MATCH(PROPER(I43),K$2:K42,0)),PROPER(I43),\"-\")","v":"-"},{"$f":"IFERROR(MATCH(K43,I$3:I44,0),10000)","v":10000},null,null,null,null,null,null,null,null,null,null,{"$f":"IF(ISERROR(OFFSET(Results!$B$3,MATCH(A43,Results!B$4:B341,0),0)),A43,0)","v":0},null,null,"-",null,null,null,null,null,36]
[41,"y","Philip Morris",null,null,24,"M",null,"Handsworth Road Hogs","MS",{"$f":"IF(ISERROR(MATCH(PROPER(I44),K$2:K43,0)),PROPER(I44),\"-\")","v":"-"},{"$f":"IFERROR(MATCH(K44,I$3:I45,0),10000)","v":10000},null,null,null,null,null,null,null,null,null,null,{"$f":"IF(ISERROR(OFFSET(Results!$B$3,MATCH(A44,Results!B$4:B342,0),0)),A44,0)","v":0},null,null,"-",null,null,null,null,null,24]
[42,"y","Vicky Moss",null,null,41,"F",null,"","FV40",{"$f":"IF(ISERROR(MATCH(PROPER(I45),K$2:K44,0)),PROPER(I45),\"-\")","v":"-"},{"$f":"IFERROR(MATCH(K45,I$3:I46,0),10000)","v":10000},null,null,null,null,null,null,null,null,null,null,{"$f":"IF(ISERROR(OFFSET(Results!$B$3,MATCH(A45,Results!B$4:B343,0),0)),A45,0)","v":0},null,null,"-",null,null,null,null,null,41]
[43,"y","Stephen Moss",null,null,43,"M",null,"","MV40",{"$f":"IF(ISERROR(MATCH(PROPER(I46),K$2:K45,0)),PROPER(I46),\"-\")","v":"-"},{"$f":"IFERROR(MATCH(K46,I$3:I47,0),10000)","v":10000},null,null,null,null,null,null,null,null,null,null,{"$f":"IF(ISERROR(OFFSET(Results!$B$3,MATCH(A46,Results!B$4:B344,0),0)),A46,0)","v":0},null,null,"-",null,null,null,null,null,43]
[44,"y","Liam Ashton",null,null,31,"M",null,"Tideswell Rc","MS",{"$f":"IF(ISERROR(MATCH(PROPER(I47),K$2:K46,0)),PROPER(I47),\"-\")","v":"-"},{"$f":"IFERROR(MATCH(K47,I$3:I48,0),10000)","v":10000},null,null,null,null,null,null,null,null,null,null,{"$f":"IF(ISERROR(OFFSET(Results!$B$3,MATCH(A47,Results!B$4:B345,0),0)),A47,0)","v":0},null,null,"-",null,null,null,null,null,31]
[45,"y","Heather Marsden",null,null,49,"F","B","Tideswell Rc","FV45",{"$f":"IF(ISERROR(MATCH(PROPER(I48),K$2:K47,0)),PROPER(I48),\"-\")","v":"-"},{"$f":"IFERROR(MATCH(K48,I$3:I49,0),10000)","v":10000},null,null,null,null,null,null,null,null,null,null,{"$f":"IF(ISERROR(OFFSET(Results!$B$3,MATCH(A48,Results!B$4:B346,0),0)),A48,0)","v":0},null,null,"-",null,null,null,null,null,49]
[46,"y","Clare Holdcroft",null,null,43,"F",null,"Buxton AC","FV40",{"$f":"IF(ISERROR(MATCH(PROPER(I49),K$2:K48,0)),PROPER(I49),\"-\")","v":"-"},{"$f":"IFERROR(MATCH(K49,I$3:I50,0),10000)","v":10000},null,null,null,null,null,null,null,null,null,null,{"$f":"IF(ISERROR(OFFSET(Results!$B$3,MATCH(A49,Results!B$4:B347,0),0)),A49,0)","v":0},null,null,"-",null,null,null,null,null,43]
[47,"y","Maxine Ison",null,null,52,"F",null,"Totley AC","FV50",{"$f":"IF(ISERROR(MATCH(PROPER(I50),K$2:K49,0)),PROPER(I50),\"-\")","v":"-"},{"$f":"IFERROR(MATCH(K50,I$3:I51,0),10000)","v":10000},null,null,null,null,null,null,null,null,null,null,{"$f":"IF(ISERROR(OFFSET(Results!$B$3,MATCH(A50,Results!B$4:B348,0),0)),A50,0)","v":0},null,null,"-",null,null,null,null,null,52]
[48,"y","Joan Waller",null,null,55,"F",null,"Dark Peak","FV55",{"$f":"IF(ISERROR(MATCH(PROPER(I51),K$2:K50,0)),PROPER(I51),\"-\")","v":"-"},{"$f":"IFERROR(MATCH(K51,I$3:I52,0),10000)","v":10000},null,null,null,null,null,null,null,null,null,null,{"$f":"IF(ISERROR(OFFSET(Results!$B$3,MATCH(A51,Results!B$4:B349,0),0)),A51,0)","v":0},null,null,"-",null,null,null,null,null,55]
[49,"y","Steve Fraser",null,null,37,"M",null,"Steel City Striders","MS",{"$f":"IF(ISERROR(MATCH(PROPER(I52),K$2:K51,0)),PROPER(I52),\"-\")","v":"-"},{"$f":"IFERROR(MATCH(K52,I$3:I53,0),10000)","v":10000},null,null,null,null,null,null,null,null,null,null,{"$f":"IF(ISERROR(OFFSET(Results!$B$3,MATCH(A52,Results!B$4:B350,0),0)),A52,0)","v":0},null,null,"-",null,null,null,null,null,37]
[50,"y","Adam Taylor",null,null,33,"M",null,"Taylored Running Group","MS",{"$f":"IF(ISERROR(MATCH(PROPER(I53),K$2:K52,0)),PROPER(I53),\"-\")","v":"-"},{"$f":"IFERROR(MATCH(K53,I$3:I54,0),10000)","v":10000},null,null,null,null,null,null,null,null,null,null,{"$f":"IF(ISERROR(OFFSET(Results!$B$3,MATCH(A53,Results!B$4:B351,0),0)),A53,0)","v":0},null,null,"-",null,null,null,null,null,33]
[51,"y","Glen Cropper",null,null,18,"M",null,"Tideswell Rc","MS",{"$f":"IF(ISERROR(MATCH(PROPER(I54),K$2:K53,0)),PROPER(I54),\"-\")","v":"-"},{"$f":"IFERROR(MATCH(K54,I$3:I55,0),10000)","v":10000},null,null,null,null,null,null,null,null,null,null,{"$f":"IF(ISERROR(OFFSET(Results!$B$3,MATCH(A54,Results!B$4:B352,0),0)),A54,0)","v":0},null,null,"-",null,null,null,null,null,18]
[52,"y","Allyn Raw",null,null,40,"M",null,"Heidelberg International School","MV40",{"$f":"IF(ISERROR(MATCH(PROPER(I55),K$2:K54,0)),PROPER(I55),\"-\")","v":"Heidelberg International School"},{"$f":"IFERROR(MATCH(K55,I$3:I56,0),10000)","v":53},null,null,null,null,null,null,null,null,null,null,{"$f":"IF(ISERROR(OFFSET(Results!$B$3,MATCH(A55,Results!B$4:B353,0),0)),A55,0)","v":0},null,null,"-",null,null,null,null,null,40]
[53,"y","Will Day",null,null,47,"M",null,"Dark Peak","MV45",{"$f":"IF(ISERROR(MATCH(PROPER(I56),K$2:K55,0)),PROPER(I56),\"-\")","v":"-"},{"$f":"IFERROR(MATCH(K56,I$3:I57,0),10000)","v":10000},null,null,null,null,null,null,null,null,null,null,{"$f":"IF(ISERROR(OFFSET(Results!$B$3,MATCH(A56,Results!B$4:B354,0),0)),A56,0)","v":0},null,null,"-",null,null,null,null,null,47]
[54,"y","Mark Wheen",null,null,50,"M",null,"","MV50",{"$f":"IF(ISERROR(MATCH(PROPER(I57),K$2:K56,0)),PROPER(I57),\"-\")","v":"-"},{"$f":"IFERROR(MATCH(K57,I$3:I58,0),10000)","v":10000},null,null,null,null,null,null,null,null,null,null,{"$f":"IF(ISERROR(OFFSET(Results!$B$3,MATCH(A57,Results!B$4:B355,0),0)),A57,0)","v":0},null,null,"-",null,null,null,null,null,50]
[55,"y","Ben Williams",null,null,36,"M",null,"","MS",{"$f":"IF(ISERROR(MATCH(PROPER(I58),K$2:K57,0)),PROPER(I58),\"-\")","v":"-"},{"$f":"IFERROR(MATCH(K58,I$3:I59,0),10000)","v":10000},null,null,null,null,null,null,null,null,null,null,{"$f":"IF(ISERROR(OFFSET(Results!$B$3,MATCH(A58,Results!B$4:B356,0),0)),A58,0)","v":0},null,null,"-",null,null,null,null,null,36]
[56,"y","Bart Shaw",null,null,33,"M",null,"Totley AC","MS",{"$f":"IF(ISERROR(MATCH(PROPER(I59),K$2:K58,0)),PROPER(I59),\"-\")","v":"-"},{"$f":"IFERROR(MATCH(K59,I$3:I60,0),10000)","v":10000},null,null,null,null,null,null,null,null,null,null,{"$f":"IF(ISERROR(OFFSET(Results!$B$3,MATCH(A59,Results!B$4:B357,0),0)),A59,0)","v":0},null,null,"-",null,null,null,null,null,33]
[57,"y","Steve Franklin",null,null,27,"M",null,"Totley AC","MS",{"$f":"IF(ISERROR(MATCH(PROPER(I60),K$2:K59,0)),PROPER(I60),\"-\")","v":"-"},{"$f":"IFERROR(MATCH(K60,I$3:I61,0),10000)","v":10000},null,null,null,null,null,null,null,null,null,null,{"$f":"IF(ISERROR(OFFSET(Results!$B$3,MATCH(A60,Results!B$4:B358,0),0)),A60,0)","v":0},null,null,"-",null,null,null,null,null,27]
[58,"y","missing",null,null,null,"M",null,"","MS",{"$f":"IF(ISERROR(MATCH(PROPER(I61),K$2:K60,0)),PROPER(I61),\"-\")","v":"-"},{"$f":"IFERROR(MATCH(K61,I$3:I62,0),10000)","v":10000},null,null,null,null,null,null,null,null,null,null,{"$f":"IF(ISERROR(OFFSET(Results!$B$3,MATCH(A61,Results!B$4:B359,0),0)),A61,0)","v":58},null,null,"-",null,null,null,null,null,0]
[59,"y","Lee Gordon",null,null,43,"M",null,"Fusion CC","MV40",{"$f":"IF(ISERROR(MATCH(PROPER(I62),K$2:K61,0)),PROPER(I62),\"-\")","v":"Fusion Cc"},{"$f":"IFERROR(MATCH(K62,I$3:I63,0),10000)","v":60},null,null,null,null,null,null,null,null,null,null,{"$f":"IF(ISERROR(OFFSET(Results!$B$3,MATCH(A62,Results!B$4:B360,0),0)),A62,0)","v":0},null,null,"-",null,null,null,null,null,43]
[60,"y","Bradley Martin",null,null,21,"M",null,"Fusion CC","MS",{"$f":"IF(ISERROR(MATCH(PROPER(I63),K$2:K62,0)),PROPER(I63),\"-\")","v":"-"},{"$f":"IFERROR(MATCH(K63,I$3:I64,0),10000)","v":10000},null,null,null,null,null,null,null,null,null,null,{"$f":"IF(ISERROR(OFFSET(Results!$B$3,MATCH(A63,Results!B$4:B361,0),0)),A63,0)","v":0},null,null,"-",null,null,null,null,null,21]
[61,"y","Chris Jackson",null,null,29,"M",null,"Glossopdale","MS",{"$f":"IF(ISERROR(MATCH(PROPER(I64),K$2:K63,0)),PROPER(I64),\"-\")","v":"Glossopdale"},{"$f":"IFERROR(MATCH(K64,I$3:I65,0),10000)","v":62},null,null,null,null,null,null,null,null,null,null,{"$f":"IF(ISERROR(OFFSET(Results!$B$3,MATCH(A64,Results!B$4:B362,0),0)),A64,0)","v":0},null,null,"-",null,null,null,null,null,29]
[62,"y","John Franklin",null,null,29,"M",null,"Serpentine RC","MS",{"$f":"IF(ISERROR(MATCH(PROPER(I65),K$2:K64,0)),PROPER(I65),\"-\")","v":"Serpentine Rc"},{"$f":"IFERROR(MATCH(K65,I$3:I66,0),10000)","v":63},null,null,null,null,null,null,null,null,null,null,{"$f":"IF(ISERROR(OFFSET(Results!$B$3,MATCH(A65,Results!B$4:B363,0),0)),A65,0)","v":0},null,null,"-",null,null,null,null,null,29]
[63,"y","Mark Hatfield",null,null,33,"M",null,"","MS",{"$f":"IF(ISERROR(MATCH(PROPER(I66),K$2:K65,0)),PROPER(I66),\"-\")","v":"-"},{"$f":"IFERROR(MATCH(K66,I$3:I67,0),10000)","v":10000},null,null,null,null,null,null,null,null,null,null,{"$f":"IF(ISERROR(OFFSET(Results!$B$3,MATCH(A66,Results!B$4:B364,0),0)),A66,0)","v":0},null,null,"-",null,null,null,null,null,33]
[64,"y","Victoria Hawkins",null,null,47,"F",null,"Steel City Striders","FV45",{"$f":"IF(ISERROR(MATCH(PROPER(I67),K$2:K66,0)),PROPER(I67),\"-\")","v":"-"},{"$f":"IFERROR(MATCH(K67,I$3:I68,0),10000)","v":10000},null,null,null,null,null,null,null,null,null,null,{"$f":"IF(ISERROR(OFFSET(Results!$B$3,MATCH(A67,Results!B$4:B365,0),0)),A67,0)","v":0},null,null,"-",null,null,null,null,null,47]
[65,"y","Jill Davies",null,null,55,"F",null,"Steel City Striders","FV55",{"$f":"IF(ISERROR(MATCH(PROPER(I68),K$2:K67,0)),PROPER(I68),\"-\")","v":"-"},{"$f":"IFERROR(MATCH(K68,I$3:I69,0),10000)","v":10000},null,null,null,null,null,null,null,null,null,null,{"$f":"IF(ISERROR(OFFSET(Results!$B$3,MATCH(A68,Results!B$4:B366,0),0)),A68,0)","v":0},null,null,"-",null,null,null,null,null,{"$f":"IF(LEN(F68)>2,INT((AF$1-F68)/365.25),F68)","v":55}]
[{"$f":"IF(C68>\"\",A68+1,\"\")","v":66},{"$f":"IF(ISERROR(A69*1>0),\"\",\"y\")","v":"y"},"David Arundale",null,null,61,"M",null,"Dark Peak","MV60",{"$f":"IF(ISERROR(MATCH(PROPER(I69),K$2:K68,0)),PROPER(I69),\"-\")","v":"-"},{"$f":"IFERROR(MATCH(K69,I$3:I70,0),10000)","v":10000},null,null,null,null,null,null,null,null,null,null,{"$f":"IF(ISERROR(OFFSET(Results!$B$3,MATCH(A69,Results!B$4:B367,0),0)),A69,0)","v":0},null,null,{"$f":"OFFSET(L$2,MATCH(SMALL(L$3:L$500,ROW(A66)),L$3:L$500,0),-1)","v":"-"},null,null,null,null,null,61]
[67,"y","Nick Jones",null,null,40,"M",null,"Buxton AC","MV40",{"$f":"IF(ISERROR(MATCH(PROPER(I70),K$2:K69,0)),PROPER(I70),\"-\")","v":"-"},{"$f":"IFERROR(MATCH(K70,I$3:I71,0),10000)","v":10000},null,null,null,null,null,null,null,null,null,null,{"$f":"IF(ISERROR(OFFSET(Results!$B$3,MATCH(A70,Results!B$4:B368,0),0)),A70,0)","v":0},null,null,"-",null,null,null,null,null,40]
[68,"y","Jimmy Sharman",null,null,35,"M",null,"Steel City Striders","MS",{"$f":"IF(ISERROR(MATCH(PROPER(I71),K$2:K70,0)),PROPER(I71),\"-\")","v":"-"},{"$f":"IFERROR(MATCH(K71,I$3:I72,0),10000)","v":10000},null,null,null,null,null,null,null,null,null,null,{"$f":"IF(ISERROR(OFFSET(Results!$B$3,MATCH(A71,Results!B$4:B369,0),0)),A71,0)","v":0},null,null,"-",null,null,null,null,null,35]
[69,"y","Steve Larkin",null,null,40,"M",null,{"$f":"IFERROR(PROPER(OFFSET($AC$3,MATCH(E72,AD$4:AD$53,0),0)),PROPER(E72))","v":""},"MV40",{"$f":"IF(ISERROR(MATCH(PROPER(I72),K$2:K71,0)),PROPER(I72),\"-\")","v":"-"},{"$f":"IFERROR(MATCH(K72,I$3:I73,0),10000)","v":10000},null,null,null,null,null,null,null,null,null,null,{"$f":"IF(ISERROR(OFFSET(Results!$B$3,MATCH(A72,Results!B$4:B370,0),0)),A72,0)","v":0},null,null,"-",null,null,null,null,null,40]
[70,"y","Rachel Watson",null,null,40,"F",null,"","FV40",{"$f":"IF(ISERROR(MATCH(PROPER(I73),K$2:K72,0)),PROPER(I73),\"-\")","v":"-"},{"$f":"IFERROR(MATCH(K73,I$3:I74,0),10000)","v":10000},null,null,null,null,null,null,null,null,null,null,{"$f":"IF(ISERROR(OFFSET(Results!$B$3,MATCH(A73,Results!B$4:B371,0),0)),A73,0)","v":0},null,null,"-",null,null,null,null,null,40]
[71,"y","Johnny Wilson",null,null,39,"M",null,"Fatboys RC","MS",{"$f":"IF(ISERROR(MATCH(PROPER(I74),K$2:K73,0)),PROPER(I74),\"-\")","v":"Fatboys Rc"},{"$f":"IFERROR(MATCH(K74,I$3:I75,0),10000)","v":72},null,null,null,null,null,null,null,null,null,null,{"$f":"IF(ISERROR(OFFSET(Results!$B$3,MATCH(A74,Results!B$4:B372,0),0)),A74,0)","v":0},null,null,"-",null,null,null,null,null,39]
[72,"y","Andrew Matthews",null,null,53,"M",null,"Fatboys RC",{"$f":"cat(F75,G75)","v":"MV50"},{"$f":"IF(ISERROR(MATCH(PROPER(I75),K$2:K74,0)),PROPER(I75),\"-\")","v":"-"},{"$f":"IFERROR(MATCH(K75,I$3:I76,0),10000)","v":10000},null,null,null,null,null,null,null,null,null,null,{"$f":"IF(ISERROR(OFFSET(Results!$B$3,MATCH(A75,Results!B$4:B373,0),0)),A75,0)","v":0},null,null,"-",null,null,null,null,null,53]
[73,"y","John Thompson",null,null,42,"M",null,"Fatboys RC","MV40",{"$f":"IF(ISERROR(MATCH(PROPER(I76),K$2:K75,0)),PROPER(I76),\"-\")","v":"-"},{"$f":"IFERROR(MATCH(K76,I$3:I77,0),10000)","v":10000},null,null,null,null,null,null,null,null,null,null,{"$f":"IF(ISERROR(OFFSET(Results!$B$3,MATCH(A76,Results!B$4:B374,0),0)),A76,0)","v":0},null,null,"-",null,null,null,null,null,42]
[74,"y","Alasdair Menmuir",null,null,33,"M",null,"Steel City Striders","MS",{"$f":"IF(ISERROR(MATCH(PROPER(I77),K$2:K76,0)),PROPER(I77),\"-\")","v":"-"},{"$f":"IFERROR(MATCH(K77,I$3:I78,0),10000)","v":10000},null,null,null,null,null,null,null,null,null,null,{"$f":"IF(ISERROR(OFFSET(Results!$B$3,MATCH(A77,Results!B$4:B375,0),0)),A77,0)","v":0},null,null,"-",null,null,null,null,null,33]
[75,"y","Mark Platton",null,null,50,"M",null,"","MV50",{"$f":"IF(ISERROR(MATCH(PROPER(I78),K$2:K77,0)),PROPER(I78),\"-\")","v":"-"},{"$f":"IFERROR(MATCH(K78,I$3:I79,0),10000)","v":10000},null,null,null,null,null,null,null,null,null,null,{"$f":"IF(ISERROR(OFFSET(Results!$B$3,MATCH(A78,Results!B$4:B376,0),0)),A78,0)","v":0},null,null,"-",null,null,null,null,null,50]
[76,"y","Janet Leigh",null,null,49,"F",null,"Goyt Valley Striders","FV45",{"$f":"IF(ISERROR(MATCH(PROPER(I79),K$2:K78,0)),PROPER(I79),\"-\")","v":"Goyt Valley Striders"},{"$f":"IFERROR(MATCH(K79,I$3:I80,0),10000)","v":77},null,null,null,null,null,null,null,null,null,null,{"$f":"IF(ISERROR(OFFSET(Results!$B$3,MATCH(A79,Results!B$4:B377,0),0)),A79,0)","v":0},null,null,"-",null,null,null,null,null,49]
[77,"y","Peter Fotheringham",null,null,55,"M",null,"Goyt Valley Striders","MV55",{"$f":"IF(ISERROR(MATCH(PROPER(I80),K$2:K79,0)),PROPER(I80),\"-\")","v":"-"},{"$f":"IFERROR(MATCH(K80,I$3:I81,0),10000)","v":10000},null,null,null,null,null,null,null,null,null,null,{"$f":"IF(ISERROR(OFFSET(Results!$B$3,MATCH(A80,Results!B$4:B378,0),0)),A80,0)","v":0},null,null,"-",null,null,null,null,null,55]
[78,"y","Kate Turner",null,null,31,"F",null,"Totley AC","FS",{"$f":"IF(ISERROR(MATCH(PROPER(I81),K$2:K80,0)),PROPER(I81),\"-\")","v":"-"},{"$f":"IFERROR(MATCH(K81,I$3:I82,0),10000)","v":10000},null,null,null,null,null,null,null,null,null,null,{"$f":"IF(ISERROR(OFFSET(Results!$B$3,MATCH(A81,Results!B$4:B379,0),0)),A81,0)","v":0},null,null,"-",null,null,null,null,null,31]
[79,"y","Jonathan Douglass",null,null,35,"M",null,"Totley AC","MS",{"$f":"IF(ISERROR(MATCH(PROPER(I82),K$2:K81,0)),PROPER(I82),\"-\")","v":"-"},{"$f":"IFERROR(MATCH(K82,I$3:I83,0),10000)","v":10000},null,null,null,null,null,null,null,null,null,null,{"$f":"IF(ISERROR(OFFSET(Results!$B$3,MATCH(A82,Results!B$4:B380,0),0)),A82,0)","v":0},null,null,"-",null,null,null,null,null,35]
[80,"y","William Brandley",null,null,27,"M",null,"Tideswell Rc","MS",{"$f":"IF(ISERROR(MATCH(PROPER(I83),K$2:K82,0)),PROPER(I83),\"-\")","v":"-"},{"$f":"IFERROR(MATCH(K83,I$3:I84,0),10000)","v":10000},null,null,null,null,null,null,null,null,null,null,{"$f":"IF(ISERROR(OFFSET(Results!$B$3,MATCH(A83,Results!B$4:B381,0),0)),A83,0)","v":0},null,null,"-",null,null,null,null,null,27]
[81,"y","Anthony Horstead",null,null,30,"M",null,"Steel City Striders","MS",{"$f":"IF(ISERROR(MATCH(PROPER(I84),K$2:K83,0)),PROPER(I84),\"-\")","v":"-"},{"$f":"IFERROR(MATCH(K84,I$3:I85,0),10000)","v":10000},null,null,null,null,null,null,null,null,null,null,{"$f":"IF(ISERROR(OFFSET(Results!$B$3,MATCH(A84,Results!B$4:B382,0),0)),A84,0)","v":0},null,null,"-",null,null,null,null,null,30]
[82,"y","Francis Williams",null,null,39,"M",null,"","MS",{"$f":"IF(ISERROR(MATCH(PROPER(I85),K$2:K84,0)),PROPER(I85),\"-\")","v":"-"},{"$f":"IFERROR(MATCH(K85,I$3:I86,0),10000)","v":10000},null,null,null,null,null,null,null,null,null,null,{"$f":"IF(ISERROR(OFFSET(Results!$B$3,MATCH(A85,Results!B$4:B383,0),0)),A85,0)","v":0},null,null,"-",null,null,null,null,null,39]
[83,"y","Stephen Hughes",null,null,49,"M","B","","MV45",{"$f":"IF(ISERROR(MATCH(PROPER(I86),K$2:K85,0)),PROPER(I86),\"-\")","v":"-"},{"$f":"IFERROR(MATCH(K86,I$3:I87,0),10000)","v":10000},null,null,null,null,null,null,null,null,null,null,{"$f":"IF(ISERROR(OFFSET(Results!$B$3,MATCH(A86,Results!B$4:B384,0),0)),A86,0)","v":0},null,null,"-",null,null,null,null,null,49]
[84,"y","Ken Price",null,null,63,"M",null,"","MV60",{"$f":"IF(ISERROR(MATCH(PROPER(I87),K$2:K86,0)),PROPER(I87),\"-\")","v":"-"},{"$f":"IFERROR(MATCH(K87,I$3:I88,0),10000)","v":10000},null,null,null,null,null,null,null,null,null,null,{"$f":"IF(ISERROR(OFFSET(Results!$B$3,MATCH(A87,Results!B$4:B385,0),0)),A87,0)","v":0},null,null,"-",null,null,null,null,null,63]
[85,"y","Roland Meylan",null,null,45,"M",null,"Buxton AC","MV45",{"$f":"IF(ISERROR(MATCH(PROPER(I88),K$2:K87,0)),PROPER(I88),\"-\")","v":"-"},{"$f":"IFERROR(MATCH(K88,I$3:I89,0),10000)","v":10000},null,null,null,null,null,null,null,null,null,null,{"$f":"IF(ISERROR(OFFSET(Results!$B$3,MATCH(A88,Results!B$4:B386,0),0)),A88,0)","v":0},null,null,"-",null,null,null,null,null,45]
[86,"y","Mark Halsey",null,null,41,"M",null,"Buxton AC","MV40",{"$f":"IF(ISERROR(MATCH(PROPER(I89),K$2:K88,0)),PROPER(I89),\"-\")","v":"-"},{"$f":"IFERROR(MATCH(K89,I$3:I90,0),10000)","v":10000},null,null,null,null,null,null,null,null,null,null,{"$f":"IF(ISERROR(OFFSET(Results!$B$3,MATCH(A89,Results!B$4:B387,0),0)),A89,0)","v":0},null,null,"-",null,null,null,null,null,41]
[87,"y","Simon Hutchinson",null,null,50,"M",null,"","MV50",{"$f":"IF(ISERROR(MATCH(PROPER(I90),K$2:K89,0)),PROPER(I90),\"-\")","v":"-"},{"$f":"IFERROR(MATCH(K90,I$3:I91,0),10000)","v":10000},null,null,null,null,null,null,null,null,null,null,{"$f":"IF(ISERROR(OFFSET(Results!$B$3,MATCH(A90,Results!B$4:B388,0),0)),A90,0)","v":0},null,null,"-",null,null,null,null,null,50]
[88,"y","Richard Bowles",null,null,35,"M",null,"","MS",{"$f":"IF(ISERROR(MATCH(PROPER(I91),K$2:K90,0)),PROPER(I91),\"-\")","v":"-"},{"$f":"IFERROR(MATCH(K91,I$3:I92,0),10000)","v":10000},null,null,null,null,null,null,null,null,null,null,{"$f":"IF(ISERROR(OFFSET(Results!$B$3,MATCH(A91,Results!B$4:B389,0),0)),A91,0)","v":0},null,null,"-",null,null,null,null,null,35]
[89,"y","Austin Frost",null,null,42,"M",null,"Dark Peak","MV40",{"$f":"IF(ISERROR(MATCH(PROPER(I92),K$2:K91,0)),PROPER(I92),\"-\")","v":"-"},{"$f":"IFERROR(MATCH(K92,I$3:I93,0),10000)","v":10000},null,null,null,null,null,null,null,null,null,null,{"$f":"IF(ISERROR(OFFSET(Results!$B$3,MATCH(A92,Results!B$4:B390,0),0)),A92,0)","v":0},null,null,"-",null,null,null,null,null,42]
[90,"y","Paul V Stuart",null,null,48,"M",null,"Steel City Striders","MV45",{"$f":"IF(ISERROR(MATCH(PROPER(I93),K$2:K92,0)),PROPER(I93),\"-\")","v":"-"},{"$f":"IFERROR(MATCH(K93,I$3:I94,0),10000)","v":10000},null,null,null,null,null,null,null,null,null,null,{"$f":"IF(ISERROR(OFFSET(Results!$B$3,MATCH(A93,Results!B$4:B391,0),0)),A93,0)","v":0},null,null,"-",null,null,null,null,null,48]
[91,"y","David Beel",null,null,31,"M",null,"","MS",{"$f":"IF(ISERROR(MATCH(PROPER(I94),K$2:K93,0)),PROPER(I94),\"-\")","v":"-"},{"$f":"IFERROR(MATCH(K94,I$3:I95,0),10000)","v":10000},null,null,null,null,null,null,null,null,null,null,{"$f":"IF(ISERROR(OFFSET(Results!$B$3,MATCH(A94,Results!B$4:B392,0),0)),A94,0)","v":0},null,null,"-",null,null,null,null,null,31]
[92,"y","Bob Johnson",null,null,42,"M",null,"Dark Peak","MV40",{"$f":"IF(ISERROR(MATCH(PROPER(I95),K$2:K94,0)),PROPER(I95),\"-\")","v":"-"},{"$f":"IFERROR(MATCH(K95,I$3:I96,0),10000)","v":10000},null,null,null,null,null,null,null,null,null,null,{"$f":"IF(ISERROR(OFFSET(Results!$B$3,MATCH(A95,Results!B$4:B393,0),0)),A95,0)","v":0},null,null,"-",null,null,null,null,null,42]
[93,"y","Mike Adsett",null,null,50,"M","B","","MV50",{"$f":"IF(ISERROR(MATCH(PROPER(I96),K$2:K95,0)),PROPER(I96),\"-\")","v":"-"},{"$f":"IFERROR(MATCH(K96,I$3:I97,0),10000)","v":10000},null,null,null,null,null,null,null,null,null,null,{"$f":"IF(ISERROR(OFFSET(Results!$B$3,MATCH(A96,Results!B$4:B394,0),0)),A96,0)","v":0},null,null,"-",null,null,null,null,null,50]
[94,"y","Zoe Procter",null,null,38,"F","B","Pennine Fell racers","FS",{"$f":"IF(ISERROR(MATCH(PROPER(I97),K$2:K96,0)),PROPER(I97),\"-\")","v":"-"},{"$f":"IFERROR(MATCH(K97,I$3:I98,0),10000)","v":10000},null,null,null,null,null,null,null,null,null,null,{"$f":"IF(ISERROR(OFFSET(Results!$B$3,MATCH(A97,Results!B$4:B395,0),0)),A97,0)","v":0},null,null,"-",null,null,null,null,null,38]
[95,"y","David Whitaker",null,null,51,"M",null,"Sheffield Tri Club","MV50",{"$f":"IF(ISERROR(MATCH(PROPER(I98),K$2:K97,0)),PROPER(I98),\"-\")","v":"Sheffield Tri Club"},{"$f":"IFERROR(MATCH(K98,I$3:I99,0),10000)","v":96},null,null,null,null,null,null,null,null,null,null,{"$f":"IF(ISERROR(OFFSET(Results!$B$3,MATCH(A98,Results!B$4:B396,0),0)),A98,0)","v":0},null,null,"-",null,null,null,null,null,51]
[96,"y","Lizzie Rawson",null,null,18,"F",null,"Fatboys RC","FS",{"$f":"IF(ISERROR(MATCH(PROPER(I99),K$2:K98,0)),PROPER(I99),\"-\")","v":"-"},{"$f":"IFERROR(MATCH(K99,I$3:I100,0),10000)","v":10000},null,null,null,null,null,null,null,null,null,null,{"$f":"IF(ISERROR(OFFSET(Results!$B$3,MATCH(A99,Results!B$4:B397,0),0)),A99,0)","v":0},null,null,"-",null,null,null,null,null,18]
[97,"y","Zayne Bukhari",null,null,17,"M","B","","MS",{"$f":"IF(ISERROR(MATCH(PROPER(I100),K$2:K99,0)),PROPER(I100),\"-\")","v":"-"},{"$f":"IFERROR(MATCH(K100,I$3:I101,0),10000)","v":10000},null,null,null,null,null,null,null,null,null,null,{"$f":"IF(ISERROR(OFFSET(Results!$B$3,MATCH(A100,Results!B$4:B398,0),0)),A100,0)","v":0},null,null,"-",null,null,null,null,null,17]
[98,"y","Max Howard",null,null,56,"M",null,"Retford AC","MV55",{"$f":"IF(ISERROR(MATCH(PROPER(I101),K$2:K100,0)),PROPER(I101),\"-\")","v":"Retford Ac"},{"$f":"IFERROR(MATCH(K101,I$3:I102,0),10000)","v":99},null,null,null,null,null,null,null,null,null,null,{"$f":"IF(ISERROR(OFFSET(Results!$B$3,MATCH(A101,Results!B$4:B399,0),0)),A101,0)","v":0},null,null,"-",null,null,null,null,null,56]
[99,"y","Gregory Scott Briggs",null,null,49,"M",null,"","MV45",{"$f":"IF(ISERROR(MATCH(PROPER(I102),K$2:K101,0)),PROPER(I102),\"-\")","v":"-"},{"$f":"IFERROR(MATCH(K102,I$3:I103,0),10000)","v":10000},null,null,null,null,null,null,null,null,null,null,{"$f":"IF(ISERROR(OFFSET(Results!$B$3,MATCH(A102,Results!B$4:B400,0),0)),A102,0)","v":0},null,null,"-",null,null,null,null,null,49]
[100,"y","Kevin Mottram",null,null,42,"M",null,"Buxton AC","MV40",{"$f":"IF(ISERROR(MATCH(PROPER(I103),K$2:K102,0)),PROPER(I103),\"-\")","v":"-"},{"$f":"IFERROR(MATCH(K103,I$3:I104,0),10000)","v":10000},null,null,null,null,null,null,null,null,null,null,{"$f":"IF(ISERROR(OFFSET(Results!$B$3,MATCH(A103,Results!B$4:B401,0),0)),A103,0)","v":0},null,null,"-",null,null,null,null,null,42]
[101,"y","Patryk Szwedt",null,null,35,"M",null,"","MS",{"$f":"IF(ISERROR(MATCH(PROPER(I104),K$2:K103,0)),PROPER(I104),\"-\")","v":"-"},{"$f":"IFERROR(MATCH(K104,I$3:I105,0),10000)","v":10000},null,null,null,null,null,null,null,null,null,null,{"$f":"IF(ISERROR(OFFSET(Results!$B$3,MATCH(A104,Results!B$4:B402,0),0)),A104,0)","v":0},null,null,"-",null,null,null,null,null,35]
[102,"y","Steve Haake",null,null,51,"M",null,"Steel City Striders","MV50",{"$f":"IF(ISERROR(MATCH(PROPER(I105),K$2:K104,0)),PROPER(I105),\"-\")","v":"-"},{"$f":"IFERROR(MATCH(K105,I$3:I106,0),10000)","v":10000},null,null,null,null,null,null,null,null,null,null,{"$f":"IF(ISERROR(OFFSET(Results!$B$3,MATCH(A105,Results!B$4:B403,0),0)),A105,0)","v":0},null,null,"-",null,null,null,null,null,51]
[103,"y","Clare Howarth",null,null,34,"F",null,"Totley AC","FS",{"$f":"IF(ISERROR(MATCH(PROPER(I106),K$2:K105,0)),PROPER(I106),\"-\")","v":"-"},{"$f":"IFERROR(MATCH(K106,I$3:I107,0),10000)","v":10000},null,null,null,null,null,null,null,null,null,null,{"$f":"IF(ISERROR(OFFSET(Results!$B$3,MATCH(A106,Results!B$4:B404,0),0)),A106,0)","v":0},null,null,"-",null,null,null,null,null,34]
[104,"y","Aisling Spain",null,null,31,"F",null,"Totley AC","FS",{"$f":"IF(ISERROR(MATCH(PROPER(I107),K$2:K106,0)),PROPER(I107),\"-\")","v":"-"},{"$f":"IFERROR(MATCH(K107,I$3:I108,0),10000)","v":10000},null,null,null,null,null,null,null,null,null,null,{"$f":"IF(ISERROR(OFFSET(Results!$B$3,MATCH(A107,Results!B$4:B405,0),0)),A107,0)","v":0},null,null,"-",null,null,null,null,null,31]
[105,"y","Robert Eyre",null,null,21,"M","B","","MS",{"$f":"IF(ISERROR(MATCH(PROPER(I108),K$2:K107,0)),PROPER(I108),\"-\")","v":"-"},{"$f":"IFERROR(MATCH(K108,I$3:I109,0),10000)","v":10000},null,null,null,null,null,null,null,null,null,null,{"$f":"IF(ISERROR(OFFSET(Results!$B$3,MATCH(A108,Results!B$4:B406,0),0)),A108,0)","v":0},null,null,"-",null,null,null,null,null,21]
[106,"y","Thomas McCart",null,null,25,"M",null,"Steel City Striders","MS",{"$f":"IF(ISERROR(MATCH(PROPER(I109),K$2:K108,0)),PROPER(I109),\"-\")","v":"-"},{"$f":"IFERROR(MATCH(K109,I$3:I110,0),10000)","v":10000},null,null,null,null,null,null,null,null,null,null,{"$f":"IF(ISERROR(OFFSET(Results!$B$3,MATCH(A109,Results!B$4:B407,0),0)),A109,0)","v":0},null,null,"-",null,null,null,null,null,25]
[107,"y","Mel McCart",null,null,54,"M",null,"","MV50",{"$f":"IF(ISERROR(MATCH(PROPER(I110),K$2:K109,0)),PROPER(I110),\"-\")","v":"-"},{"$f":"IFERROR(MATCH(K110,I$3:I111,0),10000)","v":10000},null,null,null,null,null,null,null,null,null,null,{"$f":"IF(ISERROR(OFFSET(Results!$B$3,MATCH(A110,Results!B$4:B408,0),0)),A110,0)","v":0},null,null,"-",null,null,null,null,null,54]
[108,"y","Chris Bannister",null,null,46,"M",null,"Sheffield Tri Club","MV45",{"$f":"IF(ISERROR(MATCH(PROPER(I111),K$2:K110,0)),PROPER(I111),\"-\")","v":"-"},{"$f":"IFERROR(MATCH(K111,I$3:I112,0),10000)","v":10000},null,null,null,null,null,null,null,null,null,null,{"$f":"IF(ISERROR(OFFSET(Results!$B$3,MATCH(A111,Results!B$4:B409,0),0)),A111,0)","v":0},null,null,"-",null,null,null,null,null,46]
[109,"y","Dave Sykes",null,null,42,"M",null,"Dark Peak","MV40",{"$f":"IF(ISERROR(MATCH(PROPER(I112),K$2:K111,0)),PROPER(I112),\"-\")","v":"-"},{"$f":"IFERROR(MATCH(K112,I$3:I113,0),10000)","v":10000},null,null,null,null,null,null,null,null,null,null,{"$f":"IF(ISERROR(OFFSET(Results!$B$3,MATCH(A112,Results!B$4:B410,0),0)),A112,0)","v":0},null,null,"-",null,null,null,null,null,42]
[110,"y","Joe Dunne",null,null,30,"M",null,"","MS",{"$f":"IF(ISERROR(MATCH(PROPER(I113),K$2:K112,0)),PROPER(I113),\"-\")","v":"-"},{"$f":"IFERROR(MATCH(K113,I$3:I114,0),10000)","v":10000},null,null,null,null,null,null,null,null,null,null,{"$f":"IF(ISERROR(OFFSET(Results!$B$3,MATCH(A113,Results!B$4:B411,0),0)),A113,0)","v":0},null,null,"-",null,null,null,null,null,30]
[111,"y","Neil Oxley",null,null,67,"M",null,"","MV65",{"$f":"IF(ISERROR(MATCH(PROPER(I114),K$2:K113,0)),PROPER(I114),\"-\")","v":"-"},{"$f":"IFERROR(MATCH(K114,I$3:I115,0),10000)","v":10000},null,null,null,null,null,null,null,null,null,null,{"$f":"IF(ISERROR(OFFSET(Results!$B$3,MATCH(A114,Results!B$4:B412,0),0)),A114,0)","v":0},null,null,"-",null,null,null,null,null,67]
[112,"y","Steve Aspey",null,null,53,"M",null,"","MV50",{"$f":"IF(ISERROR(MATCH(PROPER(I115),K$2:K114,0)),PROPER(I115),\"-\")","v":"-"},{"$f":"IFERROR(MATCH(K115,I$3:I116,0),10000)","v":10000},null,null,null,null,null,null,null,null,null,null,{"$f":"IF(ISERROR(OFFSET(Results!$B$3,MATCH(A115,Results!B$4:B413,0),0)),A115,0)","v":0},null,null,"-",null,null,null,null,null,53]
[113,"y",null,null,null,null,"M",null,"","MS",{"$f":"IF(ISERROR(MATCH(PROPER(I116),K$2:K115,0)),PROPER(I116),\"-\")","v":"-"},{"$f":"IFERROR(MATCH(K116,I$3:I117,0),10000)","v":10000},null,null,null,null,null,null,null,null,null,null,{"$f":"IF(ISERROR(OFFSET(Results!$B$3,MATCH(A116,Results!B$4:B414,0),0)),A116,0)","v":113},null,null,"-",null,null,null,null,null,0]
["","",null,null,null,null,"M",null,"","MS",{"$f":"IF(ISERROR(MATCH(PROPER(I117),K$2:K116,0)),PROPER(I117),\"-\")","v":"-"},{"$f":"IFERROR(MATCH(K117,I$3:I118,0),10000)","v":10000},null,null,null,null,null,null,null,null,null,null,{"$f":"IF(ISERROR(OFFSET(Results!$B$3,MATCH(A117,Results!B$4:B415,0),0)),A117,0)","v":""},null,null,"-",null,null,null,null,null,0]
["","",null,null,null,null,"M",null,"","MS",{"$f":"IF(ISERROR(MATCH(PROPER(I118),K$2:K117,0)),PROPER(I118),\"-\")","v":"-"},{"$f":"IFERROR(MATCH(K118,I$3:I119,0),10000)","v":10000},null,null,null,null,null,null,null,null,null,null,{"$f":"IF(ISERROR(OFFSET(Results!$B$3,MATCH(A118,Results!B$4:B416,0),0)),A118,0)","v":""},null,null,"-",null,null,null,null,null,0]
["","",null,null,null,null,"M",null,"","MS",{"$f":"IF(ISERROR(MATCH(PROPER(I119),K$2:K118,0)),PROPER(I119),\"-\")","v":"-"},{"$f":"IFERROR(MATCH(K119,I$3:I120,0),10000)","v":10000},null,null,null,null,null,null,null,null,null,null,{"$f":"IF(ISERROR(OFFSET(Results!$B$3,MATCH(A119,Results!B$4:B417,0),0)),A119,0)","v":""},null,null,"-",null,null,null,null,null,0]
["","",null,null,null,null,"M",null,"","MS",{"$f":"IF(ISERROR(MATCH(PROPER(I120),K$2:K119,0)),PROPER(I120),\"-\")","v":"-"},{"$f":"IFERROR(MATCH(K120,I$3:I121,0),10000)","v":10000},null,null,null,null,null,null,null,null,null,null,{"$f":"IF(ISERROR(OFFSET(Results!$B$3,MATCH(A120,Results!B$4:B418,0),0)),A120,0)","v":""},null,null,"-",null,null,null,null,null,0]
["","",null,null,null,null,"M",null,"","MS",{"$f":"IF(ISERROR(MATCH(PROPER(I121),K$2:K120,0)),PROPER(I121),\"-\")","v":"-"},{"$f":"IFERROR(MATCH(K121,I$3:I122,0),10000)","v":10000},null,null,null,null,null,null,null,null,null,null,{"$f":"IF(ISERROR(OFFSET(Results!$B$3,MATCH(A121,Results!B$4:B419,0),0)),A121,0)","v":""},null,null,"-",null,null,null,null,null,0]
["","",null,null,null,null,"M",null,"","MS",{"$f":"IF(ISERROR(MATCH(PROPER(I122),K$2:K121,0)),PROPER(I122),\"-\")","v":"-"},{"$f":"IFERROR(MATCH(K122,I$3:I123,0),10000)","v":10000},null,null,null,null,null,null,null,null,null,null,{"$f":"IF(ISERROR(OFFSET(Results!$B$3,MATCH(A122,Results!B$4:B420,0),0)),A122,0)","v":""},null,null,"-",null,null,null,null,null,0]
["","",null,null,null,null,"M",null,"","MS",{"$f":"IF(ISERROR(MATCH(PROPER(I123),K$2:K122,0)),PROPER(I123),\"-\")","v":"-"},{"$f":"IFERROR(MATCH(K123,I$3:I124,0),10000)","v":10000},null,null,null,null,null,null,null,null,null,null,{"$f":"IF(ISERROR(OFFSET(Results!$B$3,MATCH(A123,Results!B$4:B421,0),0)),A123,0)","v":""},null,null,"-",null,null,null,null,null,0]
["","",null,null,null,null,"M",null,"","MS",{"$f":"IF(ISERROR(MATCH(PROPER(I124),K$2:K123,0)),PROPER(I124),\"-\")","v":"-"},{"$f":"IFERROR(MATCH(K124,I$3:I125,0),10000)","v":10000},null,null,null,null,null,null,null,null,null,null,{"$f":"IF(ISERROR(OFFSET(Results!$B$3,MATCH(A124,Results!B$4:B422,0),0)),A124,0)","v":""},null,null,"-",null,null,null,null,null,0]
["","",null,null,null,null,"M",null,"","MS",{"$f":"IF(ISERROR(MATCH(PROPER(I125),K$2:K124,0)),PROPER(I125),\"-\")","v":"-"},{"$f":"IFERROR(MATCH(K125,I$3:I126,0),10000)","v":10000},null,null,null,null,null,null,null,null,null,null,{"$f":"IF(ISERROR(OFFSET(Results!$B$3,MATCH(A125,Results!B$4:B423,0),0)),A125,0)","v":""},null,null,"-",null,null,null,null,null,0]
["","",null,null,null,null,"M",null,"","MS",{"$f":"IF(ISERROR(MATCH(PROPER(I126),K$2:K125,0)),PROPER(I126),\"-\")","v":"-"},{"$f":"IFERROR(MATCH(K126,I$3:I127,0),10000)","v":10000},null,null,null,null,null,null,null,null,null,null,{"$f":"IF(ISERROR(OFFSET(Results!$B$3,MATCH(A126,Results!B$4:B424,0),0)),A126,0)","v":""},null,null,"-",null,null,null,null,null,0]
["","",null,null,null,null,"M",null,"","MS",{"$f":"IF(ISERROR(MATCH(PROPER(I127),K$2:K126,0)),PROPER(I127),\"-\")","v":"-"},{"$f":"IFERROR(MATCH(K127,I$3:I128,0),10000)","v":10000},null,null,null,null,null,null,null,null,null,null,{"$f":"IF(ISERROR(OFFSET(Results!$B$3,MATCH(A127,Results!B$4:B425,0),0)),A127,0)","v":""},null,null,"-",null,null,null,null,null,0]
["","",null,null,null,null,"M",null,"","MS",{"$f":"IF(ISERROR(MATCH(PROPER(I128),K$2:K127,0)),PROPER(I128),\"-\")","v":"-"},{"$f":"IFERROR(MATCH(K128,I$3:I129,0),10000)","v":10000},null,null,null,null,null,null,null,null,null,null,{"$f":"IF(ISERROR(OFFSET(Results!$B$3,MATCH(A128,Results!B$4:B426,0),0)),A128,0)","v":""},null,null,"-",null,null,null,null,null,0]
["","",null,null,null,null,"M",null,"","MS",{"$f":"IF(ISERROR(MATCH(PROPER(I129),K$2:K128,0)),PROPER(I129),\"-\")","v":"-"},{"$f":"IFERROR(MATCH(K129,I$3:I130,0),10000)","v":10000},null,null,null,null,null,null,null,null,null,null,{"$f":"IF(ISERROR(OFFSET(Results!$B$3,MATCH(A129,Results!B$4:B427,0),0)),A129,0)","v":""},null,null,"-",null,null,null,null,null,0]
["","",null,null,null,null,"M",null,"","MS",{"$f":"IF(ISERROR(MATCH(PROPER(I130),K$2:K129,0)),PROPER(I130),\"-\")","v":"-"},{"$f":"IFERROR(MATCH(K130,I$3:I131,0),10000)","v":10000},null,null,null,null,null,null,null,null,null,null,{"$f":"IF(ISERROR(OFFSET(Results!$B$3,MATCH(A130,Results!B$4:B428,0),0)),A130,0)","v":""},null,null,"-",null,null,null,null,null,0]
["","",null,null,null,null,"M",null,"","MS",{"$f":"IF(ISERROR(MATCH(PROPER(I131),K$2:K130,0)),PROPER(I131),\"-\")","v":"-"},{"$f":"IFERROR(MATCH(K131,I$3:I132,0),10000)","v":10000},null,null,null,null,null,null,null,null,null,null,{"$f":"IF(ISERROR(OFFSET(Results!$B$3,MATCH(A131,Results!B$4:B429,0),0)),A131,0)","v":""},null,null,"-",null,null,null,null,null,0]
["","",null,null,null,null,"M",null,"","MS",{"$f":"IF(ISERROR(MATCH(PROPER(I132),K$2:K131,0)),PROPER(I132),\"-\")","v":"-"},{"$f":"IFERROR(MATCH(K132,I$3:I133,0),10000)","v":10000},null,null,null,null,null,null,null,null,null,null,{"$f":"IF(ISERROR(OFFSET(Results!$B$3,MATCH(A132,Results!B$4:B430,0),0)),A132,0)","v":""},null,null,"-",null,null,null,null,null,{"$f":"IF(LEN(F132)>2,INT((AF$1-F132)/365.25),F132)","v":0}]
[{"$f":"IF(C132>\"\",A132+1,\"\")","v":""},{"$f":"IF(ISERROR(A133*1>0),\"\",\"y\")","v":""},null,null,null,null,"M",null,{"$f":"IFERROR(PROPER(OFFSET($AC$3,MATCH(E133,AD$4:AD$53,0),0)),PROPER(E133))","v":""},"MS",{"$f":"IF(ISERROR(MATCH(PROPER(I133),K$2:K132,0)),PROPER(I133),\"-\")","v":"-"},{"$f":"IFERROR(MATCH(K133,I$3:I134,0),10000)","v":10000},null,null,null,null,null,null,null,null,null,null,{"$f":"IF(ISERROR(OFFSET(Results!$B$3,MATCH(A133,Results!B$4:B431,0),0)),A133,0)","v":""},null,null,{"$f":"OFFSET(L$2,MATCH(SMALL(L$3:L$500,ROW(A130)),L$3:L$500,0),-1)","v":"-"},null,null,null,null,null,0]
["","",null,null,null,null,"M",null,"","MS",{"$f":"IF(ISERROR(MATCH(PROPER(I134),K$2:K133,0)),PROPER(I134),\"-\")","v":"-"},{"$f":"IFERROR(MATCH(K134,I$3:I135,0),10000)","v":10000},null,null,null,null,null,null,null,null,null,null,{"$f":"IF(ISERROR(OFFSET(Results!$B$3,MATCH(A134,Results!B$4:B432,0),0)),A134,0)","v":""},null,null,"-",null,null,null,null,null,0]
["","",null,null,null,null,"M",null,"","MS",{"$f":"IF(ISERROR(MATCH(PROPER(I135),K$2:K134,0)),PROPER(I135),\"-\")","v":"-"},{"$f":"IFERROR(MATCH(K135,I$3:I136,0),10000)","v":10000},null,null,null,null,null,null,null,null,null,null,{"$f":"IF(ISERROR(OFFSET(Results!$B$3,MATCH(A135,Results!B$4:B433,0),0)),A135,0)","v":""},null,null,"-",null,null,null,null,null,0]
["","",null,null,null,null,"M",null,"","MS",{"$f":"IF(ISERROR(MATCH(PROPER(I136),K$2:K135,0)),PROPER(I136),\"-\")","v":"-"},{"$f":"IFERROR(MATCH(K136,I$3:I137,0),10000)","v":10000},null,null,null,null,null,null,null,null,null,null,{"$f":"IF(ISERROR(OFFSET(Results!$B$3,MATCH(A136,Results!B$4:B434,0),0)),A136,0)","v":""},null,null,"-",null,null,null,null,null,0]
["","",null,null,null,null,"M",null,"","MS",{"$f":"IF(ISERROR(MATCH(PROPER(I137),K$2:K136,0)),PROPER(I137),\"-\")","v":"-"},{"$f":"IFERROR(MATCH(K137,I$3:I138,0),10000)","v":10000},null,null,null,null,null,null,null,null,null,null,{"$f":"IF(ISERROR(OFFSET(Results!$B$3,MATCH(A137,Results!B$4:B435,0),0)),A137,0)","v":""},null,null,"-",null,null,null,null,null,0]
["","",null,null,null,null,"M",null,"","MS",{"$f":"IF(ISERROR(MATCH(PROPER(I138),K$2:K137,0)),PROPER(I138),\"-\")","v":"-"},{"$f":"IFERROR(MATCH(K138,I$3:I139,0),10000)","v":10000},null,null,null,null,null,null,null,null,null,null,{"$f":"IF(ISERROR(OFFSET(Results!$B$3,MATCH(A138,Results!B$4:B436,0),0)),A138,0)","v":""},null,null,"-",null,null,null,null,null,0]
["","",null,null,null,null,"M",null,"",{"$f":"cat(F139,G139)","v":"MS"},{"$f":"IF(ISERROR(MATCH(PROPER(I139),K$2:K138,0)),PROPER(I139),\"-\")","v":"-"},{"$f":"IFERROR(MATCH(K139,I$3:I140,0),10000)","v":10000},null,null,null,null,null,null,null,null,null,null,{"$f":"IF(ISERROR(OFFSET(Results!$B$3,MATCH(A139,Results!B$4:B437,0),0)),A139,0)","v":""},null,null,"-",null,null,null,null,null,0]
["","",null,null,null,null,"M",null,"","MS",{"$f":"IF(ISERROR(MATCH(PROPER(I140),K$2:K139,0)),PROPER(I140),\"-\")","v":"-"},{"$f":"IFERROR(MATCH(K140,I$3:I141,0),10000)","v":10000},null,null,null,null,null,null,null,null,null,null,{"$f":"IF(ISERROR(OFFSET(Results!$B$3,MATCH(A140,Results!B$4:B438,0),0)),A140,0)","v":""},null,null,"-",null,null,null,null,null,0]
["","",null,null,null,null,"M",null,"","MS",{"$f":"IF(ISERROR(MATCH(PROPER(I141),K$2:K140,0)),PROPER(I141),\"-\")","v":"-"},{"$f":"IFERROR(MATCH(K141,I$3:I142,0),10000)","v":10000},null,null,null,null,null,null,null,null,null,null,{"$f":"IF(ISERROR(OFFSET(Results!$B$3,MATCH(A141,Results!B$4:B439,0),0)),A141,0)","v":""},null,null,"-",null,null,null,null,null,0]
["","",null,null,null,null,"M",null,"","MS",{"$f":"IF(ISERROR(MATCH(PROPER(I142),K$2:K141,0)),PROPER(I142),\"-\")","v":"-"},{"$f":"IFERROR(MATCH(K142,I$3:I143,0),10000)","v":10000},null,null,null,null,null,null,null,null,null,null,{"$f":"IF(ISERROR(OFFSET(Results!$B$3,MATCH(A142,Results!B$4:B440,0),0)),A142,0)","v":""},null,null,"-",null,null,null,null,null,0]
["","",null,null,null,null,"M",null,"","MS",{"$f":"IF(ISERROR(MATCH(PROPER(I143),K$2:K142,0)),PROPER(I143),\"-\")","v":"-"},{"$f":"IFERROR(MATCH(K143,I$3:I144,0),10000)","v":10000},null,null,null,null,null,null,null,null,null,null,{"$f":"IF(ISERROR(OFFSET(Results!$B$3,MATCH(A143,Results!B$4:B441,0),0)),A143,0)","v":""},null,null,"-",null,null,null,null,null,0]
["","",null,null,null,null,"M",null,"","MS",{"$f":"IF(ISERROR(MATCH(PROPER(I144),K$2:K143,0)),PROPER(I144),\"-\")","v":"-"},{"$f":"IFERROR(MATCH(K144,I$3:I145,0),10000)","v":10000},null,null,null,null,null,null,null,null,null,null,{"$f":"IF(ISERROR(OFFSET(Results!$B$3,MATCH(A144,Results!B$4:B442,0),0)),A144,0)","v":""},null,null,"-",null,null,null,null,null,0]
["","",null,null,null,null,"M",null,"","MS",{"$f":"IF(ISERROR(MATCH(PROPER(I145),K$2:K144,0)),PROPER(I145),\"-\")","v":"-"},{"$f":"IFERROR(MATCH(K145,I$3:I146,0),10000)","v":10000},null,null,null,null,null,null,null,null,null,null,{"$f":"IF(ISERROR(OFFSET(Results!$B$3,MATCH(A145,Results!B$4:B443,0),0)),A145,0)","v":""},null,null,"-",null,null,null,null,null,0]
["","",null,null,null,null,"M",null,"","MS",{"$f":"IF(ISERROR(MATCH(PROPER(I146),K$2:K145,0)),PROPER(I146),\"-\")","v":"-"},{"$f":"IFERROR(MATCH(K146,I$3:I147,0),10000)","v":10000},null,null,null,null,null,null,null,null,null,null,{"$f":"IF(ISERROR(OFFSET(Results!$B$3,MATCH(A146,Results!B$4:B444,0),0)),A146,0)","v":""},null,null,"-",null,null,null,null,null,0]
["","",null,null,null,null,"M",null,"","MS",{"$f":"IF(ISERROR(MATCH(PROPER(I147),K$2:K146,0)),PROPER(I147),\"-\")","v":"-"},{"$f":"IFERROR(MATCH(K147,I$3:I148,0),10000)","v":10000},null,null,null,null,null,null,null,null,null,null,{"$f":"IF(ISERROR(OFFSET(Results!$B$3,MATCH(A147,Results!B$4:B445,0),0)),A147,0)","v":""},null,null,"-",null,null,null,null,null,0]
["","",null,null,null,null,"M",null,"","MS",{"$f":"IF(ISERROR(MATCH(PROPER(I148),K$2:K147,0)),PROPER(I148),\"-\")","v":"-"},{"$f":"IFERROR(MATCH(K148,I$3:I149,0),10000)","v":10000},null,null,null,null,null,null,null,null,null,null,{"$f":"IF(ISERROR(OFFSET(Results!$B$3,MATCH(A148,Results!B$4:B446,0),0)),A148,0)","v":""},null,null,"-",null,null,null,null,null,0]
["","",null,null,null,null,"M",null,"","MS",{"$f":"IF(ISERROR(MATCH(PROPER(I149),K$2:K148,0)),PROPER(I149),\"-\")","v":"-"},{"$f":"IFERROR(MATCH(K149,I$3:I150,0),10000)","v":10000},null,null,null,null,null,null,null,null,null,null,{"$f":"IF(ISERROR(OFFSET(Results!$B$3,MATCH(A149,Results!B$4:B447,0),0)),A149,0)","v":""},null,null,"-",null,null,null,null,null,0]
["","",null,null,null,null,"M",null,"","MS",{"$f":"IF(ISERROR(MATCH(PROPER(I150),K$2:K149,0)),PROPER(I150),\"-\")","v":"-"},{"$f":"IFERROR(MATCH(K150,I$3:I151,0),10000)","v":10000},null,null,null,null,null,null,null,null,null,null,{"$f":"IF(ISERROR(OFFSET(Results!$B$3,MATCH(A150,Results!B$4:B448,0),0)),A150,0)","v":""},null,null,"-",null,null,null,null,null,0]
["","",null,null,null,null,"M",null,"","MS",{"$f":"IF(ISERROR(MATCH(PROPER(I151),K$2:K150,0)),PROPER(I151),\"-\")","v":"-"},{"$f":"IFERROR(MATCH(K151,I$3:I152,0),10000)","v":10000},null,null,null,null,null,null,null,null,null,null,{"$f":"IF(ISERROR(OFFSET(Results!$B$3,MATCH(A151,Results!B$4:B449,0),0)),A151,0)","v":""},null,null,"-",null,null,null,null,null,0]
["","",null,null,null,null,"M",null,"","MS",{"$f":"IF(ISERROR(MATCH(PROPER(I152),K$2:K151,0)),PROPER(I152),\"-\")","v":"-"},{"$f":"IFERROR(MATCH(K152,I$3:I153,0),10000)","v":10000},null,null,null,null,null,null,null,null,null,null,{"$f":"IF(ISERROR(OFFSET(Results!$B$3,MATCH(A152,Results!B$4:B450,0),0)),A152,0)","v":""},null,null,"-",null,null,null,null,null,0]
["","",null,null,null,null,"M",null,"","MS",{"$f":"IF(ISERROR(MATCH(PROPER(I153),K$2:K152,0)),PROPER(I153),\"-\")","v":"-"},{"$f":"IFERROR(MATCH(K153,I$3:I154,0),10000)","v":10000},null,null,null,null,null,null,null,null,null,null,{"$f":"IF(ISERROR(OFFSET(Results!$B$3,MATCH(A153,Results!B$4:B451,0),0)),A153,0)","v":""},null,null,"-",null,null,null,null,null,0]
["","",null,null,null,null,"M",null,"","MS",{"$f":"IF(ISERROR(MATCH(PROPER(I154),K$2:K153,0)),PROPER(I154),\"-\")","v":"-"},{"$f":"IFERROR(MATCH(K154,I$3:I155,0),10000)","v":10000},null,null,null,null,null,null,null,null,null,null,{"$f":"IF(ISERROR(OFFSET(Results!$B$3,MATCH(A154,Results!B$4:B452,0),0)),A154,0)","v":""},null,null,"-",null,null,null,null,null,0]
["","",null,null,null,null,"M",null,"","MS",{"$f":"IF(ISERROR(MATCH(PROPER(I155),K$2:K154,0)),PROPER(I155),\"-\")","v":"-"},{"$f":"IFERROR(MATCH(K155,I$3:I156,0),10000)","v":10000},null,null,null,null,null,null,null,null,null,null,{"$f":"IF(ISERROR(OFFSET(Results!$B$3,MATCH(A155,Results!B$4:B453,0),0)),A155,0)","v":""},null,null,"-",null,null,null,null,null,0]
["","",null,null,null,null,"M",null,"","MS",{"$f":"IF(ISERROR(MATCH(PROPER(I156),K$2:K155,0)),PROPER(I156),\"-\")","v":"-"},{"$f":"IFERROR(MATCH(K156,I$3:I157,0),10000)","v":10000},null,null,null,null,null,null,null,null,null,null,{"$f":"IF(ISERROR(OFFSET(Results!$B$3,MATCH(A156,Results!B$4:B454,0),0)),A156,0)","v":""},null,null,"-",null,null,null,null,null,0]
["","",null,null,null,null,"M",null,"","MS",{"$f":"IF(ISERROR(MATCH(PROPER(I157),K$2:K156,0)),PROPER(I157),\"-\")","v":"-"},{"$f":"IFERROR(MATCH(K157,I$3:I158,0),10000)","v":10000},null,null,null,null,null,null,null,null,null,null,{"$f":"IF(ISERROR(OFFSET(Results!$B$3,MATCH(A157,Results!B$4:B455,0),0)),A157,0)","v":""},null,null,"-",null,null,null,null,null,0]
["","",null,null,null,null,"M",null,"","MS",{"$f":"IF(ISERROR(MATCH(PROPER(I158),K$2:K157,0)),PROPER(I158),\"-\")","v":"-"},{"$f":"IFERROR(MATCH(K158,I$3:I159,0),10000)","v":10000},null,null,null,null,null,null,null,null,null,null,{"$f":"IF(ISERROR(OFFSET(Results!$B$3,MATCH(A158,Results!B$4:B456,0),0)),A158,0)","v":""},null,null,"-",null,null,null,null,null,0]
["","",null,null,null,null,"M",null,"","MS",{"$f":"IF(ISERROR(MATCH(PROPER(I159),K$2:K158,0)),PROPER(I159),\"-\")","v":"-"},{"$f":"IFERROR(MATCH(K159,I$3:I160,0),10000)","v":10000},null,null,null,null,null,null,null,null,null,null,{"$f":"IF(ISERROR(OFFSET(Results!$B$3,MATCH(A159,Results!B$4:B457,0),0)),A159,0)","v":""},null,null,"-",null,null,null,null,null,0]
["","",null,null,null,null,"M",null,"","MS",{"$f":"IF(ISERROR(MATCH(PROPER(I160),K$2:K159,0)),PROPER(I160),\"-\")","v":"-"},{"$f":"IFERROR(MATCH(K160,I$3:I161,0),10000)","v":10000},null,null,null,null,null,null,null,null,null,null,{"$f":"IF(ISERROR(OFFSET(Results!$B$3,MATCH(A160,Results!B$4:B458,0),0)),A160,0)","v":""},null,null,"-",null,null,null,null,null,0]
["","",null,null,null,null,"M",null,"","MS",{"$f":"IF(ISERROR(MATCH(PROPER(I161),K$2:K160,0)),PROPER(I161),\"-\")","v":"-"},{"$f":"IFERROR(MATCH(K161,I$3:I162,0),10000)","v":10000},null,null,null,null,null,null,null,null,null,null,{"$f":"IF(ISERROR(OFFSET(Results!$B$3,MATCH(A161,Results!B$4:B459,0),0)),A161,0)","v":""},null,null,"-",null,null,null,null,null,0]
["","",null,null,null,null,"M",null,"","MS",{"$f":"IF(ISERROR(MATCH(PROPER(I162),K$2:K161,0)),PROPER(I162),\"-\")","v":"-"},{"$f":"IFERROR(MATCH(K162,I$3:I163,0),10000)","v":10000},null,null,null,null,null,null,null,null,null,null,{"$f":"IF(ISERROR(OFFSET(Results!$B$3,MATCH(A162,Results!B$4:B460,0),0)),A162,0)","v":""},null,null,"-",null,null,null,null,null,0]
["","",null,null,null,null,"M",null,"","MS",{"$f":"IF(ISERROR(MATCH(PROPER(I163),K$2:K162,0)),PROPER(I163),\"-\")","v":"-"},{"$f":"IFERROR(MATCH(K163,I$3:I164,0),10000)","v":10000},null,null,null,null,null,null,null,null,null,null,{"$f":"IF(ISERROR(OFFSET(Results!$B$3,MATCH(A163,Results!B$4:B461,0),0)),A163,0)","v":""},null,null,"-",null,null,null,null,null,0]
["","",null,null,null,null,"M",null,"","MS",{"$f":"IF(ISERROR(MATCH(PROPER(I164),K$2:K163,0)),PROPER(I164),\"-\")","v":"-"},{"$f":"IFERROR(MATCH(K164,I$3:I165,0),10000)","v":10000},null,null,null,null,null,null,null,null,null,null,{"$f":"IF(ISERROR(OFFSET(Results!$B$3,MATCH(A164,Results!B$4:B462,0),0)),A164,0)","v":""},null,null,"-",null,null,null,null,null,0]
["","",null,null,null,null,"M",null,"","MS",{"$f":"IF(ISERROR(MATCH(PROPER(I165),K$2:K164,0)),PROPER(I165),\"-\")","v":"-"},{"$f":"IFERROR(MATCH(K165,I$3:I166,0),10000)","v":10000},null,null,null,null,null,null,null,null,null,null,{"$f":"IF(ISERROR(OFFSET(Results!$B$3,MATCH(A165,Results!B$4:B463,0),0)),A165,0)","v":""},null,null,"-",null,null,null,null,null,0]
["","",null,null,null,null,"M",null,"","MS",{"$f":"IF(ISERROR(MATCH(PROPER(I166),K$2:K165,0)),PROPER(I166),\"-\")","v":"-"},{"$f":"IFERROR(MATCH(K166,I$3:I167,0),10000)","v":10000},null,null,null,null,null,null,null,null,null,null,{"$f":"IF(ISERROR(OFFSET(Results!$B$3,MATCH(A166,Results!B$4:B464,0),0)),A166,0)","v":""},null,null,"-",null,null,null,null,null,0]
["","",null,null,null,null,"M",null,"","MS",{"$f":"IF(ISERROR(MATCH(PROPER(I167),K$2:K166,0)),PROPER(I167),\"-\")","v":"-"},{"$f":"IFERROR(MATCH(K167,I$3:I168,0),10000)","v":10000},null,null,null,null,null,null,null,null,null,null,{"$f":"IF(ISERROR(OFFSET(Results!$B$3,MATCH(A167,Results!B$4:B465,0),0)),A167,0)","v":""},null,null,"-",null,null,null,null,null,0]
["","",null,null,null,null,"M",null,"","MS",{"$f":"IF(ISERROR(MATCH(PROPER(I168),K$2:K167,0)),PROPER(I168),\"-\")","v":"-"},{"$f":"IFERROR(MATCH(K168,I$3:I169,0),10000)","v":10000},null,null,null,null,null,null,null,null,null,null,{"$f":"IF(ISERROR(OFFSET(Results!$B$3,MATCH(A168,Results!B$4:B466,0),0)),A168,0)","v":""},null,null,"-",null,null,null,null,null,0]
["","",null,null,null,null,"M",null,"","MS",{"$f":"IF(ISERROR(MATCH(PROPER(I169),K$2:K168,0)),PROPER(I169),\"-\")","v":"-"},{"$f":"IFERROR(MATCH(K169,I$3:I170,0),10000)","v":10000},null,null,null,null,null,null,null,null,null,null,{"$f":"IF(ISERROR(OFFSET(Results!$B$3,MATCH(A169,Results!B$4:B467,0),0)),A169,0)","v":""},null,null,"-",null,null,null,null,null,0]
["","",null,null,null,null,"M",null,"","MS",{"$f":"IF(ISERROR(MATCH(PROPER(I170),K$2:K169,0)),PROPER(I170),\"-\")","v":"-"},{"$f":"IFERROR(MATCH(K170,I$3:I171,0),10000)","v":10000},null,null,null,null,null,null,null,null,null,null,{"$f":"IF(ISERROR(OFFSET(Results!$B$3,MATCH(A170,Results!B$4:B468,0),0)),A170,0)","v":""},null,null,"-",null,null,null,null,null,0]
["","",null,null,null,null,"M",null,"","MS",{"$f":"IF(ISERROR(MATCH(PROPER(I171),K$2:K170,0)),PROPER(I171),\"-\")","v":"-"},{"$f":"IFERROR(MATCH(K171,I$3:I172,0),10000)","v":10000},null,null,null,null,null,null,null,null,null,null,{"$f":"IF(ISERROR(OFFSET(Results!$B$3,MATCH(A171,Results!B$4:B469,0),0)),A171,0)","v":""},null,null,"-",null,null,null,null,null,0]
["","",null,null,null,null,"M",null,"","MS",{"$f":"IF(ISERROR(MATCH(PROPER(I172),K$2:K171,0)),PROPER(I172),\"-\")","v":"-"},{"$f":"IFERROR(MATCH(K172,I$3:I173,0),10000)","v":10000},null,null,null,null,null,null,null,null,null,null,{"$f":"IF(ISERROR(OFFSET(Results!$B$3,MATCH(A172,Results!B$4:B470,0),0)),A172,0)","v":""},null,null,"-",null,null,null,null,null,0]
["","",null,null,null,null,"M",null,"","MS",{"$f":"IF(ISERROR(MATCH(PROPER(I173),K$2:K172,0)),PROPER(I173),\"-\")","v":"-"},{"$f":"IFERROR(MATCH(K173,I$3:I174,0),10000)","v":10000},null,null,null,null,null,null,null,null,null,null,{"$f":"IF(ISERROR(OFFSET(Results!$B$3,MATCH(A173,Results!B$4:B471,0),0)),A173,0)","v":""},null,null,"-",null,null,null,null,null,0]
["","",null,null,null,null,"M",null,"","MS",{"$f":"IF(ISERROR(MATCH(PROPER(I174),K$2:K173,0)),PROPER(I174),\"-\")","v":"-"},{"$f":"IFERROR(MATCH(K174,I$3:I175,0),10000)","v":10000},null,null,null,null,null,null,null,null,null,null,{"$f":"IF(ISERROR(OFFSET(Results!$B$3,MATCH(A174,Results!B$4:B472,0),0)),A174,0)","v":""},null,null,"-",null,null,null,null,null,0]
["","",null,null,null,null,"M",null,"","MS",{"$f":"IF(ISERROR(MATCH(PROPER(I175),K$2:K174,0)),PROPER(I175),\"-\")","v":"-"},{"$f":"IFERROR(MATCH(K175,I$3:I176,0),10000)","v":10000},null,null,null,null,null,null,null,null,null,null,{"$f":"IF(ISERROR(OFFSET(Results!$B$3,MATCH(A175,Results!B$4:B473,0),0)),A175,0)","v":""},null,null,"-",null,null,null,null,null,0]
["","",null,null,null,null,"M",null,"","MS",{"$f":"IF(ISERROR(MATCH(PROPER(I176),K$2:K175,0)),PROPER(I176),\"-\")","v":"-"},{"$f":"IFERROR(MATCH(K176,I$3:I177,0),10000)","v":10000},null,null,null,null,null,null,null,null,null,null,{"$f":"IF(ISERROR(OFFSET(Results!$B$3,MATCH(A176,Results!B$4:B474,0),0)),A176,0)","v":""},null,null,"-",null,null,null,null,null,0]
["","",null,null,null,null,"M",null,"","MS",{"$f":"IF(ISERROR(MATCH(PROPER(I177),K$2:K176,0)),PROPER(I177),\"-\")","v":"-"},{"$f":"IFERROR(MATCH(K177,I$3:I178,0),10000)","v":10000},null,null,null,null,null,null,null,null,null,null,{"$f":"IF(ISERROR(OFFSET(Results!$B$3,MATCH(A177,Results!B$4:B475,0),0)),A177,0)","v":""},null,null,"-",null,null,null,null,null,0]
["","",null,null,null,null,"M",null,"","MS",{"$f":"IF(ISERROR(MATCH(PROPER(I178),K$2:K177,0)),PROPER(I178),\"-\")","v":"-"},{"$f":"IFERROR(MATCH(K178,I$3:I179,0),10000)","v":10000},null,null,null,null,null,null,null,null,null,null,{"$f":"IF(ISERROR(OFFSET(Results!$B$3,MATCH(A178,Results!B$4:B476,0),0)),A178,0)","v":""},null,null,"-",null,null,null,null,null,0]
["","",null,null,null,null,"M",null,"","MS",{"$f":"IF(ISERROR(MATCH(PROPER(I179),K$2:K178,0)),PROPER(I179),\"-\")","v":"-"},{"$f":"IFERROR(MATCH(K179,I$3:I180,0),10000)","v":10000},null,null,null,null,null,null,null,null,null,null,{"$f":"IF(ISERROR(OFFSET(Results!$B$3,MATCH(A179,Results!B$4:B477,0),0)),A179,0)","v":""},null,null,"-",null,null,null,null,null,0]
["","",null,null,null,null,"M",null,"","MS",{"$f":"IF(ISERROR(MATCH(PROPER(I180),K$2:K179,0)),PROPER(I180),\"-\")","v":"-"},{"$f":"IFERROR(MATCH(K180,I$3:I181,0),10000)","v":10000},null,null,null,null,null,null,null,null,null,null,{"$f":"IF(ISERROR(OFFSET(Results!$B$3,MATCH(A180,Results!B$4:B478,0),0)),A180,0)","v":""},null,null,"-",null,null,null,null,null,0]
["","",null,null,null,null,"M",null,"","MS",{"$f":"IF(ISERROR(MATCH(PROPER(I181),K$2:K180,0)),PROPER(I181),\"-\")","v":"-"},{"$f":"IFERROR(MATCH(K181,I$3:I182,0),10000)","v":10000},null,null,null,null,null,null,null,null,null,null,{"$f":"IF(ISERROR(OFFSET(Results!$B$3,MATCH(A181,Results!B$4:B479,0),0)),A181,0)","v":""},null,null,"-",null,null,null,null,null,0]
["","",null,null,null,null,"M",null,"","MS",{"$f":"IF(ISERROR(MATCH(PROPER(I182),K$2:K181,0)),PROPER(I182),\"-\")","v":"-"},{"$f":"IFERROR(MATCH(K182,I$3:I183,0),10000)","v":10000},null,null,null,null,null,null,null,null,null,null,{"$f":"IF(ISERROR(OFFSET(Results!$B$3,MATCH(A182,Results!B$4:B480,0),0)),A182,0)","v":""},null,null,"-",null,null,null,null,null,0]
["","",null,null,null,null,"M",null,"","MS",{"$f":"IF(ISERROR(MATCH(PROPER(I183),K$2:K182,0)),PROPER(I183),\"-\")","v":"-"},{"$f":"IFERROR(MATCH(K183,I$3:I184,0),10000)","v":10000},null,null,null,null,null,null,null,null,null,null,{"$f":"IF(ISERROR(OFFSET(Results!$B$3,MATCH(A183,Results!B$4:B481,0),0)),A183,0)","v":""},null,null,"-",null,null,null,null,null,0]
["","",null,null,null,null,"M",null,"","MS",{"$f":"IF(ISERROR(MATCH(PROPER(I184),K$2:K183,0)),PROPER(I184),\"-\")","v":"-"},{"$f":"IFERROR(MATCH(K184,I$3:I185,0),10000)","v":10000},null,null,null,null,null,null,null,null,null,null,{"$f":"IF(ISERROR(OFFSET(Results!$B$3,MATCH(A184,Results!B$4:B482,0),0)),A184,0)","v":""},null,null,"-",null,null,null,null,null,0]
["","",null,null,null,null,"M",null,"","MS",{"$f":"IF(ISERROR(MATCH(PROPER(I185),K$2:K184,0)),PROPER(I185),\"-\")","v":"-"},{"$f":"IFERROR(MATCH(K185,I$3:I186,0),10000)","v":10000},null,null,null,null,null,null,null,null,null,null,{"$f":"IF(ISERROR(OFFSET(Results!$B$3,MATCH(A185,Results!B$4:B483,0),0)),A185,0)","v":""},null,null,"-",null,null,null,null,null,0]
["","",null,null,null,null,"M",null,"","MS",{"$f":"IF(ISERROR(MATCH(PROPER(I186),K$2:K185,0)),PROPER(I186),\"-\")","v":"-"},{"$f":"IFERROR(MATCH(K186,I$3:I187,0),10000)","v":10000},null,null,null,null,null,null,null,null,null,null,{"$f":"IF(ISERROR(OFFSET(Results!$B$3,MATCH(A186,Results!B$4:B484,0),0)),A186,0)","v":""},null,null,"-",null,null,null,null,null,0]
["","",null,null,null,null,"M",null,"","MS",{"$f":"IF(ISERROR(MATCH(PROPER(I187),K$2:K186,0)),PROPER(I187),\"-\")","v":"-"},{"$f":"IFERROR(MATCH(K187,I$3:I188,0),10000)","v":10000},null,null,null,null,null,null,null,null,null,null,{"$f":"IF(ISERROR(OFFSET(Results!$B$3,MATCH(A187,Results!B$4:B485,0),0)),A187,0)","v":""},null,null,"-",null,null,null,null,null,0]
["","",null,null,null,null,"M",null,"","MS",{"$f":"IF(ISERROR(MATCH(PROPER(I188),K$2:K187,0)),PROPER(I188),\"-\")","v":"-"},{"$f":"IFERROR(MATCH(K188,I$3:I189,0),10000)","v":10000},null,null,null,null,null,null,null,null,null,null,{"$f":"IF(ISERROR(OFFSET(Results!$B$3,MATCH(A188,Results!B$4:B486,0),0)),A188,0)","v":""},null,null,"-",null,null,null,null,null,0]
["","",null,null,null,null,"M",null,"","MS",{"$f":"IF(ISERROR(MATCH(PROPER(I189),K$2:K188,0)),PROPER(I189),\"-\")","v":"-"},{"$f":"IFERROR(MATCH(K189,I$3:I190,0),10000)","v":10000},null,null,null,null,null,null,null,null,null,null,{"$f":"IF(ISERROR(OFFSET(Results!$B$3,MATCH(A189,Results!B$4:B487,0),0)),A189,0)","v":""},null,null,"-",null,null,null,null,null,0]
["","",null,null,null,null,"M",null,"","MS",{"$f":"IF(ISERROR(MATCH(PROPER(I190),K$2:K189,0)),PROPER(I190),\"-\")","v":"-"},{"$f":"IFERROR(MATCH(K190,I$3:I191,0),10000)","v":10000},null,null,null,null,null,null,null,null,null,null,{"$f":"IF(ISERROR(OFFSET(Results!$B$3,MATCH(A190,Results!B$4:B488,0),0)),A190,0)","v":""},null,null,"-",null,null,null,null,null,0]
["","",null,null,null,null,"M",null,"","MS",{"$f":"IF(ISERROR(MATCH(PROPER(I191),K$2:K190,0)),PROPER(I191),\"-\")","v":"-"},{"$f":"IFERROR(MATCH(K191,I$3:I192,0),10000)","v":10000},null,null,null,null,null,null,null,null,null,null,{"$f":"IF(ISERROR(OFFSET(Results!$B$3,MATCH(A191,Results!B$4:B489,0),0)),A191,0)","v":""},null,null,"-",null,null,null,null,null,0]
["","",null,null,null,null,"M",null,"","MS",{"$f":"IF(ISERROR(MATCH(PROPER(I192),K$2:K191,0)),PROPER(I192),\"-\")","v":"-"},{"$f":"IFERROR(MATCH(K192,I$3:I193,0),10000)","v":10000},null,null,null,null,null,null,null,null,null,null,{"$f":"IF(ISERROR(OFFSET(Results!$B$3,MATCH(A192,Results!B$4:B490,0),0)),A192,0)","v":""},null,null,"-",null,null,null,null,null,0]
["","",null,null,null,null,"M",null,"","MS",{"$f":"IF(ISERROR(MATCH(PROPER(I193),K$2:K192,0)),PROPER(I193),\"-\")","v":"-"},{"$f":"IFERROR(MATCH(K193,I$3:I194,0),10000)","v":10000},null,null,null,null,null,null,null,null,null,null,{"$f":"IF(ISERROR(OFFSET(Results!$B$3,MATCH(A193,Results!B$4:B491,0),0)),A193,0)","v":""},null,null,"-",null,null,null,null,null,0]
["","",null,null,null,null,"M",null,"","MS",{"$f":"IF(ISERROR(MATCH(PROPER(I194),K$2:K193,0)),PROPER(I194),\"-\")","v":"-"},{"$f":"IFERROR(MATCH(K194,I$3:I195,0),10000)","v":10000},null,null,null,null,null,null,null,null,null,null,{"$f":"IF(ISERROR(OFFSET(Results!$B$3,MATCH(A194,Results!B$4:B492,0),0)),A194,0)","v":""},null,null,"-",null,null,null,null,null,0]
["","",null,null,null,null,"M",null,"","MS",{"$f":"IF(ISERROR(MATCH(PROPER(I195),K$2:K194,0)),PROPER(I195),\"-\")","v":"-"},{"$f":"IFERROR(MATCH(K195,I$3:I196,0),10000)","v":10000},null,null,null,null,null,null,null,null,null,null,{"$f":"IF(ISERROR(OFFSET(Results!$B$3,MATCH(A195,Results!B$4:B493,0),0)),A195,0)","v":""},null,null,"-",null,null,null,null,null,0]
["","",null,null,null,null,"M",null,"","MS",{"$f":"IF(ISERROR(MATCH(PROPER(I196),K$2:K195,0)),PROPER(I196),\"-\")","v":"-"},{"$f":"IFERROR(MATCH(K196,I$3:I197,0),10000)","v":10000},null,null,null,null,null,null,null,null,null,null,{"$f":"IF(ISERROR(OFFSET(Results!$B$3,MATCH(A196,Results!B$4:B494,0),0)),A196,0)","v":""},null,null,"-",null,null,null,null,null,{"$f":"IF(LEN(F196)>2,INT((AF$1-F196)/365.25),F196)","v":0}]
[{"$f":"IF(C196>\"\",A196+1,\"\")","v":""},{"$f":"IF(ISERROR(A197*1>0),\"\",\"y\")","v":""},null,null,null,null,"M",null,{"$f":"IFERROR(PROPER(OFFSET($AC$3,MATCH(E197,AD$4:AD$53,0),0)),PROPER(E197))","v":""},"MS",{"$f":"IF(ISERROR(MATCH(PROPER(I197),K$2:K196,0)),PROPER(I197),\"-\")","v":"-"},{"$f":"IFERROR(MATCH(K197,I$3:I198,0),10000)","v":10000},null,null,null,null,null,null,null,null,null,null,{"$f":"IF(ISERROR(OFFSET(Results!$B$3,MATCH(A197,Results!B$4:B495,0),0)),A197,0)","v":""},null,null,{"$f":"OFFSET(L$2,MATCH(SMALL(L$3:L$500,ROW(A194)),L$3:L$500,0),-1)","v":"-"},null,null,null,null,null,0]
["","",null,null,null,null,"M",null,"","MS",{"$f":"IF(ISERROR(MATCH(PROPER(I198),K$2:K197,0)),PROPER(I198),\"-\")","v":"-"},{"$f":"IFERROR(MATCH(K198,I$3:I199,0),10000)","v":10000},null,null,null,null,null,null,null,null,null,null,{"$f":"IF(ISERROR(OFFSET(Results!$B$3,MATCH(A198,Results!B$4:B496,0),0)),A198,0)","v":""},null,null,"-",null,null,null,null,null,0]
["","",null,null,null,null,"M",null,"","MS",{"$f":"IF(ISERROR(MATCH(PROPER(I199),K$2:K198,0)),PROPER(I199),\"-\")","v":"-"},{"$f":"IFERROR(MATCH(K199,I$3:I200,0),10000)","v":10000},null,null,null,null,null,null,null,null,null,null,{"$f":"IF(ISERROR(OFFSET(Results!$B$3,MATCH(A199,Results!B$4:B497,0),0)),A199,0)","v":""},null,null,"-",null,null,null,null,null,0]
["","",null,null,null,null,"M",null,"","MS",{"$f":"IF(ISERROR(MATCH(PROPER(I200),K$2:K199,0)),PROPER(I200),\"-\")","v":"-"},{"$f":"IFERROR(MATCH(K200,I$3:I201,0),10000)","v":10000},null,null,null,null,null,null,null,null,null,null,{"$f":"IF(ISERROR(OFFSET(Results!$B$3,MATCH(A200,Results!B$4:B498,0),0)),A200,0)","v":""},null,null,"-",null,null,null,null,null,0]
["","",null,null,null,null,"M",null,"","MS",{"$f":"IF(ISERROR(MATCH(PROPER(I201),K$2:K200,0)),PROPER(I201),\"-\")","v":"-"},{"$f":"IFERROR(MATCH(K201,I$3:I202,0),10000)","v":10000},null,null,null,null,null,null,null,null,null,null,{"$f":"IF(ISERROR(OFFSET(Results!$B$3,MATCH(A201,Results!B$4:B499,0),0)),A201,0)","v":""},null,null,"-",null,null,null,null,null,0]
["","",null,null,null,null,"M",null,"","MS",{"$f":"IF(ISERROR(MATCH(PROPER(I202),K$2:K201,0)),PROPER(I202),\"-\")","v":"-"},{"$f":"IFERROR(MATCH(K202,I$3:I203,0),10000)","v":10000},null,null,null,null,null,null,null,null,null,null,{"$f":"IF(ISERROR(OFFSET(Results!$B$3,MATCH(A202,Results!B$4:B500,0),0)),A202,0)","v":""},null,null,"-",null,null,null,null,null,0]
["","",null,null,null,null,"M",null,"",{"$f":"cat(F203,G203)","v":"MS"},{"$f":"IF(ISERROR(MATCH(PROPER(I203),K$2:K202,0)),PROPER(I203),\"-\")","v":"-"},{"$f":"IFERROR(MATCH(K203,I$3:I204,0),10000)","v":10000},null,null,null,null,null,null,null,null,null,null,{"$f":"IF(ISERROR(OFFSET(Results!$B$3,MATCH(A203,Results!B$4:B501,0),0)),A203,0)","v":""},null,null,"-",null,null,null,null,null,0]
["","",null,null,null,null,"M",null,"","MS",{"$f":"IF(ISERROR(MATCH(PROPER(I204),K$2:K203,0)),PROPER(I204),\"-\")","v":"-"},{"$f":"IFERROR(MATCH(K204,I$3:I205,0),10000)","v":10000},null,null,null,null,null,null,null,null,null,null,{"$f":"IF(ISERROR(OFFSET(Results!$B$3,MATCH(A204,Results!B$4:B502,0),0)),A204,0)","v":""},null,null,"-",null,null,null,null,null,0]
["","",null,null,null,null,"M",null,"","MS",{"$f":"IF(ISERROR(MATCH(PROPER(I205),K$2:K204,0)),PROPER(I205),\"-\")","v":"-"},{"$f":"IFERROR(MATCH(K205,I$3:I206,0),10000)","v":10000},null,null,null,null,null,null,null,null,null,null,{"$f":"IF(ISERROR(OFFSET(Results!$B$3,MATCH(A205,Results!B$4:B503,0),0)),A205,0)","v":""},null,null,"-",null,null,null,null,null,0]
["","",null,null,null,null,"M",null,"","MS",{"$f":"IF(ISERROR(MATCH(PROPER(I206),K$2:K205,0)),PROPER(I206),\"-\")","v":"-"},{"$f":"IFERROR(MATCH(K206,I$3:I207,0),10000)","v":10000},null,null,null,null,null,null,null,null,null,null,{"$f":"IF(ISERROR(OFFSET(Results!$B$3,MATCH(A206,Results!B$4:B504,0),0)),A206,0)","v":""},null,null,"-",null,null,null,null,null,0]
["","",null,null,null,null,"M",null,"","MS",{"$f":"IF(ISERROR(MATCH(PROPER(I207),K$2:K206,0)),PROPER(I207),\"-\")","v":"-"},{"$f":"IFERROR(MATCH(K207,I$3:I208,0),10000)","v":10000},null,null,null,null,null,null,null,null,null,null,{"$f":"IF(ISERROR(OFFSET(Results!$B$3,MATCH(A207,Results!B$4:B505,0),0)),A207,0)","v":""},null,null,"-",null,null,null,null,null,0]
["","",null,null,null,null,"M",null,"","MS",{"$f":"IF(ISERROR(MATCH(PROPER(I208),K$2:K207,0)),PROPER(I208),\"-\")","v":"-"},{"$f":"IFERROR(MATCH(K208,I$3:I209,0),10000)","v":10000},null,null,null,null,null,null,null,null,null,null,{"$f":"IF(ISERROR(OFFSET(Results!$B$3,MATCH(A208,Results!B$4:B506,0),0)),A208,0)","v":""},null,null,"-",null,null,null,null,null,0]
["","",null,null,null,null,"M",null,"","MS",{"$f":"IF(ISERROR(MATCH(PROPER(I209),K$2:K208,0)),PROPER(I209),\"-\")","v":"-"},{"$f":"IFERROR(MATCH(K209,I$3:I210,0),10000)","v":10000},null,null,null,null,null,null,null,null,null,null,{"$f":"IF(ISERROR(OFFSET(Results!$B$3,MATCH(A209,Results!B$4:B507,0),0)),A209,0)","v":""},null,null,"-",null,null,null,null,null,0]
["","",null,null,null,null,"M",null,"","MS",{"$f":"IF(ISERROR(MATCH(PROPER(I210),K$2:K209,0)),PROPER(I210),\"-\")","v":"-"},{"$f":"IFERROR(MATCH(K210,I$3:I211,0),10000)","v":10000},null,null,null,null,null,null,null,null,null,null,{"$f":"IF(ISERROR(OFFSET(Results!$B$3,MATCH(A210,Results!B$4:B508,0),0)),A210,0)","v":""},null,null,"-",null,null,null,null,null,0]
["","",null,null,null,null,"M",null,"","MS",{"$f":"IF(ISERROR(MATCH(PROPER(I211),K$2:K210,0)),PROPER(I211),\"-\")","v":"-"},{"$f":"IFERROR(MATCH(K211,I$3:I212,0),10000)","v":10000},null,null,null,null,null,null,null,null,null,null,{"$f":"IF(ISERROR(OFFSET(Results!$B$3,MATCH(A211,Results!B$4:B509,0),0)),A211,0)","v":""},null,null,"-",null,null,null,null,null,0]
["","",null,null,null,null,"M",null,"","MS",{"$f":"IF(ISERROR(MATCH(PROPER(I212),K$2:K211,0)),PROPER(I212),\"-\")","v":"-"},{"$f":"IFERROR(MATCH(K212,I$3:I213,0),10000)","v":10000},null,null,null,null,null,null,null,null,null,null,{"$f":"IF(ISERROR(OFFSET(Results!$B$3,MATCH(A212,Results!B$4:B510,0),0)),A212,0)","v":""},null,null,"-",null,null,null,null,null,0]
["","",null,null,null,null,"M",null,"","MS",{"$f":"IF(ISERROR(MATCH(PROPER(I213),K$2:K212,0)),PROPER(I213),\"-\")","v":"-"},{"$f":"IFERROR(MATCH(K213,I$3:I214,0),10000)","v":10000},null,null,null,null,null,null,null,null,null,null,{"$f":"IF(ISERROR(OFFSET(Results!$B$3,MATCH(A213,Results!B$4:B511,0),0)),A213,0)","v":""},null,null,"-",null,null,null,null,null,0]
["","",null,null,null,null,"M",null,"","MS",{"$f":"IF(ISERROR(MATCH(PROPER(I214),K$2:K213,0)),PROPER(I214),\"-\")","v":"-"},{"$f":"IFERROR(MATCH(K214,I$3:I215,0),10000)","v":10000},null,null,null,null,null,null,null,null,null,null,{"$f":"IF(ISERROR(OFFSET(Results!$B$3,MATCH(A214,Results!B$4:B512,0),0)),A214,0)","v":""},null,null,"-",null,null,null,null,null,0]
["","",null,null,null,null,"M",null,"","MS",{"$f":"IF(ISERROR(MATCH(PROPER(I215),K$2:K214,0)),PROPER(I215),\"-\")","v":"-"},{"$f":"IFERROR(MATCH(K215,I$3:I216,0),10000)","v":10000},null,null,null,null,null,null,null,null,null,null,{"$f":"IF(ISERROR(OFFSET(Results!$B$3,MATCH(A215,Results!B$4:B513,0),0)),A215,0)","v":""},null,null,"-",null,null,null,null,null,0]
["","",null,null,null,null,"M",null,"","MS",{"$f":"IF(ISERROR(MATCH(PROPER(I216),K$2:K215,0)),PROPER(I216),\"-\")","v":"-"},{"$f":"IFERROR(MATCH(K216,I$3:I217,0),10000)","v":10000},null,null,null,null,null,null,null,null,null,null,{"$f":"IF(ISERROR(OFFSET(Results!$B$3,MATCH(A216,Results!B$4:B514,0),0)),A216,0)","v":""},null,null,"-",null,null,null,null,null,0]
["","",null,null,null,null,"M",null,"","MS",{"$f":"IF(ISERROR(MATCH(PROPER(I217),K$2:K216,0)),PROPER(I217),\"-\")","v":"-"},{"$f":"IFERROR(MATCH(K217,I$3:I218,0),10000)","v":10000},null,null,null,null,null,null,null,null,null,null,{"$f":"IF(ISERROR(OFFSET(Results!$B$3,MATCH(A217,Results!B$4:B515,0),0)),A217,0)","v":""},null,null,"-",null,null,null,null,null,0]
["","",null,null,null,null,"M",null,"","MS",{"$f":"IF(ISERROR(MATCH(PROPER(I218),K$2:K217,0)),PROPER(I218),\"-\")","v":"-"},{"$f":"IFERROR(MATCH(K218,I$3:I219,0),10000)","v":10000},null,null,null,null,null,null,null,null,null,null,{"$f":"IF(ISERROR(OFFSET(Results!$B$3,MATCH(A218,Results!B$4:B516,0),0)),A218,0)","v":""},null,null,"-",null,null,null,null,null,0]
["","",null,null,null,null,"M",null,"","MS",{"$f":"IF(ISERROR(MATCH(PROPER(I219),K$2:K218,0)),PROPER(I219),\"-\")","v":"-"},{"$f":"IFERROR(MATCH(K219,I$3:I220,0),10000)","v":10000},null,null,null,null,null,null,null,null,null,null,{"$f":"IF(ISERROR(OFFSET(Results!$B$3,MATCH(A219,Results!B$4:B517,0),0)),A219,0)","v":""},null,null,"-",null,null,null,null,null,0]
["","",null,null,null,null,"M",null,"","MS",{"$f":"IF(ISERROR(MATCH(PROPER(I220),K$2:K219,0)),PROPER(I220),\"-\")","v":"-"},{"$f":"IFERROR(MATCH(K220,I$3:I221,0),10000)","v":10000},null,null,null,null,null,null,null,null,null,null,{"$f":"IF(ISERROR(OFFSET(Results!$B$3,MATCH(A220,Results!B$4:B518,0),0)),A220,0)","v":""},null,null,"-",null,null,null,null,null,0]
["","",null,null,null,null,"M",null,"","MS",{"$f":"IF(ISERROR(MATCH(PROPER(I221),K$2:K220,0)),PROPER(I221),\"-\")","v":"-"},{"$f":"IFERROR(MATCH(K221,I$3:I222,0),10000)","v":10000},null,null,null,null,null,null,null,null,null,null,{"$f":"IF(ISERROR(OFFSET(Results!$B$3,MATCH(A221,Results!B$4:B519,0),0)),A221,0)","v":""},null,null,"-",null,null,null,null,null,0]
["","",null,null,null,null,"M",null,"","MS",{"$f":"IF(ISERROR(MATCH(PROPER(I222),K$2:K221,0)),PROPER(I222),\"-\")","v":"-"},{"$f":"IFERROR(MATCH(K222,I$3:I223,0),10000)","v":10000},null,null,null,null,null,null,null,null,null,null,{"$f":"IF(ISERROR(OFFSET(Results!$B$3,MATCH(A222,Results!B$4:B520,0),0)),A222,0)","v":""},null,null,"-",null,null,null,null,null,0]
["","",null,null,null,null,"M",null,"","MS",{"$f":"IF(ISERROR(MATCH(PROPER(I223),K$2:K222,0)),PROPER(I223),\"-\")","v":"-"},{"$f":"IFERROR(MATCH(K223,I$3:I224,0),10000)","v":10000},null,null,null,null,null,null,null,null,null,null,{"$f":"IF(ISERROR(OFFSET(Results!$B$3,MATCH(A223,Results!B$4:B521,0),0)),A223,0)","v":""},null,null,"-",null,null,null,null,null,0]
["","",null,null,null,null,"M",null,"","MS",{"$f":"IF(ISERROR(MATCH(PROPER(I224),K$2:K223,0)),PROPER(I224),\"-\")","v":"-"},{"$f":"IFERROR(MATCH(K224,I$3:I225,0),10000)","v":10000},null,null,null,null,null,null,null,null,null,null,{"$f":"IF(ISERROR(OFFSET(Results!$B$3,MATCH(A224,Results!B$4:B522,0),0)),A224,0)","v":""},null,null,"-",null,null,null,null,null,0]
["","",null,null,null,null,"M",null,"","MS",{"$f":"IF(ISERROR(MATCH(PROPER(I225),K$2:K224,0)),PROPER(I225),\"-\")","v":"-"},{"$f":"IFERROR(MATCH(K225,I$3:I226,0),10000)","v":10000},null,null,null,null,null,null,null,null,null,null,{"$f":"IF(ISERROR(OFFSET(Results!$B$3,MATCH(A225,Results!B$4:B523,0),0)),A225,0)","v":""},null,null,"-",null,null,null,null,null,0]
["","",null,null,null,null,"M",null,"","MS",{"$f":"IF(ISERROR(MATCH(PROPER(I226),K$2:K225,0)),PROPER(I226),\"-\")","v":"-"},{"$f":"IFERROR(MATCH(K226,I$3:I227,0),10000)","v":10000},null,null,null,null,null,null,null,null,null,null,{"$f":"IF(ISERROR(OFFSET(Results!$B$3,MATCH(A226,Results!B$4:B524,0),0)),A226,0)","v":""},null,null,"-",null,null,null,null,null,0]
["","",null,null,null,null,"M",null,"","MS",{"$f":"IF(ISERROR(MATCH(PROPER(I227),K$2:K226,0)),PROPER(I227),\"-\")","v":"-"},{"$f":"IFERROR(MATCH(K227,I$3:I228,0),10000)","v":10000},null,null,null,null,null,null,null,null,null,null,{"$f":"IF(ISERROR(OFFSET(Results!$B$3,MATCH(A227,Results!B$4:B525,0),0)),A227,0)","v":""},null,null,"-",null,null,null,null,null,0]
["","",null,null,null,null,"M",null,"","MS",{"$f":"IF(ISERROR(MATCH(PROPER(I228),K$2:K227,0)),PROPER(I228),\"-\")","v":"-"},{"$f":"IFERROR(MATCH(K228,I$3:I229,0),10000)","v":10000},null,null,null,null,null,null,null,null,null,null,{"$f":"IF(ISERROR(OFFSET(Results!$B$3,MATCH(A228,Results!B$4:B526,0),0)),A228,0)","v":""},null,null,"-",null,null,null,null,null,0]
["","",null,null,null,null,"M",null,"","MS",{"$f":"IF(ISERROR(MATCH(PROPER(I229),K$2:K228,0)),PROPER(I229),\"-\")","v":"-"},{"$f":"IFERROR(MATCH(K229,I$3:I230,0),10000)","v":10000},null,null,null,null,null,null,null,null,null,null,{"$f":"IF(ISERROR(OFFSET(Results!$B$3,MATCH(A229,Results!B$4:B527,0),0)),A229,0)","v":""},null,null,"-",null,null,null,null,null,0]
["","",null,null,null,null,"M",null,"","MS",{"$f":"IF(ISERROR(MATCH(PROPER(I230),K$2:K229,0)),PROPER(I230),\"-\")","v":"-"},{"$f":"IFERROR(MATCH(K230,I$3:I231,0),10000)","v":10000},null,null,null,null,null,null,null,null,null,null,{"$f":"IF(ISERROR(OFFSET(Results!$B$3,MATCH(A230,Results!B$4:B528,0),0)),A230,0)","v":""},null,null,"-",null,null,null,null,null,0]
["","",null,null,null,null,"M",null,"","MS",{"$f":"IF(ISERROR(MATCH(PROPER(I231),K$2:K230,0)),PROPER(I231),\"-\")","v":"-"},{"$f":"IFERROR(MATCH(K231,I$3:I232,0),10000)","v":10000},null,null,null,null,null,null,null,null,null,null,{"$f":"IF(ISERROR(OFFSET(Results!$B$3,MATCH(A231,Results!B$4:B529,0),0)),A231,0)","v":""},null,null,"-",null,null,null,null,null,0]
["","",null,null,null,null,"M",null,"","MS",{"$f":"IF(ISERROR(MATCH(PROPER(I232),K$2:K231,0)),PROPER(I232),\"-\")","v":"-"},{"$f":"IFERROR(MATCH(K232,I$3:I233,0),10000)","v":10000},null,null,null,null,null,null,null,null,null,null,{"$f":"IF(ISERROR(OFFSET(Results!$B$3,MATCH(A232,Results!B$4:B530,0),0)),A232,0)","v":""},null,null,"-",null,null,null,null,null,0]
["","",null,null,null,null,"M",null,"","MS",{"$f":"IF(ISERROR(MATCH(PROPER(I233),K$2:K232,0)),PROPER(I233),\"-\")","v":"-"},{"$f":"IFERROR(MATCH(K233,I$3:I234,0),10000)","v":10000},null,null,null,null,null,null,null,null,null,null,{"$f":"IF(ISERROR(OFFSET(Results!$B$3,MATCH(A233,Results!B$4:B531,0),0)),A233,0)","v":""},null,null,"-",null,null,null,null,null,0]
["","",null,null,null,null,"M",null,"","MS",{"$f":"IF(ISERROR(MATCH(PROPER(I234),K$2:K233,0)),PROPER(I234),\"-\")","v":"-"},{"$f":"IFERROR(MATCH(K234,I$3:I235,0),10000)","v":10000},null,null,null,null,null,null,null,null,null,null,{"$f":"IF(ISERROR(OFFSET(Results!$B$3,MATCH(A234,Results!B$4:B532,0),0)),A234,0)","v":""},null,null,"-",null,null,null,null,null,0]
["","",null,null,null,null,"M",null,"","MS",{"$f":"IF(ISERROR(MATCH(PROPER(I235),K$2:K234,0)),PROPER(I235),\"-\")","v":"-"},{"$f":"IFERROR(MATCH(K235,I$3:I236,0),10000)","v":10000},null,null,null,null,null,null,null,null,null,null,{"$f":"IF(ISERROR(OFFSET(Results!$B$3,MATCH(A235,Results!B$4:B533,0),0)),A235,0)","v":""},null,null,"-",null,null,null,null,null,0]
["","",null,null,null,null,"M",null,"","MS",{"$f":"IF(ISERROR(MATCH(PROPER(I236),K$2:K235,0)),PROPER(I236),\"-\")","v":"-"},{"$f":"IFERROR(MATCH(K236,I$3:I237,0),10000)","v":10000},null,null,null,null,null,null,null,null,null,null,{"$f":"IF(ISERROR(OFFSET(Results!$B$3,MATCH(A236,Results!B$4:B534,0),0)),A236,0)","v":""},null,null,"-",null,null,null,null,null,0]
["","",null,null,null,null,"M",null,"","MS",{"$f":"IF(ISERROR(MATCH(PROPER(I237),K$2:K236,0)),PROPER(I237),\"-\")","v":"-"},{"$f":"IFERROR(MATCH(K237,I$3:I238,0),10000)","v":10000},null,null,null,null,null,null,null,null,null,null,{"$f":"IF(ISERROR(OFFSET(Results!$B$3,MATCH(A237,Results!B$4:B535,0),0)),A237,0)","v":""},null,null,"-",null,null,null,null,null,0]
["","",null,null,null,null,"M",null,"","MS",{"$f":"IF(ISERROR(MATCH(PROPER(I238),K$2:K237,0)),PROPER(I238),\"-\")","v":"-"},{"$f":"IFERROR(MATCH(K238,I$3:I239,0),10000)","v":10000},null,null,null,null,null,null,null,null,null,null,{"$f":"IF(ISERROR(OFFSET(Results!$B$3,MATCH(A238,Results!B$4:B536,0),0)),A238,0)","v":""},null,null,"-",null,null,null,null,null,0]
["","",null,null,null,null,"M",null,"","MS",{"$f":"IF(ISERROR(MATCH(PROPER(I239),K$2:K238,0)),PROPER(I239),\"-\")","v":"-"},{"$f":"IFERROR(MATCH(K239,I$3:I240,0),10000)","v":10000},null,null,null,null,null,null,null,null,null,null,{"$f":"IF(ISERROR(OFFSET(Results!$B$3,MATCH(A239,Results!B$4:B537,0),0)),A239,0)","v":""},null,null,"-",null,null,null,null,null,0]
["","",null,null,null,null,"M",null,"","MS",{"$f":"IF(ISERROR(MATCH(PROPER(I240),K$2:K239,0)),PROPER(I240),\"-\")","v":"-"},{"$f":"IFERROR(MATCH(K240,I$3:I241,0),10000)","v":10000},null,null,null,null,null,null,null,null,null,null,{"$f":"IF(ISERROR(OFFSET(Results!$B$3,MATCH(A240,Results!B$4:B538,0),0)),A240,0)","v":""},null,null,"-",null,null,null,null,null,0]
["","",null,null,null,null,"M",null,"","MS",{"$f":"IF(ISERROR(MATCH(PROPER(I241),K$2:K240,0)),PROPER(I241),\"-\")","v":"-"},{"$f":"IFERROR(MATCH(K241,I$3:I242,0),10000)","v":10000},null,null,null,null,null,null,null,null,null,null,{"$f":"IF(ISERROR(OFFSET(Results!$B$3,MATCH(A241,Results!B$4:B539,0),0)),A241,0)","v":""},null,null,"-",null,null,null,null,null,0]
["","",null,null,null,null,"M",null,"","MS",{"$f":"IF(ISERROR(MATCH(PROPER(I242),K$2:K241,0)),PROPER(I242),\"-\")","v":"-"},{"$f":"IFERROR(MATCH(K242,I$3:I243,0),10000)","v":10000},null,null,null,null,null,null,null,null,null,null,{"$f":"IF(ISERROR(OFFSET(Results!$B$3,MATCH(A242,Results!B$4:B540,0),0)),A242,0)","v":""},null,null,"-",null,null,null,null,null,0]
["","",null,null,null,null,"M",null,"","MS",{"$f":"IF(ISERROR(MATCH(PROPER(I243),K$2:K242,0)),PROPER(I243),\"-\")","v":"-"},{"$f":"IFERROR(MATCH(K243,I$3:I244,0),10000)","v":10000},null,null,null,null,null,null,null,null,null,null,{"$f":"IF(ISERROR(OFFSET(Results!$B$3,MATCH(A243,Results!B$4:B541,0),0)),A243,0)","v":""},null,null,"-",null,null,null,null,null,0]
["","",null,null,null,null,"M",null,"","MS",{"$f":"IF(ISERROR(MATCH(PROPER(I244),K$2:K243,0)),PROPER(I244),\"-\")","v":"-"},{"$f":"IFERROR(MATCH(K244,I$3:I245,0),10000)","v":10000},null,null,null,null,null,null,null,null,null,null,{"$f":"IF(ISERROR(OFFSET(Results!$B$3,MATCH(A244,Results!B$4:B542,0),0)),A244,0)","v":""},null,null,"-",null,null,null,null,null,0]
["","",null,null,null,null,"M",null,"","MS",{"$f":"IF(ISERROR(MATCH(PROPER(I245),K$2:K244,0)),PROPER(I245),\"-\")","v":"-"},{"$f":"IFERROR(MATCH(K245,I$3:I246,0),10000)","v":10000},null,null,null,null,null,null,null,null,null,null,{"$f":"IF(ISERROR(OFFSET(Results!$B$3,MATCH(A245,Results!B$4:B543,0),0)),A245,0)","v":""},null,null,"-",null,null,null,null,null,0]
["","",null,null,null,null,"M",null,"","MS",{"$f":"IF(ISERROR(MATCH(PROPER(I246),K$2:K245,0)),PROPER(I246),\"-\")","v":"-"},{"$f":"IFERROR(MATCH(K246,I$3:I247,0),10000)","v":10000},null,null,null,null,null,null,null,null,null,null,{"$f":"IF(ISERROR(OFFSET(Results!$B$3,MATCH(A246,Results!B$4:B544,0),0)),A246,0)","v":""},null,null,"-",null,null,null,null,null,0]
["","",null,null,null,null,"M",null,"","MS",{"$f":"IF(ISERROR(MATCH(PROPER(I247),K$2:K246,0)),PROPER(I247),\"-\")","v":"-"},{"$f":"IFERROR(MATCH(K247,I$3:I248,0),10000)","v":10000},null,null,null,null,null,null,null,null,null,null,{"$f":"IF(ISERROR(OFFSET(Results!$B$3,MATCH(A247,Results!B$4:B545,0),0)),A247,0)","v":""},null,null,"-",null,null,null,null,null,0]
["","",null,null,null,null,"M",null,"","MS",{"$f":"IF(ISERROR(MATCH(PROPER(I248),K$2:K247,0)),PROPER(I248),\"-\")","v":"-"},{"$f":"IFERROR(MATCH(K248,I$3:I249,0),10000)","v":10000},null,null,null,null,null,null,null,null,null,null,{"$f":"IF(ISERROR(OFFSET(Results!$B$3,MATCH(A248,Results!B$4:B546,0),0)),A248,0)","v":""},null,null,"-",null,null,null,null,null,0]
["","",null,null,null,null,"M",null,"","MS",{"$f":"IF(ISERROR(MATCH(PROPER(I249),K$2:K248,0)),PROPER(I249),\"-\")","v":"-"},{"$f":"IFERROR(MATCH(K249,I$3:I250,0),10000)","v":10000},null,null,null,null,null,null,null,null,null,null,{"$f":"IF(ISERROR(OFFSET(Results!$B$3,MATCH(A249,Results!B$4:B547,0),0)),A249,0)","v":""},null,null,"-",null,null,null,null,null,0]
["","",null,null,null,null,"M",null,"","MS",{"$f":"IF(ISERROR(MATCH(PROPER(I250),K$2:K249,0)),PROPER(I250),\"-\")","v":"-"},{"$f":"IFERROR(MATCH(K250,I$3:I251,0),10000)","v":10000},null,null,null,null,null,null,null,null,null,null,{"$f":"IF(ISERROR(OFFSET(Results!$B$3,MATCH(A250,Results!B$4:B548,0),0)),A250,0)","v":""},null,null,"-",null,null,null,null,null,0]
["","",null,null,null,null,"M",null,"","MS",{"$f":"IF(ISERROR(MATCH(PROPER(I251),K$2:K250,0)),PROPER(I251),\"-\")","v":"-"},{"$f":"IFERROR(MATCH(K251,I$3:I252,0),10000)","v":10000},null,null,null,null,null,null,null,null,null,null,{"$f":"IF(ISERROR(OFFSET(Results!$B$3,MATCH(A251,Results!B$4:B549,0),0)),A251,0)","v":""},null,null,"-",null,null,null,null,null,0]
["","",null,null,null,null,"M",null,"","MS",{"$f":"IF(ISERROR(MATCH(PROPER(I252),K$2:K251,0)),PROPER(I252),\"-\")","v":"-"},{"$f":"IFERROR(MATCH(K252,I$3:I253,0),10000)","v":10000},null,null,null,null,null,null,null,null,null,null,{"$f":"IF(ISERROR(OFFSET(Results!$B$3,MATCH(A252,Results!B$4:B550,0),0)),A252,0)","v":""},null,null,"-",null,null,null,null,null,0]
["","",null,null,null,null,"M",null,"","MS",{"$f":"IF(ISERROR(MATCH(PROPER(I253),K$2:K252,0)),PROPER(I253),\"-\")","v":"-"},{"$f":"IFERROR(MATCH(K253,I$3:I254,0),10000)","v":10000},null,null,null,null,null,null,null,null,null,null,{"$f":"IF(ISERROR(OFFSET(Results!$B$3,MATCH(A253,Results!B$4:B551,0),0)),A253,0)","v":""},null,null,"-",null,null,null,null,null,0]
["","",null,null,null,null,"M",null,"","MS",{"$f":"IF(ISERROR(MATCH(PROPER(I254),K$2:K253,0)),PROPER(I254),\"-\")","v":"-"},{"$f":"IFERROR(MATCH(K254,I$3:I255,0),10000)","v":10000},null,null,null,null,null,null,null,null,null,null,{"$f":"IF(ISERROR(OFFSET(Results!$B$3,MATCH(A254,Results!B$4:B552,0),0)),A254,0)","v":""},null,null,"-",null,null,null,null,null,0]
["","",null,null,null,null,"M",null,"","MS",{"$f":"IF(ISERROR(MATCH(PROPER(I255),K$2:K254,0)),PROPER(I255),\"-\")","v":"-"},{"$f":"IFERROR(MATCH(K255,I$3:I256,0),10000)","v":10000},null,null,null,null,null,null,null,null,null,null,{"$f":"IF(ISERROR(OFFSET(Results!$B$3,MATCH(A255,Results!B$4:B553,0),0)),A255,0)","v":""},null,null,"-",null,null,null,null,null,0]
["","",null,null,null,null,"M",null,"","MS",{"$f":"IF(ISERROR(MATCH(PROPER(I256),K$2:K255,0)),PROPER(I256),\"-\")","v":"-"},{"$f":"IFERROR(MATCH(K256,I$3:I257,0),10000)","v":10000},null,null,null,null,null,null,null,null,null,null,{"$f":"IF(ISERROR(OFFSET(Results!$B$3,MATCH(A256,Results!B$4:B554,0),0)),A256,0)","v":""},null,null,"-",null,null,null,null,null,0]
["","",null,null,null,null,"M",null,"","MS",{"$f":"IF(ISERROR(MATCH(PROPER(I257),K$2:K256,0)),PROPER(I257),\"-\")","v":"-"},{"$f":"IFERROR(MATCH(K257,I$3:I258,0),10000)","v":10000},null,null,null,null,null,null,null,null,null,null,{"$f":"IF(ISERROR(OFFSET(Results!$B$3,MATCH(A257,Results!B$4:B555,0),0)),A257,0)","v":""},null,null,"-",null,null,null,null,null,0]
["","",null,null,null,null,"M",null,"","MS",{"$f":"IF(ISERROR(MATCH(PROPER(I258),K$2:K257,0)),PROPER(I258),\"-\")","v":"-"},{"$f":"IFERROR(MATCH(K258,I$3:I259,0),10000)","v":10000},null,null,null,null,null,null,null,null,null,null,{"$f":"IF(ISERROR(OFFSET(Results!$B$3,MATCH(A258,Results!B$4:B556,0),0)),A258,0)","v":""},null,null,"-",null,null,null,null,null,0]
["","",null,null,null,null,"M",null,"","MS",{"$f":"IF(ISERROR(MATCH(PROPER(I259),K$2:K258,0)),PROPER(I259),\"-\")","v":"-"},{"$f":"IFERROR(MATCH(K259,I$3:I260,0),10000)","v":10000},null,null,null,null,null,null,null,null,null,null,{"$f":"IF(ISERROR(OFFSET(Results!$B$3,MATCH(A259,Results!B$4:B557,0),0)),A259,0)","v":""},null,null,"-",null,null,null,null,null,0]
["","",null,null,null,null,"M",null,"","MS",{"$f":"IF(ISERROR(MATCH(PROPER(I260),K$2:K259,0)),PROPER(I260),\"-\")","v":"-"},{"$f":"IFERROR(MATCH(K260,I$3:I261,0),10000)","v":10000},null,null,null,null,null,null,null,null,null,null,{"$f":"IF(ISERROR(OFFSET(Results!$B$3,MATCH(A260,Results!B$4:B558,0),0)),A260,0)","v":""},null,null,"-",null,null,null,null,null,{"$f":"IF(LEN(F260)>2,INT((AF$1-F260)/365.25),F260)","v":0}]
[{"$f":"IF(C260>\"\",A260+1,\"\")","v":""},{"$f":"IF(ISERROR(A261*1>0),\"\",\"y\")","v":""},null,null,null,null,"M",null,{"$f":"IFERROR(PROPER(OFFSET($AC$3,MATCH(E261,AD$4:AD$53,0),0)),PROPER(E261))","v":""},"MS",{"$f":"IF(ISERROR(MATCH(PROPER(I261),K$2:K260,0)),PROPER(I261),\"-\")","v":"-"},{"$f":"IFERROR(MATCH(K261,I$3:I262,0),10000)","v":10000},null,null,null,null,null,null,null,null,null,null,{"$f":"IF(ISERROR(OFFSET(Results!$B$3,MATCH(A261,Results!B$4:B559,0),0)),A261,0)","v":""},null,null,{"$f":"OFFSET(L$2,MATCH(SMALL(L$3:L$500,ROW(A258)),L$3:L$500,0),-1)","v":"-"},null,null,null,null,null,0]
["","",null,null,null,null,"M",null,"","MS",{"$f":"IF(ISERROR(MATCH(PROPER(I262),K$2:K261,0)),PROPER(I262),\"-\")","v":"-"},{"$f":"IFERROR(MATCH(K262,I$3:I263,0),10000)","v":10000},null,null,null,null,null,null,null,null,null,null,{"$f":"IF(ISERROR(OFFSET(Results!$B$3,MATCH(A262,Results!B$4:B560,0),0)),A262,0)","v":""},null,null,"-",null,null,null,null,null,0]
["","",null,null,null,null,"M",null,"","MS",{"$f":"IF(ISERROR(MATCH(PROPER(I263),K$2:K262,0)),PROPER(I263),\"-\")","v":"-"},{"$f":"IFERROR(MATCH(K263,I$3:I264,0),10000)","v":10000},null,null,null,null,null,null,null,null,null,null,{"$f":"IF(ISERROR(OFFSET(Results!$B$3,MATCH(A263,Results!B$4:B561,0),0)),A263,0)","v":""},null,null,"-",null,null,null,null,null,0]
["","",null,null,null,null,"M",null,"","MS",{"$f":"IF(ISERROR(MATCH(PROPER(I264),K$2:K263,0)),PROPER(I264),\"-\")","v":"-"},{"$f":"IFERROR(MATCH(K264,I$3:I265,0),10000)","v":10000},null,null,null,null,null,null,null,null,null,null,{"$f":"IF(ISERROR(OFFSET(Results!$B$3,MATCH(A264,Results!B$4:B562,0),0)),A264,0)","v":""},null,null,"-",null,null,null,null,null,0]
["","",null,null,null,null,"M",null,"","MS",{"$f":"IF(ISERROR(MATCH(PROPER(I265),K$2:K264,0)),PROPER(I265),\"-\")","v":"-"},{"$f":"IFERROR(MATCH(K265,I$3:I266,0),10000)","v":10000},null,null,null,null,null,null,null,null,null,null,{"$f":"IF(ISERROR(OFFSET(Results!$B$3,MATCH(A265,Results!B$4:B563,0),0)),A265,0)","v":""},null,null,"-",null,null,null,null,null,0]
["","",null,null,null,null,"M",null,"","MS",{"$f":"IF(ISERROR(MATCH(PROPER(I266),K$2:K265,0)),PROPER(I266),\"-\")","v":"-"},{"$f":"IFERROR(MATCH(K266,I$3:I267,0),10000)","v":10000},null,null,null,null,null,null,null,null,null,null,{"$f":"IF(ISERROR(OFFSET(Results!$B$3,MATCH(A266,Results!B$4:B564,0),0)),A266,0)","v":""},null,null,"-",null,null,null,null,null,0]
["","",null,null,null,null,"M",null,"",{"$f":"cat(F267,G267)","v":"MS"},{"$f":"IF(ISERROR(MATCH(PROPER(I267),K$2:K266,0)),PROPER(I267),\"-\")","v":"-"},{"$f":"IFERROR(MATCH(K267,I$3:I268,0),10000)","v":10000},null,null,null,null,null,null,null,null,null,null,{"$f":"IF(ISERROR(OFFSET(Results!$B$3,MATCH(A267,Results!B$4:B565,0),0)),A267,0)","v":""},null,null,"-",null,null,null,null,null,0]
["","",null,null,null,null,"M",null,"","MS",{"$f":"IF(ISERROR(MATCH(PROPER(I268),K$2:K267,0)),PROPER(I268),\"-\")","v":"-"},{"$f":"IFERROR(MATCH(K268,I$3:I269,0),10000)","v":10000},null,null,null,null,null,null,null,null,null,null,{"$f":"IF(ISERROR(OFFSET(Results!$B$3,MATCH(A268,Results!B$4:B566,0),0)),A268,0)","v":""},null,null,"-",null,null,null,null,null,0]
["","",null,null,null,null,"M",null,"","MS",{"$f":"IF(ISERROR(MATCH(PROPER(I269),K$2:K268,0)),PROPER(I269),\"-\")","v":"-"},{"$f":"IFERROR(MATCH(K269,I$3:I270,0),10000)","v":10000},null,null,null,null,null,null,null,null,null,null,{"$f":"IF(ISERROR(OFFSET(Results!$B$3,MATCH(A269,Results!B$4:B567,0),0)),A269,0)","v":""},null,null,"-",null,null,null,null,null,0]
["","",null,null,null,null,"M",null,"","MS",{"$f":"IF(ISERROR(MATCH(PROPER(I270),K$2:K269,0)),PROPER(I270),\"-\")","v":"-"},{"$f":"IFERROR(MATCH(K270,I$3:I271,0),10000)","v":10000},null,null,null,null,null,null,null,null,null,null,{"$f":"IF(ISERROR(OFFSET(Results!$B$3,MATCH(A270,Results!B$4:B568,0),0)),A270,0)","v":""},null,null,"-",null,null,null,null,null,0]
["","",null,null,null,null,"M",null,"","MS",{"$f":"IF(ISERROR(MATCH(PROPER(I271),K$2:K270,0)),PROPER(I271),\"-\")","v":"-"},{"$f":"IFERROR(MATCH(K271,I$3:I272,0),10000)","v":10000},null,null,null,null,null,null,null,null,null,null,{"$f":"IF(ISERROR(OFFSET(Results!$B$3,MATCH(A271,Results!B$4:B569,0),0)),A271,0)","v":""},null,null,"-",null,null,null,null,null,0]
["","",null,null,null,null,"M",null,"","MS",{"$f":"IF(ISERROR(MATCH(PROPER(I272),K$2:K271,0)),PROPER(I272),\"-\")","v":"-"},{"$f":"IFERROR(MATCH(K272,I$3:I273,0),10000)","v":10000},null,null,null,null,null,null,null,null,null,null,{"$f":"IF(ISERROR(OFFSET(Results!$B$3,MATCH(A272,Results!B$4:B570,0),0)),A272,0)","v":""},null,null,"-",null,null,null,null,null,0]
["","",null,null,null,null,"M",null,"","MS",{"$f":"IF(ISERROR(MATCH(PROPER(I273),K$2:K272,0)),PROPER(I273),\"-\")","v":"-"},{"$f":"IFERROR(MATCH(K273,I$3:I274,0),10000)","v":10000},null,null,null,null,null,null,null,null,null,null,{"$f":"IF(ISERROR(OFFSET(Results!$B$3,MATCH(A273,Results!B$4:B571,0),0)),A273,0)","v":""},null,null,"-",null,null,null,null,null,0]
["","",null,null,null,null,"M",null,"","MS",{"$f":"IF(ISERROR(MATCH(PROPER(I274),K$2:K273,0)),PROPER(I274),\"-\")","v":"-"},{"$f":"IFERROR(MATCH(K274,I$3:I275,0),10000)","v":10000},null,null,null,null,null,null,null,null,null,null,{"$f":"IF(ISERROR(OFFSET(Results!$B$3,MATCH(A274,Results!B$4:B572,0),0)),A274,0)","v":""},null,null,"-",null,null,null,null,null,0]
["","",null,null,null,null,"M",null,"","MS",{"$f":"IF(ISERROR(MATCH(PROPER(I275),K$2:K274,0)),PROPER(I275),\"-\")","v":"-"},{"$f":"IFERROR(MATCH(K275,I$3:I276,0),10000)","v":10000},null,null,null,null,null,null,null,null,null,null,{"$f":"IF(ISERROR(OFFSET(Results!$B$3,MATCH(A275,Results!B$4:B573,0),0)),A275,0)","v":""},null,null,"-",null,null,null,null,null,0]
["","",null,null,null,null,"M",null,"","MS",{"$f":"IF(ISERROR(MATCH(PROPER(I276),K$2:K275,0)),PROPER(I276),\"-\")","v":"-"},{"$f":"IFERROR(MATCH(K276,I$3:I277,0),10000)","v":10000},null,null,null,null,null,null,null,null,null,null,{"$f":"IF(ISERROR(OFFSET(Results!$B$3,MATCH(A276,Results!B$4:B574,0),0)),A276,0)","v":""},null,null,"-",null,null,null,null,null,0]
["","",null,null,null,null,"M",null,"","MS",{"$f":"IF(ISERROR(MATCH(PROPER(I277),K$2:K276,0)),PROPER(I277),\"-\")","v":"-"},{"$f":"IFERROR(MATCH(K277,I$3:I278,0),10000)","v":10000},null,null,null,null,null,null,null,null,null,null,{"$f":"IF(ISERROR(OFFSET(Results!$B$3,MATCH(A277,Results!B$4:B575,0),0)),A277,0)","v":""},null,null,"-",null,null,null,null,null,0]
["","",null,null,null,null,"M",null,"","MS",{"$f":"IF(ISERROR(MATCH(PROPER(I278),K$2:K277,0)),PROPER(I278),\"-\")","v":"-"},{"$f":"IFERROR(MATCH(K278,I$3:I279,0),10000)","v":10000},null,null,null,null,null,null,null,null,null,null,{"$f":"IF(ISERROR(OFFSET(Results!$B$3,MATCH(A278,Results!B$4:B576,0),0)),A278,0)","v":""},null,null,"-",null,null,null,null,null,0]
["","",null,null,null,null,"M",null,"","MS",{"$f":"IF(ISERROR(MATCH(PROPER(I279),K$2:K278,0)),PROPER(I279),\"-\")","v":"-"},{"$f":"IFERROR(MATCH(K279,I$3:I280,0),10000)","v":10000},null,null,null,null,null,null,null,null,null,null,{"$f":"IF(ISERROR(OFFSET(Results!$B$3,MATCH(A279,Results!B$4:B577,0),0)),A279,0)","v":""},null,null,"-",null,null,null,null,null,0]
["","",null,null,null,null,"M",null,"","MS",{"$f":"IF(ISERROR(MATCH(PROPER(I280),K$2:K279,0)),PROPER(I280),\"-\")","v":"-"},{"$f":"IFERROR(MATCH(K280,I$3:I281,0),10000)","v":10000},null,null,null,null,null,null,null,null,null,null,{"$f":"IF(ISERROR(OFFSET(Results!$B$3,MATCH(A280,Results!B$4:B578,0),0)),A280,0)","v":""},null,null,"-",null,null,null,null,null,0]
["","",null,null,null,null,"M",null,"","MS",{"$f":"IF(ISERROR(MATCH(PROPER(I281),K$2:K280,0)),PROPER(I281),\"-\")","v":"-"},{"$f":"IFERROR(MATCH(K281,I$3:I282,0),10000)","v":10000},null,null,null,null,null,null,null,null,null,null,{"$f":"IF(ISERROR(OFFSET(Results!$B$3,MATCH(A281,Results!B$4:B579,0),0)),A281,0)","v":""},null,null,"-",null,null,null,null,null,0]
["","",null,null,null,null,"M",null,"","MS",{"$f":"IF(ISERROR(MATCH(PROPER(I282),K$2:K281,0)),PROPER(I282),\"-\")","v":"-"},{"$f":"IFERROR(MATCH(K282,I$3:I283,0),10000)","v":10000},null,null,null,null,null,null,null,null,null,null,{"$f":"IF(ISERROR(OFFSET(Results!$B$3,MATCH(A282,Results!B$4:B580,0),0)),A282,0)","v":""},null,null,"-",null,null,null,null,null,0]
["","",null,null,null,null,"M",null,"","MS",{"$f":"IF(ISERROR(MATCH(PROPER(I283),K$2:K282,0)),PROPER(I283),\"-\")","v":"-"},{"$f":"IFERROR(MATCH(K283,I$3:I284,0),10000)","v":10000},null,null,null,null,null,null,null,null,null,null,{"$f":"IF(ISERROR(OFFSET(Results!$B$3,MATCH(A283,Results!B$4:B581,0),0)),A283,0)","v":""},null,null,"-",null,null,null,null,null,0]
["","",null,null,null,null,"M",null,"","MS",{"$f":"IF(ISERROR(MATCH(PROPER(I284),K$2:K283,0)),PROPER(I284),\"-\")","v":"-"},{"$f":"IFERROR(MATCH(K284,I$3:I285,0),10000)","v":10000},null,null,null,null,null,null,null,null,null,null,{"$f":"IF(ISERROR(OFFSET(Results!$B$3,MATCH(A284,Results!B$4:B582,0),0)),A284,0)","v":""},null,null,"-",null,null,null,null,null,0]
["","",null,null,null,null,"M",null,"","MS",{"$f":"IF(ISERROR(MATCH(PROPER(I285),K$2:K284,0)),PROPER(I285),\"-\")","v":"-"},{"$f":"IFERROR(MATCH(K285,I$3:I286,0),10000)","v":10000},null,null,null,null,null,null,null,null,null,null,{"$f":"IF(ISERROR(OFFSET(Results!$B$3,MATCH(A285,Results!B$4:B583,0),0)),A285,0)","v":""},null,null,"-",null,null,null,null,null,0]
["","",null,null,null,null,"M",null,"","MS",{"$f":"IF(ISERROR(MATCH(PROPER(I286),K$2:K285,0)),PROPER(I286),\"-\")","v":"-"},{"$f":"IFERROR(MATCH(K286,I$3:I287,0),10000)","v":10000},null,null,null,null,null,null,null,null,null,null,{"$f":"IF(ISERROR(OFFSET(Results!$B$3,MATCH(A286,Results!B$4:B584,0),0)),A286,0)","v":""},null,null,"-",null,null,null,null,null,0]
["","",null,null,null,null,"M",null,"","MS",{"$f":"IF(ISERROR(MATCH(PROPER(I287),K$2:K286,0)),PROPER(I287),\"-\")","v":"-"},{"$f":"IFERROR(MATCH(K287,I$3:I288,0),10000)","v":10000},null,null,null,null,null,null,null,null,null,null,{"$f":"IF(ISERROR(OFFSET(Results!$B$3,MATCH(A287,Results!B$4:B585,0),0)),A287,0)","v":""},null,null,"-",null,null,null,null,null,0]
["","",null,null,null,null,"M",null,"","MS",{"$f":"IF(ISERROR(MATCH(PROPER(I288),K$2:K287,0)),PROPER(I288),\"-\")","v":"-"},{"$f":"IFERROR(MATCH(K288,I$3:I289,0),10000)","v":10000},null,null,null,null,null,null,null,null,null,null,{"$f":"IF(ISERROR(OFFSET(Results!$B$3,MATCH(A288,Results!B$4:B586,0),0)),A288,0)","v":""},null,null,"-",null,null,null,null,null,0]
["","",null,null,null,null,"M",null,"","MS",{"$f":"IF(ISERROR(MATCH(PROPER(I289),K$2:K288,0)),PROPER(I289),\"-\")","v":"-"},{"$f":"IFERROR(MATCH(K289,I$3:I290,0),10000)","v":10000},null,null,null,null,null,null,null,null,null,null,{"$f":"IF(ISERROR(OFFSET(Results!$B$3,MATCH(A289,Results!B$4:B587,0),0)),A289,0)","v":""},null,null,"-",null,null,null,null,null,0]
["","",null,null,null,null,"M",null,"","MS",{"$f":"IF(ISERROR(MATCH(PROPER(I290),K$2:K289,0)),PROPER(I290),\"-\")","v":"-"},{"$f":"IFERROR(MATCH(K290,I$3:I291,0),10000)","v":10000},null,null,null,null,null,null,null,null,null,null,{"$f":"IF(ISERROR(OFFSET(Results!$B$3,MATCH(A290,Results!B$4:B588,0),0)),A290,0)","v":""},null,null,"-",null,null,null,null,null,0]
["","",null,null,null,null,"M",null,"","MS",{"$f":"IF(ISERROR(MATCH(PROPER(I291),K$2:K290,0)),PROPER(I291),\"-\")","v":"-"},{"$f":"IFERROR(MATCH(K291,I$3:I292,0),10000)","v":10000},null,null,null,null,null,null,null,null,null,null,{"$f":"IF(ISERROR(OFFSET(Results!$B$3,MATCH(A291,Results!B$4:B589,0),0)),A291,0)","v":""},null,null,"-",null,null,null,null,null,0]
["","",null,null,null,null,"M",null,"","MS",{"$f":"IF(ISERROR(MATCH(PROPER(I292),K$2:K291,0)),PROPER(I292),\"-\")","v":"-"},{"$f":"IFERROR(MATCH(K292,I$3:I293,0),10000)","v":10000},null,null,null,null,null,null,null,null,null,null,{"$f":"IF(ISERROR(OFFSET(Results!$B$3,MATCH(A292,Results!B$4:B590,0),0)),A292,0)","v":""},null,null,"-",null,null,null,null,null,0]
["","",null,null,null,null,"M",null,"","MS",{"$f":"IF(ISERROR(MATCH(PROPER(I293),K$2:K292,0)),PROPER(I293),\"-\")","v":"-"},{"$f":"IFERROR(MATCH(K293,I$3:I294,0),10000)","v":10000},null,null,null,null,null,null,null,null,null,null,{"$f":"IF(ISERROR(OFFSET(Results!$B$3,MATCH(A293,Results!B$4:B591,0),0)),A293,0)","v":""},null,null,"-",null,null,null,null,null,0]
["","",null,null,null,null,"M",null,"","MS",{"$f":"IF(ISERROR(MATCH(PROPER(I294),K$2:K293,0)),PROPER(I294),\"-\")","v":"-"},{"$f":"IFERROR(MATCH(K294,I$3:I295,0),10000)","v":10000},null,null,null,null,null,null,null,null,null,null,{"$f":"IF(ISERROR(OFFSET(Results!$B$3,MATCH(A294,Results!B$4:B592,0),0)),A294,0)","v":""},null,null,"-",null,null,null,null,null,0]
["","",null,null,null,null,"M",null,"","MS",{"$f":"IF(ISERROR(MATCH(PROPER(I295),K$2:K294,0)),PROPER(I295),\"-\")","v":"-"},{"$f":"IFERROR(MATCH(K295,I$3:I296,0),10000)","v":10000},null,null,null,null,null,null,null,null,null,null,{"$f":"IF(ISERROR(OFFSET(Results!$B$3,MATCH(A295,Results!B$4:B593,0),0)),A295,0)","v":""},null,null,"-",null,null,null,null,null,0]
["","",null,null,null,null,"M",null,"","MS",{"$f":"IF(ISERROR(MATCH(PROPER(I296),K$2:K295,0)),PROPER(I296),\"-\")","v":"-"},{"$f":"IFERROR(MATCH(K296,I$3:I297,0),10000)","v":10000},null,null,null,null,null,null,null,null,null,null,{"$f":"IF(ISERROR(OFFSET(Results!$B$3,MATCH(A296,Results!B$4:B594,0),0)),A296,0)","v":""},null,null,"-",null,null,null,null,null,0]
["","",null,null,null,null,"M",null,"","MS",{"$f":"IF(ISERROR(MATCH(PROPER(I297),K$2:K296,0)),PROPER(I297),\"-\")","v":"-"},{"$f":"IFERROR(MATCH(K297,I$3:I298,0),10000)","v":10000},null,null,null,null,null,null,null,null,null,null,{"$f":"IF(ISERROR(OFFSET(Results!$B$3,MATCH(A297,Results!B$4:B595,0),0)),A297,0)","v":""},null,null,"-",null,null,null,null,null,0]
["","",null,null,null,null,"M",null,"","MS",{"$f":"IF(ISERROR(MATCH(PROPER(I298),K$2:K297,0)),PROPER(I298),\"-\")","v":"-"},{"$f":"IFERROR(MATCH(K298,I$3:I299,0),10000)","v":10000},null,null,null,null,null,null,null,null,null,null,{"$f":"IF(ISERROR(OFFSET(Results!$B$3,MATCH(A298,Results!B$4:B596,0),0)),A298,0)","v":""},null,null,"-",null,null,null,null,null,0]
["","",null,null,null,null,"M",null,"","MS",{"$f":"IF(ISERROR(MATCH(PROPER(I299),K$2:K298,0)),PROPER(I299),\"-\")","v":"-"},{"$f":"IFERROR(MATCH(K299,I$3:I300,0),10000)","v":10000},null,null,null,null,null,null,null,null,null,null,{"$f":"IF(ISERROR(OFFSET(Results!$B$3,MATCH(A299,Results!B$4:B597,0),0)),A299,0)","v":""},null,null,"-",null,null,null,null,null,0]
["","",null,null,null,null,"M",null,"","MS",{"$f":"IF(ISERROR(MATCH(PROPER(I300),K$2:K299,0)),PROPER(I300),\"-\")","v":"-"},{"$f":"IFERROR(MATCH(K300,I$3:I301,0),10000)","v":10000},null,null,null,null,null,null,null,null,null,null,{"$f":"IF(ISERROR(OFFSET(Results!$B$3,MATCH(A300,Results!B$4:B598,0),0)),A300,0)","v":""},null,null,"-",null,null,null,null,null,0]
["","",null,null,null,null,"M",null,"","MS",{"$f":"IF(ISERROR(MATCH(PROPER(I301),K$2:K300,0)),PROPER(I301),\"-\")","v":"-"},{"$f":"IFERROR(MATCH(K301,I$3:I302,0),10000)","v":10000},null,null,null,null,null,null,null,null,null,null,{"$f":"IF(ISERROR(OFFSET(Results!$B$3,MATCH(A301,Results!B$4:B599,0),0)),A301,0)","v":""},null,null,"-",null,null,null,null,null,0]
["","",null,null,null,null,"M",null,"","MS",{"$f":"IF(ISERROR(MATCH(PROPER(I302),K$2:K301,0)),PROPER(I302),\"-\")","v":"-"},{"$f":"IFERROR(MATCH(K302,I$3:I303,0),10000)","v":10000},null,null,null,null,null,null,null,null,null,null,{"$f":"IF(ISERROR(OFFSET(Results!$B$3,MATCH(A302,Results!B$4:B600,0),0)),A302,0)","v":""},null,null,"-",null,null,null,null,null,0]
["","",null,null,null,null,"M",null,"","MS",{"$f":"IF(ISERROR(MATCH(PROPER(I303),K$2:K302,0)),PROPER(I303),\"-\")","v":"-"},{"$f":"IFERROR(MATCH(K303,I$3:I304,0),10000)","v":10000},null,null,null,null,null,null,null,null,null,null,{"$f":"IF(ISERROR(OFFSET(Results!$B$3,MATCH(A303,Results!B$4:B601,0),0)),A303,0)","v":""},null,null,"-",null,null,null,null,null,0]
["","",null,null,null,null,null,null,"","S",{"$f":"IF(ISERROR(MATCH(PROPER(I304),K$2:K303,0)),PROPER(I304),\"-\")","v":"-"},{"$f":"IFERROR(MATCH(K304,I$3:I305,0),10000)","v":10000},null,null,null,null,null,null,null,null,null,null,{"$f":"IF(ISERROR(OFFSET(Results!$B$3,MATCH(A304,Results!B$4:B602,0),0)),A304,0)","v":""},null,null,"-",null,null,null,null,null,0]
["","",null,null,null,null,null,null,"","S",{"$f":"IF(ISERROR(MATCH(PROPER(I305),K$2:K304,0)),PROPER(I305),\"-\")","v":"-"},{"$f":"IFERROR(MATCH(K305,I$3:I306,0),10000)","v":10000},null,null,null,null,null,null,null,null,null,null,{"$f":"IF(ISERROR(OFFSET(Results!$B$3,MATCH(A305,Results!B$4:B603,0),0)),A305,0)","v":""},null,null,"-",null,null,null,null,null,0]
["","",null,null,null,null,null,null,"","S",{"$f":"IF(ISERROR(MATCH(PROPER(I306),K$2:K305,0)),PROPER(I306),\"-\")","v":"-"},{"$f":"IFERROR(MATCH(K306,I$3:I307,0),10000)","v":10000},null,null,null,null,null,null,null,null,null,null,{"$f":"IF(ISERROR(OFFSET(Results!$B$3,MATCH(A306,Results!B$4:B604,0),0)),A306,0)","v":""},null,null,"-",null,null,null,null,null,0]
["","",null,null,null,null,null,null,null,null,null,null,null,null,null,null,null,null,null,null,null,null,{"$f":"IF(ISERROR(OFFSET(Results!$B$3,MATCH(A307,Results!B$4:B605,0),0)),A307,0)","v":""},null,null,"-",null,null,null,null,null,0]
["","",null,null,null,null,null,null,null,null,null,null,null,null,null,null,null,null,null,null,null,null,{"$f":"IF(ISERROR(OFFSET(Results!$B$3,MATCH(A308,Results!B$4:B606,0),0)),A308,0)","v":""},null,null,{"$error":"#NUM!"},null,null,null,null,null,0]
["","",null,null,null,null,null,null,null,null,null,null,null,null,null,null,null,null,null,null,null,null,{"$f":"IF(ISERROR(OFFSET(Results!$B$3,MATCH(A309,Results!B$4:B607,0),0)),A309,0)","v":""},null,null,{"$error":"#NUM!"},null,null,null,null,null,0]
["","",null,null,null,null,null,null,null,null,null,null,null,null,null,null,null,null,null,null,null,null,{"$f":"IF(ISERROR(OFFSET(Results!$B$3,MATCH(A310,Results!B$4:B608,0),0)),A310,0)","v":""},null,null,{"$error":"#NUM!"},null,null,null,null,null,0]
["","",null,null,null,null,null,null,null,null,null,null,null,null,null,null,null,null,null,null,null,null,{"$f":"IF(ISERROR(OFFSET(Results!$B$3,MATCH(A311,Results!B$4:B609,0),0)),A311,0)","v":""},null,null,{"$error":"#NUM!"},null,null,null,null,null,0]
["","",null,null,null,null,null,null,null,null,null,null,null,null,null,null,null,null,null,null,null,null,{"$f":"IF(ISERROR(OFFSET(Results!$B$3,MATCH(A312,Results!B$4:B610,0),0)),A312,0)","v":""},null,null,{"$error":"#NUM!"},null,null,null,null,null,0]
["","",null,null,null,null,null,null,null,null,null,null,null,null,null,null,null,null,null,null,null,null,{"$f":"IF(ISERROR(OFFSET(Results!$B$3,MATCH(A313,Results!B$4:B611,0),0)),A313,0)","v":""},null,null,{"$error":"#NUM!"},null,null,null,null,null,0]
["","",null,null,null,null,null,null,null,null,null,null,null,null,null,null,null,null,null,null,null,null,{"$f":"IF(ISERROR(OFFSET(Results!$B$3,MATCH(A314,Results!B$4:B612,0),0)),A314,0)","v":""},null,null,{"$error":"#NUM!"},null,null,null,null,null,0]
["","",null,null,null,null,null,null,null,null,null,null,null,null,null,null,null,null,null,null,null,null,{"$f":"IF(ISERROR(OFFSET(Results!$B$3,MATCH(A315,Results!B$4:B613,0),0)),A315,0)","v":""},null,null,{"$error":"#NUM!"},null,null,null,null,null,0]
["",null,null,null,null,null,null,null,null,null,null,null,null,null,null,null,null,null,null,null,null,null,null,null,null,null,null,null,null,null,null,0]
["",null,null,null,null,null,null,null,null,null,null,null,null,null,null,null,null,null,null,null,null,null,null,null,null,null,null,null,null,null,null,0]
[null,null,null,null,null,null,null,null,null,null,null,null,null,null,null,null,null,null,null,null,null,null,null,null,null,null,null,null,null,null,null,0]

{"sheet":"Results","index":1,"n_rows":307,"n_cols":64,"rows_kept":307,"cut":false,"hidden":false,"merged":[[0,3,0,4]]}
[{"$f":"Entries!A1","v":"Bradwell 2015"},null,null,{"$f":"\"No finishers: \"&COUNTIF(B4:B1001,\">-1\")","v":"No finishers: 111"},null,"Ladies are shown in red: Vet highlighting is - V50 green, V60 yellow, V70 violet."]
[]
["Position","Race No.","Hours","Mins","Seconds","Seniors","Vet Categories","Category","Club","Special Cat","Name",null,null,"offset",null,"Not Returned",null,"Vet clubs",null,null,null,null,"female clubs","finish order","List"]
[1,7,0,23,52,{"$f":"IF(AND($B4>=0,LEN(H4)=2),K4,\"\")","v":"Stuart Bond"},{"$f":"IF(AND($B4>=0,MID(H4,2,1)=\"V\"),K4,\"\")","v":""},{"$f":"IF($B4>0,OFFSET(Entries!$C$2,Results!$N4,7),\"\")","v":"MS"},{"$f":"PROPER(IF($B4>0,club(OFFSET(Entries!$I$2,Results!$N4,0)),\"\"))","v":"Dark Peak"},{"$f":"nLocal(OFFSET(Entries!$C$2,Results!$N4,5),H4)","v":"M "},{"$f":"PROPER(OFFSET(Entries!$C$2,Results!$N4,0))","v":"Stuart Bond"},{"$f":"LEFT(H4,1)&VetCat5(H4)","v":"M"},null,{"$f":"MATCH($B4,Entries!$A$3:$A$1001,0)","v":8},{"$f":"IF(LEN(H4)>2,RIGHT(H4,2)*1,0)","v":0},{"$f":"IF(ISERROR(OFFSET(Results!$B$3,MATCH(Entries!A3,Results!B$4:B301,0),0)),Entries!A3,0)","v":0},null,{"$f":"IF(LEN(H4)>2,I4,\"-\")","v":"-"},{"$f":"IF(R4<>\"-\",ROW()-3,1000)","v":1000},{"$f":"IF(ISERROR(MATCH(R4,R$3:R3,0)),R4,\"-\")","v":"-"},{"$f":"IF(ISERROR(MATCH(S4,S$3:S3,0)),S4,\"-\")","v":1000},{"$f":"IF(U4<>\"-\",(ROW()-3)*1,99999)","v":1},{"$f":"IF(LEFT(H4,1)=\"F\",I4,\"-\")","v":"-"},{"$f":"IF(W4<>\"-\",ROW()-3,1000)","v":1000},{"$f":"IF(ISERROR(MATCH(W4,W$3:W3,0)),W4,\"-\")","v":"-"},{"$f":"IF(Y4<>\"-\",(ROW()-3)*1,99999)","v":99999}]
[{"$f":"A4+1","v":2},62,{"$f":"IF(D5>=D4,C4,C4+1)","v":0},{"$f":"IF(E5>=E4,D4,D4+1)","v":24},17,{"$f":"IF(AND($B5>=0,LEN(H5)=2),K5,\"\")","v":"John Franklin"},{"$f":"IF(AND($B5>=0,MID(H5,2,1)=\"V\"),K5,\"\")","v":""},{"$f":"IF($B5>0,OFFSET(Entries!$C$2,Results!$N5,7),\"\")","v":"MS"},{"$f":"PROPER(IF($B5>0,club(OFFSET(Entries!$I$2,Results!$N5,0)),\"\"))","v":"Serpentine Rc"},{"$f":"nLocal(OFFSET(Entries!$C$2,Results!$N5,5),H5)","v":""},{"$f":"PROPER(OFFSET(Entries!$C$2,Results!$N5,0))","v":"John Franklin"},{"$f":"LEFT(H5,1)&VetCat5(H5)","v":"M"},null,{"$f":"MATCH($B5,Entries!$A$3:$A$1001,0)","v":63},{"$f":"IF(LEN(H5)>2,RIGHT(H5,2),0)","v":0},{"$f":"IF(ISERROR(OFFSET(Results!$B$3,MATCH(Entries!A4,Results!B$4:B302,0),0)),Entries!A4,0)","v":0},null,{"$f":"IF(LEN(H5)>2,I5,\"-\")","v":"-"},{"$f":"IF(R5<>\"-\",ROW()-3,1000)","v":1000},{"$f":"IF(ISERROR(MATCH(R5,R$3:R4,0)),R5,\"-\")","v":"-"},{"$f":"IF(ISERROR(MATCH(S5,S$3:S4,0)),S5,\"-\")","v":"-"},99999,{"$f":"IF(LEFT(H5,1)=\"F\",I5,\"-\")","v":"-"},{"$f":"IF(W5<>\"-\",ROW()-3,1000)","v":1000},{"$f":"IF(ISERROR(MATCH(W5,W$3:W4,0)),W5,\"-\")","v":"-"},{"$f":"IF(Y5<>\"-\",(ROW()-3)*1,99999)","v":99999}]
[{"$f":"A5+1","v":3},57,{"$f":"IF(D6>=D5,C5,C5+1)","v":0},25,17,{"$f":"IF(AND($B6>=0,LEN(H6)=2),K6,\"\")","v":"Steve Franklin"},{"$f":"IF(AND($B6>=0,MID(H6,2,1)=\"V\"),K6,\"\")","v":""},{"$f":"IF($B6>0,OFFSET(Entries!$C$2,Results!$N6,7),\"\")","v":"MS"},{"$f":"PROPER(IF($B6>0,club(OFFSET(Entries!$I$2,Results!$N6,0)),\"\"))","v":"Totley Ac"},{"$f":"nLocal(OFFSET(Entries!$C$2,Results!$N6,5),H6)","v":""},{"$f":"PROPER(OFFSET(Entries!$C$2,Results!$N6,0))","v":"Steve Franklin"},"M",null,{"$f":"MATCH($B6,Entries!$A$3:$A$1001,0)","v":58},{"$f":"IF(LEN(H6)>2,RIGHT(H6,2),0)","v":0},{"$f":"IF(ISERROR(OFFSET(Results!$B$3,MATCH(Entries!A5,Results!B$4:B303,0),0)),Entries!A5,0)","v":0},null,"-",1000,{"$f":"IF(ISERROR(MATCH(R6,R$3:R5,0)),R6,\"-\")","v":"-"},{"$f":"IF(ISERROR(MATCH(S6,S$3:S5,0)),S6,\"-\")","v":"-"},99999,{"$f":"IF(LEFT(H6,1)=\"F\",I6,\"-\")","v":"-"},1000,{"$f":"IF(ISERROR(MATCH(W6,W$3:W5,0)),W6,\"-\")","v":"-"},99999]
[4,50,{"$f":"IF(D7>=D6,C6,C6+1)","v":0},26,13,"Adam Taylor","",{"$f":"IF($B7>0,OFFSET(Entries!$C$2,Results!$N7,7),\"\")","v":"MS"},{"$f":"PROPER(IF($B7>0,club(OFFSET(Entries!$I$2,Results!$N7,0)),\"\"))","v":"Taylored Running Group"},{"$f":"nLocal(OFFSET(Entries!$C$2,Results!$N7,5),H7)","v":""},{"$f":"PROPER(OFFSET(Entries!$C$2,Results!$N7,0))","v":"Adam Taylor"},"M",null,{"$f":"MATCH($B7,Entries!$A$3:$A$1001,0)","v":51},0,{"$f":"IF(ISERROR(OFFSET(Results!$B$3,MATCH(Entries!A6,Results!B$4:B304,0),0)),Entries!A6,0)","v":0},null,"-",1000,{"$f":"IF(ISERROR(MATCH(R7,R$3:R6,0)),R7,\"-\")","v":"-"},{"$f":"IF(ISERROR(MATCH(S7,S$3:S6,0)),S7,\"-\")","v":"-"},99999,{"$f":"IF(LEFT(H7,1)=\"F\",I7,\"-\")","v":"-"},1000,{"$f":"IF(ISERROR(MATCH(W7,W$3:W6,0)),W7,\"-\")","v":"-"},99999]
[5,56,{"$f":"IF(D8>=D7,C7,C7+1)","v":0},26,43,"Bart Shaw","",{"$f":"IF($B8>0,OFFSET(Entries!$C$2,Results!$N8,7),\"\")","v":"MS"},{"$f":"PROPER(IF($B8>0,club(OFFSET(Entries!$I$2,Results!$N8,0)),\"\"))","v":"Totley Ac"},{"$f":"nLocal(OFFSET(Entries!$C$2,Results!$N8,5),H8)","v":""},{"$f":"PROPER(OFFSET(Entries!$C$2,Results!$N8,0))","v":"Bart Shaw"},"M",null,{"$f":"MATCH($B8,Entries!$A$3:$A$1001,0)","v":57},0,{"$f":"IF(ISERROR(OFFSET(Results!$B$3,MATCH(Entries!A7,Results!B$4:B305,0),0)),Entries!A7,0)","v":0},null,"-",1000,{"$f":"IF(ISERROR(MATCH(R8,R$3:R7,0)),R8,\"-\")","v":"-"},{"$f":"IF(ISERROR(MATCH(S8,S$3:S7,0)),S8,\"-\")","v":"-"},99999,{"$f":"IF(LEFT(H8,1)=\"F\",I8,\"-\")","v":"-"},1000,{"$f":"IF(ISERROR(MATCH(W8,W$3:W7,0)),W8,\"-\")","v":"-"},99999]
[6,89,{"$f":"IF(D9>=D8,C8,C8+1)","v":0},26,47,{"$f":"IF(AND($B9>=0,LEN(H9)=2),K9,\"\")","v":""},{"$f":"IF(AND($B9>=0,MID(H9,2,1)=\"V\"),K9,\"\")","v":"Austin Frost"},{"$f":"IF($B9>0,OFFSET(Entries!$C$2,Results!$N9,7),\"\")","v":"MV40"},{"$f":"PROPER(IF($B9>0,club(OFFSET(Entries!$I$2,Results!$N9,0)),\"\"))","v":"Dark Peak"},{"$f":"nLocal(OFFSET(Entries!$C$2,Results!$N9,5),H9)","v":""},{"$f":"PROPER(OFFSET(Entries!$C$2,Results!$N9,0))","v":"Austin Frost"},{"$f":"LEFT(H9,1)&VetCat5(H9)","v":"M"},null,{"$f":"MATCH($B9,Entries!$A$3:$A$1001,0)","v":90},"40",{"$f":"IF(ISERROR(OFFSET(Results!$B$3,MATCH(Entries!A8,Results!B$4:B306,0),0)),Entries!A8,0)","v":0},null,{"$f":"IF(LEN(H9)>2,I9,\"-\")","v":"Dark Peak"},{"$f":"IF(R9<>\"-\",ROW()-3,1000)","v":6},{"$f":"IF(ISERROR(MATCH(R9,R$3:R8,0)),R9,\"-\")","v":"Dark Peak"},{"$f":"IF(ISERROR(MATCH(S9,S$3:S8,0)),S9,\"-\")","v":6},{"$f":"IF(U9<>\"-\",(ROW()-3)*1,99999)","v":6},{"$f":"IF(LEFT(H9,1)=\"F\",I9,\"-\")","v":"-"},1000,{"$f":"IF(ISERROR(MATCH(W9,W$3:W8,0)),W9,\"-\")","v":"-"},99999]
[7,71,{"$f":"IF(D10>=D9,C9,C9+1)","v":0},26,54,"Johnny Wilson","",{"$f":"IF($B10>0,OFFSET(Entries!$C$2,Results!$N10,7),\"\")","v":"MS"},{"$f":"PROPER(IF($B10>0,club(OFFSET(Entries!$I$2,Results!$N10,0)),\"\"))","v":"Fatboys Rc"},{"$f":"nLocal(OFFSET(Entries!$C$2,Results!$N10,5),H10)","v":""},{"$f":"PROPER(OFFSET(Entries!$C$2,Results!$N10,0))","v":"Johnny Wilson"},"M",null,{"$f":"MATCH($B10,Entries!$A$3:$A$1001,0)","v":72},0,{"$f":"IF(ISERROR(OFFSET(Results!$B$3,MATCH(Entries!A9,Results!B$4:B307,0),0)),Entries!A9,0)","v":0},null,"-",1000,{"$f":"IF(ISERROR(MATCH(R10,R$3:R9,0)),R10,\"-\")","v":"-"},{"$f":"IF(ISERROR(MATCH(S10,S$3:S9,0)),S10,\"-\")","v":"-"},99999,"-",1000,{"$f":"IF(ISERROR(MATCH(W10,W$3:W9,0)),W10,\"-\")","v":"-"},99999,null,null,null,null,null,null,null,null,null,null,null,"Teams"]
[8,61,{"$f":"IF(D11>=D10,C10,C10+1)","v":0},27,58,{"$f":"IF(AND($B11>=0,LEN(H11)=2),K11,\"\")","v":"Chris Jackson"},{"$f":"IF(AND($B11>=0,MID(H11,2,1)=\"V\"),K11,\"\")","v":""},{"$f":"IF($B11>0,OFFSET(Entries!$C$2,Results!$N11,7),\"\")","v":"MS"},{"$f":"PROPER(IF($B11>0,club(OFFSET(Entries!$I$2,Results!$N11,0)),\"\"))","v":"Glossopdale"},{"$f":"nLocal(OFFSET(Entries!$C$2,Results!$N11,5),H11)","v":""},{"$f":"PROPER(OFFSET(Entries!$C$2,Results!$N11,0))","v":"Chris Jackson"},{"$f":"LEFT(H11,1)&VetCat5(H11)","v":"M"},null,{"$f":"MATCH($B11,Entries!$A$3:$A$1001,0)","v":62},0,{"$f":"IF(ISERROR(OFFSET(Results!$B$3,MATCH(Entries!A10,Results!B$4:B308,0),0)),Entries!A10,0)","v":0},null,"-",1000,{"$f":"IF(ISERROR(MATCH(R11,R$3:R10,0)),R11,\"-\")","v":"-"},{"$f":"IF(ISERROR(MATCH(S11,S$3:S10,0)),S11,\"-\")","v":"-"},99999,{"$f":"IF(LEFT(H11,1)=\"F\",I11,\"-\")","v":"-"},{"$f":"IF(W11<>\"-\",ROW()-3,1000)","v":1000},{"$f":"IF(ISERROR(MATCH(W11,W$3:W10,0)),W11,\"-\")","v":"-"},{"$f":"IF(Y11<>\"-\",(ROW()-3)*1,99999)","v":99999}]
[9,49,0,{"$f":"IF(E12>=E11,D11,D11+1)","v":28},37,"Steve Fraser","",{"$f":"IF($B12>0,OFFSET(Entries!$C$2,Results!$N12,7),\"\")","v":"MS"},{"$f":"PROPER(IF($B12>0,club(OFFSET(Entries!$I$2,Results!$N12,0)),\"\"))","v":"Steel City Striders"},{"$f":"nLocal(OFFSET(Entries!$C$2,Results!$N12,5),H12)","v":""},{"$f":"PROPER(OFFSET(Entries!$C$2,Results!$N12,0))","v":"Steve Fraser"},"M",null,{"$f":"MATCH($B12,Entries!$A$3:$A$1001,0)","v":50},0,{"$f":"IF(ISERROR(OFFSET(Results!$B$3,MATCH(Entries!A11,Results!B$4:B309,0),0)),Entries!A11,0)","v":0},null,"-",1000,{"$f":"IF(ISERROR(MATCH(R12,R$3:R11,0)),R12,\"-\")","v":"-"},{"$f":"IF(ISERROR(MATCH(S12,S$3:S11,0)),S12,\"-\")","v":"-"},99999,"-",1000,{"$f":"IF(ISERROR(MATCH(W12,W$3:W11,0)),W12,\"-\")","v":"-"},99999,null,null,null,null,null,null,null,null,null,null,null,null,{"$f":"\"Results!i4:i\"&AJ9+4","v":"Results!i4:i4"}]
[10,82,0,28,43,"Francis Williams","",{"$f":"IF($B13>0,OFFSET(Entries!$C$2,Results!$N13,7),\"\")","v":"MS"},{"$f":"PROPER(IF($B13>0,club(OFFSET(Entries!$I$2,Results!$N13,0)),\"\"))","v":"Unattached"},{"$f":"nLocal(OFFSET(Entries!$C$2,Results!$N13,5),H13)","v":""},{"$f":"PROPER(OFFSET(Entries!$C$2,Results!$N13,0))","v":"Francis Williams"},"M",null,{"$f":"MATCH($B13,Entries!$A$3:$A$1001,0)","v":83},0,{"$f":"IF(ISERROR(OFFSET(Results!$B$3,MATCH(Entries!A12,Results!B$4:B310,0),0)),Entries!A12,0)","v":0},null,"-",1000,{"$f":"IF(ISERROR(MATCH(R13,R$3:R12,0)),R13,\"-\")","v":"-"},{"$f":"IF(ISERROR(MATCH(S13,S$3:S12,0)),S13,\"-\")","v":"-"},99999,"-",1000,{"$f":"IF(ISERROR(MATCH(W13,W$3:W12,0)),W13,\"-\")","v":"-"},99999,null,null,null,null,null,null,null,null,null,null,null,null,null,null,null,null,{"$f":"SUM(AE16:AE41)","v":1338}]
[11,108,0,28,50,"","Chris Bannister",{"$f":"IF($B14>0,OFFSET(Entries!$C$2,Results!$N14,7),\"\")","v":"MV45"},{"$f":"PROPER(IF($B14>0,club(OFFSET(Entries!$I$2,Results!$N14,0)),\"\"))","v":"Sheffield Tri Club"},{"$f":"nLocal(OFFSET(Entries!$C$2,Results!$N14,5),H14)","v":""},{"$f":"PROPER(OFFSET(Entries!$C$2,Results!$N14,0))","v":"Chris Bannister"},"MV",null,{"$f":"MATCH($B14,Entries!$A$3:$A$1001,0)","v":109},"45",{"$f":"IF(ISERROR(OFFSET(Results!$B$3,MATCH(Entries!A13,Results!B$4:B311,0),0)),Entries!A13,0)","v":0},null,"Sheffield Tri Club",11,{"$f":"IF(ISERROR(MATCH(R14,R$3:R13,0)),R14,\"-\")","v":"Sheffield Tri Club"},{"$f":"IF(ISERROR(MATCH(S14,S$3:S13,0)),S14,\"-\")","v":11},11,"-",1000,{"$f":"IF(ISERROR(MATCH(W14,W$3:W13,0)),W14,\"-\")","v":"-"},99999,null,null,null,null,null,null,null,{"$f":"COUNTIF(AH16:AH43,\">\"\"\")","v":8},null,null,{"$f":"COUNTIF(AE16:AE120,\">2\")","v":9},{"$f":"SUM(AL16:AL501)","v":454},null,null,null,null,"Team Points",null,"Female Teams",null,null,null,null,null,{"$f":"SUM(AX16:AX23)","v":25},null,null,null,null,"V40 Teams",null,null,null,null,null,{"$f":"SUM(BI16:BI23)","v":743}]
[12,29,0,28,56,"","Andrew Davies",{"$f":"IF($B15>0,OFFSET(Entries!$C$2,Results!$N15,7),\"\")","v":"MV45"},{"$f":"PROPER(IF($B15>0,club(OFFSET(Entries!$I$2,Results!$N15,0)),\"\"))","v":"Steel City Striders"},{"$f":"nLocal(OFFSET(Entries!$C$2,Results!$N15,5),H15)","v":""},{"$f":"PROPER(OFFSET(Entries!$C$2,Results!$N15,0))","v":"Andrew Davies"},"MV",null,{"$f":"MATCH($B15,Entries!$A$3:$A$1001,0)","v":30},"45",{"$f":"IF(ISERROR(OFFSET(Results!$B$3,MATCH(Entries!A14,Results!B$4:B312,0),0)),Entries!A14,0)","v":0},null,"Steel City Striders",12,{"$f":"IF(ISERROR(MATCH(R15,R$3:R14,0)),R15,\"-\")","v":"Steel City Striders"},{"$f":"IF(ISERROR(MATCH(S15,S$3:S14,0)),S15,\"-\")","v":12},12,"-",1000,{"$f":"IF(ISERROR(MATCH(W15,W$3:W14,0)),W15,\"-\")","v":"-"},99999,null,null,null,null,"No. Finnishers","Name",null,null,null,null,null,"No. Finnishers","1st","2nd","3rd","4th",null,null,"List","1st","2nd","3rd","4th","No finishers","Team points","In order",null,null,null,"List","1st","2nd","3rd","4th","No finishers","Team points","In order"]
[13,74,0,29,23,"Alasdair Menmuir","",{"$f":"IF($B16>0,OFFSET(Entries!$C$2,Results!$N16,7),\"\")","v":"MS"},{"$f":"PROPER(IF($B16>0,club(OFFSET(Entries!$I$2,Results!$N16,0)),\"\"))","v":"Steel City Striders"},{"$f":"nLocal(OFFSET(Entries!$C$2,Results!$N16,5),H16)","v":""},{"$f":"PROPER(OFFSET(Entries!$C$2,Results!$N16,0))","v":"Alasdair Menmuir"},"M",null,{"$f":"MATCH($B16,Entries!$A$3:$A$1001,0)","v":75},0,{"$f":"IF(ISERROR(OFFSET(Results!$B$3,MATCH(Entries!A15,Results!B$4:B313,0),0)),Entries!A15,0)","v":0},null,"-",1000,{"$f":"IF(ISERROR(MATCH(R16,R$3:R15,0)),R16,\"-\")","v":"-"},{"$f":"IF(ISERROR(MATCH(S16,S$3:S15,0)),S16,\"-\")","v":"-"},99999,"-",1000,{"$f":"IF(ISERROR(MATCH(W16,W$3:W15,0)),W16,\"-\")","v":"-"},99999,null,null,null,null,{"$f":"COUNTIF($I$3:L$500,AF16)","v":0},{"$f":"Entries!Z4","v":"U/A"},{"$f":"IF(AE16>2,ROW(),1000)","v":1000},{"$f":"OFFSET(AG$15,SMALL(AG$16:AG$500,ROW(D1))-15,-1)","v":"Steel City Striders"},null,null,null,{"$f":"COUNTIF(I$3:I$500,AH16)","v":19},{"$f":"SMALL(IF(($I$4:$I$500=$AH16),Results!$A$4:$A$500),COLUMN(A1))","v":9},{"$f":"SMALL(IF(($I$4:$I$500=$AH16),Results!$A$4:$A$500),COLUMN(B1))","v":12},{"$f":"SMALL(IF(($I$4:$I$500=$AH16),Results!$A$4:$A$500),COLUMN(C1))","v":13},{"$f":"SMALL(IF(($I$4:$I$500=$AH16),Results!$A$4:$A$500),COLUMN(D1))","v":15},{"$f":"Team(AM16,AN16,AO16,$AQ$13)","v":34.009},null,{"$f":"OFFSET(Z$3,SMALL(Z$4:Z300,ROW(A1)),-1)","v":"Pennine Fell Racers"},{"$f":"SMALL(IF(($W$4:$W$300=$AS16),$X$4:$X$300),COLUMN(A1))","v":19},{"$f":"SMALL(IF(($W$4:$W$300=$AS16),$X$4:$X$300),COLUMN(B1))","v":77},{"$f":"SMALL(IF(($W$4:$W$300=$AS16),$X$4:$X$300),COLUMN(C1))","v":{"$error":"#NUM!"}},{"$f":"SMALL(IF(($W$4:$W$300=$AS16),$X$4:$X$300),COLUMN(D1))","v":{"$error":"#NUM!"}},{"$f":"COUNTIF(W$4:W$300,AS16)","v":2},{"$f":"Team(AT16,AU16,AV16,$AY$14)","v":"-"},{"$f":"SMALL(AY$16:AY300,ROW(A1))","v":186.05600000000001},{"$f":"OFFSET(AS15,MATCH(AZ16,AY16:AY48,0),0)","v":"Totley Ac"},null,null,{"$f":"OFFSET(T$3,SMALL(V$4:V300,ROW(A1)),0)","v":"-"},{"$f":"SMALL(IF(($R$4:$R$300=$BD16),$S$4:$S$300),COLUMN(A1))","v":1000},{"$f":"SMALL(IF(($R$4:$R$300=$BD16),$S$4:$S$300),COLUMN(B1))","v":1000},{"$f":"SMALL(IF(($R$4:$R$300=$BD16),$S$4:$S$300),COLUMN(C1))","v":1000},{"$f":"SMALL(IF(($R$4:$R$300=$BD16),$S$4:$S$300),COLUMN(D1))","v":1000},{"$f":"COUNTIF(R$4:R$300,BD16)","v":234},{"$f":"Team(BE16,BF16,BG16,$BJ$14)","v":3001},{"$f":"SMALL(BJ$16:BJ50,ROW(A1))","v":46.006},{"$f":"OFFSET(BD15,MATCH(BK16,BJ16:BJ48,0),0)","v":"Dark Peak"}]
[14,92,0,29,33,"","Bob Johnson",{"$f":"IF($B17>0,OFFSET(Entries!$C$2,Results!$N17,7),\"\")","v":"MV40"},{"$f":"PROPER(IF($B17>0,club(OFFSET(Entries!$I$2,Results!$N17,0)),\"\"))","v":"Dark Peak"},{"$f":"nLocal(OFFSET(Entries!$C$2,Results!$N17,5),H17)","v":""},{"$f":"PROPER(OFFSET(Entries!$C$2,Results!$N17,0))","v":"Bob Johnson"},"M",null,{"$f":"MATCH($B17,Entries!$A$3:$A$1001,0)","v":93},"40",{"$f":"IF(ISERROR(OFFSET(Results!$B$3,MATCH(Entries!A16,Results!B$4:B314,0),0)),Entries!A16,0)","v":0},null,"Dark Peak",14,{"$f":"IF(ISERROR(MATCH(R17,R$3:R16,0)),R17,\"-\")","v":"-"},{"$f":"IF(ISERROR(MATCH(S17,S$3:S16,0)),S17,\"-\")","v":14},14,"-",1000,{"$f":"IF(ISERROR(MATCH(W17,W$3:W16,0)),W17,\"-\")","v":"-"},99999,null,null,null,null,{"$f":"COUNTIF($I$3:L$500,AF17)","v":19},{"$f":"Entries!Z5","v":"Steel City Striders"},{"$f":"IF(AE17>2,ROW(),1000)","v":17},{"$f":"OFFSET(AG$15,SMALL(AG$16:AG$500,ROW(E2))-15,-1)","v":"Dark Peak"},null,null,null,{"$f":"COUNTIF(I$3:I$500,AH17)","v":10},{"$f":"SMALL(IF(($I$4:$I$500=$AH17),Results!$A$4:$A$500),COLUMN(A2))","v":1},{"$f":"SMALL(IF(($I$4:$I$500=$AH17),Results!$A$4:$A$500),COLUMN(B2))","v":6},{"$f":"SMALL(IF(($I$4:$I$500=$AH17),Results!$A$4:$A$500),COLUMN(C2))","v":14},{"$f":"SMALL(IF(($I$4:$I$500=$AH17),Results!$A$4:$A$500),COLUMN(D2))","v":17},{"$f":"Team(AM17,AN17,AO17,$AQ$13)","v":21.001000000000001},null,{"$f":"OFFSET(Z$3,SMALL(Z$4:Z301,ROW(A2)),-1)","v":"Handsworth Road Hogs"},{"$f":"SMALL(IF(($W$4:$W$300=$AS17),$X$4:$X$300),COLUMN(A2))","v":42},{"$f":"SMALL(IF(($W$4:$W$300=$AS17),$X$4:$X$300),COLUMN(B2))","v":{"$error":"#NUM!"}},{"$f":"SMALL(IF(($W$4:$W$300=$AS17),$X$4:$X$300),COLUMN(C2))","v":{"$error":"#NUM!"}},{"$f":"SMALL(IF(($W$4:$W$300=$AS17),$X$4:$X$300),COLUMN(D2))","v":{"$error":"#NUM!"}},{"$f":"COUNTIF(W$4:W$300,AS17)","v":1},{"$f":"Team(AT17,AU17,AV17,$AY$14)","v":"-"},{"$f":"SMALL(AY$16:AY301,ROW(A2))","v":251.07599999999999},{"$f":"OFFSET(AS16,MATCH(AZ17,AY17:AY49,0),0)","v":"Steel City Striders"},null,null,{"$f":"OFFSET(T$3,SMALL(V$4:V301,ROW(A2)),0)","v":"Dark Peak"},{"$f":"SMALL(IF(($R$4:$R$300=$BD17),$S$4:$S$300),COLUMN(A2))","v":6},{"$f":"SMALL(IF(($R$4:$R$300=$BD17),$S$4:$S$300),COLUMN(B2))","v":14},{"$f":"SMALL(IF(($R$4:$R$300=$BD17),$S$4:$S$300),COLUMN(C2))","v":26},{"$f":"SMALL(IF(($R$4:$R$300=$BD17),$S$4:$S$300),COLUMN(D2))","v":43},{"$f":"COUNTIF(R$4:R$300,BD17)","v":8},{"$f":"Team(BE17,BF17,BG17,$BJ$14)","v":46.006},{"$f":"SMALL(BJ$16:BJ51,ROW(A2))","v":52.012},{"$f":"OFFSET(BD16,MATCH(BK17,BJ17:BJ49,0),0)","v":"Steel City Striders"}]
[15,90,0,29,37,"","Paul V Stuart",{"$f":"IF($B18>0,OFFSET(Entries!$C$2,Results!$N18,7),\"\")","v":"MV45"},{"$f":"PROPER(IF($B18>0,club(OFFSET(Entries!$I$2,Results!$N18,0)),\"\"))","v":"Steel City Striders"},{"$f":"nLocal(OFFSET(Entries!$C$2,Results!$N18,5),H18)","v":""},{"$f":"PROPER(OFFSET(Entries!$C$2,Results!$N18,0))","v":"Paul V Stuart"},"MV",null,{"$f":"MATCH($B18,Entries!$A$3:$A$1001,0)","v":91},"45",{"$f":"IF(ISERROR(OFFSET(Results!$B$3,MATCH(Entries!A17,Results!B$4:B315,0),0)),Entries!A17,0)","v":0},null,"Steel City Striders",15,{"$f":"IF(ISERROR(MATCH(R18,R$3:R17,0)),R18,\"-\")","v":"-"},{"$f":"IF(ISERROR(MATCH(S18,S$3:S17,0)),S18,\"-\")","v":15},15,"-",1000,{"$f":"IF(ISERROR(MATCH(W18,W$3:W17,0)),W18,\"-\")","v":"-"},99999,null,null,null,null,{"$f":"COUNTIF($I$3:L$500,AF18)","v":10},{"$f":"Entries!Z6","v":"Dark Peak"},18,"Tideswell Rc",null,null,null,8,{"$f":"SMALL(IF(($I$4:$I$500=$AH18),Results!$A$4:$A$500),COLUMN(A3))","v":23},{"$f":"SMALL(IF(($I$4:$I$500=$AH18),Results!$A$4:$A$500),COLUMN(B3))","v":31},{"$f":"SMALL(IF(($I$4:$I$500=$AH18),Results!$A$4:$A$500),COLUMN(C3))","v":54},{"$f":"SMALL(IF(($I$4:$I$500=$AH18),Results!$A$4:$A$500),COLUMN(D3))","v":80},108.023,null,{"$f":"OFFSET(Z$3,SMALL(Z$4:Z302,ROW(A3)),-1)","v":"Totley Ac"},{"$f":"SMALL(IF(($W$4:$W$300=$AS18),$X$4:$X$300),COLUMN(A3))","v":56},{"$f":"SMALL(IF(($W$4:$W$300=$AS18),$X$4:$X$300),COLUMN(B3))","v":61},{"$f":"SMALL(IF(($W$4:$W$300=$AS18),$X$4:$X$300),COLUMN(C3))","v":69},{"$f":"SMALL(IF(($W$4:$W$300=$AS18),$X$4:$X$300),COLUMN(D3))","v":81},9,186.05600000000001,{"$f":"SMALL(AY$16:AY302,ROW(A3))","v":279.08199999999999},"Unattached",null,null,{"$f":"OFFSET(T$3,SMALL(V$4:V302,ROW(A3)),0)","v":"Sheffield Tri Club"},{"$f":"SMALL(IF(($R$4:$R$300=$BD18),$S$4:$S$300),COLUMN(A3))","v":11},{"$f":"SMALL(IF(($R$4:$R$300=$BD18),$S$4:$S$300),COLUMN(B3))","v":29},{"$f":"SMALL(IF(($R$4:$R$300=$BD18),$S$4:$S$300),COLUMN(C3))","v":{"$error":"#NUM!"}},{"$f":"SMALL(IF(($R$4:$R$300=$BD18),$S$4:$S$300),COLUMN(D3))","v":{"$error":"#NUM!"}},2,"-",{"$f":"SMALL(BJ$16:BJ52,ROW(A3))","v":69.018000000000001},"Unattached"]
[16,41,0,29,45,"Philip Morris","",{"$f":"IF($B19>0,OFFSET(Entries!$C$2,Results!$N19,7),\"\")","v":"MS"},{"$f":"PROPER(IF($B19>0,club(OFFSET(Entries!$I$2,Results!$N19,0)),\"\"))","v":"Handsworth Road Hogs"},{"$f":"nLocal(OFFSET(Entries!$C$2,Results!$N19,5),H19)","v":""},{"$f":"PROPER(OFFSET(Entries!$C$2,Results!$N19,0))","v":"Philip Morris"},"M",null,{"$f":"MATCH($B19,Entries!$A$3:$A$1001,0)","v":42},0,{"$f":"IF(ISERROR(OFFSET(Results!$B$3,MATCH(Entries!A18,Results!B$4:B316,0),0)),Entries!A18,0)","v":0},null,"-",1000,{"$f":"IF(ISERROR(MATCH(R19,R$3:R18,0)),R19,\"-\")","v":"-"},{"$f":"IF(ISERROR(MATCH(S19,S$3:S18,0)),S19,\"-\")","v":"-"},99999,"-",1000,{"$f":"IF(ISERROR(MATCH(W19,W$3:W18,0)),W19,\"-\")","v":"-"},99999,null,null,null,null,{"$f":"COUNTIF($I$3:L$500,AF19)","v":8},{"$f":"Entries!Z7","v":"Tideswell Rc"},19,"Totley Ac",null,null,null,14,{"$f":"SMALL(IF(($I$4:$I$500=$AH19),Results!$A$4:$A$500),COLUMN(A4))","v":3},{"$f":"SMALL(IF(($I$4:$I$500=$AH19),Results!$A$4:$A$500),COLUMN(B4))","v":5},{"$f":"SMALL(IF(($I$4:$I$500=$AH19),Results!$A$4:$A$500),COLUMN(C4))","v":32},{"$f":"SMALL(IF(($I$4:$I$500=$AH19),Results!$A$4:$A$500),COLUMN(D4))","v":47},40.003,null,{"$f":"OFFSET(Z$3,SMALL(Z$4:Z303,ROW(A4)),-1)","v":"Buxton Ac"},{"$f":"SMALL(IF(($W$4:$W$300=$AS19),$X$4:$X$300),COLUMN(A4))","v":65},{"$f":"SMALL(IF(($W$4:$W$300=$AS19),$X$4:$X$300),COLUMN(B4))","v":{"$error":"#NUM!"}},{"$f":"SMALL(IF(($W$4:$W$300=$AS19),$X$4:$X$300),COLUMN(C4))","v":{"$error":"#NUM!"}},{"$f":"SMALL(IF(($W$4:$W$300=$AS19),$X$4:$X$300),COLUMN(D4))","v":{"$error":"#NUM!"}},1,"-",{"$f":"SMALL(AY$16:AY303,ROW(A4))","v":{"$error":"#NUM!"}},null,null,null,{"$f":"OFFSET(T$3,SMALL(V$4:V303,ROW(A4)),0)","v":"Steel City Striders"},{"$f":"SMALL(IF(($R$4:$R$300=$BD19),$S$4:$S$300),COLUMN(A4))","v":12},{"$f":"SMALL(IF(($R$4:$R$300=$BD19),$S$4:$S$300),COLUMN(B4))","v":15},{"$f":"SMALL(IF(($R$4:$R$300=$BD19),$S$4:$S$300),COLUMN(C4))","v":25},{"$f":"SMALL(IF(($R$4:$R$300=$BD19),$S$4:$S$300),COLUMN(D4))","v":44},9,52.012]
[17,14,0,29,53,"Peter Stenton","",{"$f":"IF($B20>0,OFFSET(Entries!$C$2,Results!$N20,7),\"\")","v":"MS"},{"$f":"PROPER(IF($B20>0,club(OFFSET(Entries!$I$2,Results!$N20,0)),\"\"))","v":"Dark Peak"},{"$f":"nLocal(OFFSET(Entries!$C$2,Results!$N20,5),H20)","v":""},{"$f":"PROPER(OFFSET(Entries!$C$2,Results!$N20,0))","v":"Peter Stenton"},"M",null,{"$f":"MATCH($B20,Entries!$A$3:$A$1001,0)","v":15},0,{"$f":"IF(ISERROR(OFFSET(Results!$B$3,MATCH(Entries!A19,Results!B$4:B317,0),0)),Entries!A19,0)","v":0},null,"-",1000,{"$f":"IF(ISERROR(MATCH(R20,R$3:R19,0)),R20,\"-\")","v":"-"},{"$f":"IF(ISERROR(MATCH(S20,S$3:S19,0)),S20,\"-\")","v":"-"},99999,"-",1000,{"$f":"IF(ISERROR(MATCH(W20,W$3:W19,0)),W20,\"-\")","v":"-"},99999,null,null,null,null,{"$f":"COUNTIF($I$3:L$500,AF20)","v":14},{"$f":"Entries!Z8","v":"Totley Ac"},{"$f":"IF(AE20>2,ROW(),1000)","v":20},{"$f":"OFFSET(AG$15,SMALL(AG$16:AG$500,ROW(E5))-15,-1)","v":""},null,null,null,{"$f":"COUNTIF(I$3:I$500,AH20)","v":386},{"$f":"SMALL(IF(($I$4:$I$500=$AH20),Results!$A$4:$A$500),COLUMN(A5))","v":0},{"$f":"SMALL(IF(($I$4:$I$500=$AH20),Results!$A$4:$A$500),COLUMN(B5))","v":0},{"$f":"SMALL(IF(($I$4:$I$500=$AH20),Results!$A$4:$A$500),COLUMN(C5))","v":0},{"$f":"SMALL(IF(($I$4:$I$500=$AH20),Results!$A$4:$A$500),COLUMN(D5))","v":0},{"$f":"Team(AM20,AN20,AO20,$AQ$13)","v":12046.013999999999},null,{"$f":"OFFSET(Z$3,SMALL(Z$4:Z304,ROW(A5)),-1)","v":"Steel City Striders"},{"$f":"SMALL(IF(($W$4:$W$300=$AS20),$X$4:$X$300),COLUMN(A5))","v":76},{"$f":"SMALL(IF(($W$4:$W$300=$AS20),$X$4:$X$300),COLUMN(B5))","v":87},{"$f":"SMALL(IF(($W$4:$W$300=$AS20),$X$4:$X$300),COLUMN(C5))","v":88},{"$f":"SMALL(IF(($W$4:$W$300=$AS20),$X$4:$X$300),COLUMN(D5))","v":92},5,251.07599999999999,{"$f":"SMALL(AY$16:AY304,ROW(A5))","v":{"$error":"#NUM!"}},null,null,null,{"$f":"OFFSET(T$3,SMALL(V$4:V304,ROW(A5)),0)","v":"-"},{"$f":"SMALL(IF(($R$4:$R$300=$BD20),$S$4:$S$300),COLUMN(A5))","v":1000},{"$f":"SMALL(IF(($R$4:$R$300=$BD20),$S$4:$S$300),COLUMN(B5))","v":1000},{"$f":"SMALL(IF(($R$4:$R$300=$BD20),$S$4:$S$300),COLUMN(C5))","v":1000},{"$f":"SMALL(IF(($R$4:$R$300=$BD20),$S$4:$S$300),COLUMN(D5))","v":1000},234,3001]
[18,13,0,30,0,"","Mark Elwis",{"$f":"IF($B21>0,OFFSET(Entries!$C$2,Results!$N21,7),\"\")","v":"MV50"},{"$f":"PROPER(IF($B21>0,club(OFFSET(Entries!$I$2,Results!$N21,0)),\"\"))","v":"Unattached"},{"$f":"nLocal(OFFSET(Entries!$C$2,Results!$N21,5),H21)","v":""},{"$f":"PROPER(OFFSET(Entries!$C$2,Results!$N21,0))","v":"Mark Elwis"},"MVD",null,{"$f":"MATCH($B21,Entries!$A$3:$A$1001,0)","v":14},"50",{"$f":"IF(ISERROR(OFFSET(Results!$B$3,MATCH(Entries!A20,Results!B$4:B318,0),0)),Entries!A20,0)","v":0},null,"Unattached",18,{"$f":"IF(ISERROR(MATCH(R21,R$3:R20,0)),R21,\"-\")","v":"Unattached"},{"$f":"IF(ISERROR(MATCH(S21,S$3:S20,0)),S21,\"-\")","v":18},18,"-",1000,{"$f":"IF(ISERROR(MATCH(W21,W$3:W20,0)),W21,\"-\")","v":"-"},99999,null,null,null,null,{"$f":"COUNTIF($I$3:L$500,AF21)","v":1255},{"$f":"Entries!Z9","v":""},21,"Taylored Running Group",null,null,null,3,{"$f":"SMALL(IF(($I$4:$I$500=$AH21),Results!$A$4:$A$500),COLUMN(A6))","v":4},{"$f":"SMALL(IF(($I$4:$I$500=$AH21),Results!$A$4:$A$500),COLUMN(B6))","v":86},{"$f":"SMALL(IF(($I$4:$I$500=$AH21),Results!$A$4:$A$500),COLUMN(C6))","v":96},{"$f":"SMALL(IF(($I$4:$I$500=$AH21),Results!$A$4:$A$500),COLUMN(D6))","v":{"$error":"#NUM!"}},186.00399999999999,null,{"$f":"OFFSET(Z$3,SMALL(Z$4:Z305,ROW(A6)),-1)","v":"Fatboys Rc"},{"$f":"SMALL(IF(($W$4:$W$300=$AS21),$X$4:$X$300),COLUMN(A6))","v":78},{"$f":"SMALL(IF(($W$4:$W$300=$AS21),$X$4:$X$300),COLUMN(B6))","v":{"$error":"#NUM!"}},{"$f":"SMALL(IF(($W$4:$W$300=$AS21),$X$4:$X$300),COLUMN(C6))","v":{"$error":"#NUM!"}},{"$f":"SMALL(IF(($W$4:$W$300=$AS21),$X$4:$X$300),COLUMN(D6))","v":{"$error":"#NUM!"}},1,"-",{"$f":"SMALL(AY$16:AY305,ROW(A6))","v":{"$error":"#NUM!"}},null,null,null,{"$f":"OFFSET(T$3,SMALL(V$4:V305,ROW(A6)),0)","v":"-"},{"$f":"SMALL(IF(($R$4:$R$300=$BD21),$S$4:$S$300),COLUMN(A6))","v":1000},{"$f":"SMALL(IF(($R$4:$R$300=$BD21),$S$4:$S$300),COLUMN(B6))","v":1000},{"$f":"SMALL(IF(($R$4:$R$300=$BD21),$S$4:$S$300),COLUMN(C6))","v":1000},{"$f":"SMALL(IF(($R$4:$R$300=$BD21),$S$4:$S$300),COLUMN(D6))","v":1000},234,3001]
[19,94,0,30,15,"Zoe Procter","",{"$f":"IF($B22>0,OFFSET(Entries!$C$2,Results!$N22,7),\"\")","v":"FS"},{"$f":"PROPER(IF($B22>0,club(OFFSET(Entries!$I$2,Results!$N22,0)),\"\"))","v":"Pennine Fell Racers"},{"$f":"nLocal(OFFSET(Entries!$C$2,Results!$N22,5),H22)","v":"FB"},{"$f":"PROPER(OFFSET(Entries!$C$2,Results!$N22,0))","v":"Zoe Procter"},"F",null,{"$f":"MATCH($B22,Entries!$A$3:$A$1001,0)","v":95},0,{"$f":"IF(ISERROR(OFFSET(Results!$B$3,MATCH(Entries!A21,Results!B$4:B319,0),0)),Entries!A21,0)","v":0},null,"-",1000,{"$f":"IF(ISERROR(MATCH(R22,R$3:R21,0)),R22,\"-\")","v":"-"},{"$f":"IF(ISERROR(MATCH(S22,S$3:S21,0)),S22,\"-\")","v":"-"},99999,"Pennine Fell Racers",19,{"$f":"IF(ISERROR(MATCH(W22,W$3:W21,0)),W22,\"-\")","v":"Pennine Fell Racers"},19,null,null,null,null,{"$f":"COUNTIF($I$3:L$500,AF22)","v":1},{"$f":"Entries!Z10","v":"Penistone Footpath Runners"},1000,"Buxton Ac",null,null,null,6,{"$f":"SMALL(IF(($I$4:$I$500=$AH22),Results!$A$4:$A$500),COLUMN(A7))","v":20},{"$f":"SMALL(IF(($I$4:$I$500=$AH22),Results!$A$4:$A$500),COLUMN(B7))","v":27},{"$f":"SMALL(IF(($I$4:$I$500=$AH22),Results!$A$4:$A$500),COLUMN(C7))","v":34},{"$f":"SMALL(IF(($I$4:$I$500=$AH22),Results!$A$4:$A$500),COLUMN(D7))","v":40},81.02,null,{"$f":"OFFSET(Z$3,SMALL(Z$4:Z306,ROW(A7)),-1)","v":"Unattached"},{"$f":"SMALL(IF(($W$4:$W$300=$AS22),$X$4:$X$300),COLUMN(A7))","v":82},{"$f":"SMALL(IF(($W$4:$W$300=$AS22),$X$4:$X$300),COLUMN(B7))","v":95},{"$f":"SMALL(IF(($W$4:$W$300=$AS22),$X$4:$X$300),COLUMN(C7))","v":102},{"$f":"SMALL(IF(($W$4:$W$300=$AS22),$X$4:$X$300),COLUMN(D7))","v":111},4,279.08199999999999,{"$f":"SMALL(AY$16:AY306,ROW(A7))","v":{"$error":"#NUM!"}},null,null,null,{"$f":"OFFSET(T$3,SMALL(V$4:V306,ROW(A7)),0)","v":"Unattached"},{"$f":"SMALL(IF(($R$4:$R$300=$BD22),$S$4:$S$300),COLUMN(A7))","v":18},{"$f":"SMALL(IF(($R$4:$R$300=$BD22),$S$4:$S$300),COLUMN(B7))","v":21},{"$f":"SMALL(IF(($R$4:$R$300=$BD22),$S$4:$S$300),COLUMN(C7))","v":30},{"$f":"SMALL(IF(($R$4:$R$300=$BD22),$S$4:$S$300),COLUMN(D7))","v":36},16,69.018000000000001]
[20,24,0,30,35,"","Mark Quince",{"$f":"IF($B23>0,OFFSET(Entries!$C$2,Results!$N23,7),\"\")","v":"MV45"},{"$f":"PROPER(IF($B23>0,club(OFFSET(Entries!$I$2,Results!$N23,0)),\"\"))","v":"Buxton Ac"},{"$f":"nLocal(OFFSET(Entries!$C$2,Results!$N23,5),H23)","v":""},{"$f":"PROPER(OFFSET(Entries!$C$2,Results!$N23,0))","v":"Mark Quince"},"MV",null,{"$f":"MATCH($B23,Entries!$A$3:$A$1001,0)","v":25},"45",{"$f":"IF(ISERROR(OFFSET(Results!$B$3,MATCH(Entries!A22,Results!B$4:B320,0),0)),Entries!A22,0)","v":0},null,"Buxton Ac",20,{"$f":"IF(ISERROR(MATCH(R23,R$3:R22,0)),R23,\"-\")","v":"Buxton Ac"},{"$f":"IF(ISERROR(MATCH(S23,S$3:S22,0)),S23,\"-\")","v":20},20,"-",1000,{"$f":"IF(ISERROR(MATCH(W23,W$3:W22,0)),W23,\"-\")","v":"-"},99999,null,null,null,null,{"$f":"COUNTIF($I$3:L$500,AF23)","v":3},{"$f":"Entries!Z11","v":"Taylored Running Group"},23,"Handsworth Road Hogs",null,null,null,4,{"$f":"SMALL(IF(($I$4:$I$500=$AH23),Results!$A$4:$A$500),COLUMN(A8))","v":16},{"$f":"SMALL(IF(($I$4:$I$500=$AH23),Results!$A$4:$A$500),COLUMN(B8))","v":24},{"$f":"SMALL(IF(($I$4:$I$500=$AH23),Results!$A$4:$A$500),COLUMN(C8))","v":39},{"$f":"SMALL(IF(($I$4:$I$500=$AH23),Results!$A$4:$A$500),COLUMN(D8))","v":42},79.016000000000005,null,{"$f":"OFFSET(Z$3,SMALL(Z$4:Z307,ROW(A8)),-1)","v":"Taylored Running Group"},{"$f":"SMALL(IF(($W$4:$W$300=$AS23),$X$4:$X$300),COLUMN(A8))","v":86},{"$f":"SMALL(IF(($W$4:$W$300=$AS23),$X$4:$X$300),COLUMN(B8))","v":96},{"$f":"SMALL(IF(($W$4:$W$300=$AS23),$X$4:$X$300),COLUMN(C8))","v":{"$error":"#NUM!"}},{"$f":"SMALL(IF(($W$4:$W$300=$AS23),$X$4:$X$300),COLUMN(D8))","v":{"$error":"#NUM!"}},2,"-",{"$f":"SMALL(AY$16:AY307,ROW(A8))","v":{"$error":"#NUM!"}},null,null,null,{"$f":"OFFSET(T$3,SMALL(V$4:V307,ROW(A8)),0)","v":"Buxton Ac"},{"$f":"SMALL(IF(($R$4:$R$300=$BD23),$S$4:$S$300),COLUMN(A8))","v":20},{"$f":"SMALL(IF(($R$4:$R$300=$BD23),$S$4:$S$300),COLUMN(B8))","v":27},{"$f":"SMALL(IF(($R$4:$R$300=$BD23),$S$4:$S$300),COLUMN(C8))","v":34},{"$f":"SMALL(IF(($R$4:$R$300=$BD23),$S$4:$S$300),COLUMN(D8))","v":40},6,81.02]
[21,69,0,30,46,"","Steve Larkin",{"$f":"IF($B24>0,OFFSET(Entries!$C$2,Results!$N24,7),\"\")","v":"MV40"},{"$f":"PROPER(IF($B24>0,club(OFFSET(Entries!$I$2,Results!$N24,0)),\"\"))","v":"Unattached"},{"$f":"nLocal(OFFSET(Entries!$C$2,Results!$N24,5),H24)","v":""},{"$f":"PROPER(OFFSET(Entries!$C$2,Results!$N24,0))","v":"Steve Larkin"},"M",null,{"$f":"MATCH($B24,Entries!$A$3:$A$1001,0)","v":70},"40",{"$f":"IF(ISERROR(OFFSET(Results!$B$3,MATCH(Entries!A23,Results!B$4:B321,0),0)),Entries!A23,0)","v":0},null,"Unattached",21,{"$f":"IF(ISERROR(MATCH(R24,R$3:R23,0)),R24,\"-\")","v":"-"},{"$f":"IF(ISERROR(MATCH(S24,S$3:S23,0)),S24,\"-\")","v":21},21,"-",1000,{"$f":"IF(ISERROR(MATCH(W24,W$3:W23,0)),W24,\"-\")","v":"-"},99999,null,null,null,null,{"$f":"COUNTIF($I$3:L$500,AF24)","v":6},{"$f":"Entries!Z12","v":"Buxton Ac"},24,"Fatboys Rc",null,null,null,4,{"$f":"SMALL(IF(($I$4:$I$500=$AH24),Results!$A$4:$A$500),COLUMN(A9))","v":7},{"$f":"SMALL(IF(($I$4:$I$500=$AH24),Results!$A$4:$A$500),COLUMN(B9))","v":28},{"$f":"SMALL(IF(($I$4:$I$500=$AH24),Results!$A$4:$A$500),COLUMN(C9))","v":78},{"$f":"SMALL(IF(($I$4:$I$500=$AH24),Results!$A$4:$A$500),COLUMN(D9))","v":85},113.00700000000001,null,{"$f":"OFFSET(Z$3,SMALL(Z$4:Z308,ROW(A9)),-1)","v":"Dark Peak"},{"$f":"SMALL(IF(($W$4:$W$300=$AS24),$X$4:$X$300),COLUMN(A9))","v":94},{"$f":"SMALL(IF(($W$4:$W$300=$AS24),$X$4:$X$300),COLUMN(B9))","v":{"$error":"#NUM!"}},{"$f":"SMALL(IF(($W$4:$W$300=$AS24),$X$4:$X$300),COLUMN(C9))","v":{"$error":"#NUM!"}},{"$f":"SMALL(IF(($W$4:$W$300=$AS24),$X$4:$X$300),COLUMN(D9))","v":{"$error":"#NUM!"}},1,"-",{"$f":"SMALL(AY$16:AY308,ROW(A9))","v":{"$error":"#NUM!"}},null,null,null,{"$f":"OFFSET(T$3,SMALL(V$4:V308,ROW(A9)),0)","v":"-"},{"$f":"SMALL(IF(($R$4:$R$300=$BD24),$S$4:$S$300),COLUMN(A9))","v":1000},{"$f":"SMALL(IF(($R$4:$R$300=$BD24),$S$4:$S$300),COLUMN(B9))","v":1000},{"$f":"SMALL(IF(($R$4:$R$300=$BD24),$S$4:$S$300),COLUMN(C9))","v":1000},{"$f":"SMALL(IF(($R$4:$R$300=$BD24),$S$4:$S$300),COLUMN(D9))","v":1000},234,3001]
[22,52,0,30,49,"","Allyn Raw",{"$f":"IF($B25>0,OFFSET(Entries!$C$2,Results!$N25,7),\"\")","v":"MV40"},{"$f":"PROPER(IF($B25>0,club(OFFSET(Entries!$I$2,Results!$N25,0)),\"\"))","v":"Heidelberg International School"},{"$f":"nLocal(OFFSET(Entries!$C$2,Results!$N25,5),H25)","v":""},{"$f":"PROPER(OFFSET(Entries!$C$2,Results!$N25,0))","v":"Allyn Raw"},"M",null,{"$f":"MATCH($B25,Entries!$A$3:$A$1001,0)","v":53},"40",{"$f":"IF(ISERROR(OFFSET(Results!$B$3,MATCH(Entries!A24,Results!B$4:B322,0),0)),Entries!A24,0)","v":0},null,"Heidelberg International School",22,{"$f":"IF(ISERROR(MATCH(R25,R$3:R24,0)),R25,\"-\")","v":"Heidelberg International School"},{"$f":"IF(ISERROR(MATCH(S25,S$3:S24,0)),S25,\"-\")","v":22},22,"-",1000,{"$f":"IF(ISERROR(MATCH(W25,W$3:W24,0)),W25,\"-\")","v":"-"},99999,null,null,null,null,{"$f":"COUNTIF($I$3:L$500,AF25)","v":2},{"$f":"Entries!Z13","v":"Pennine Fell Racers"},1000,0,null,null,null,0,{"$f":"SMALL(IF(($I$4:$I$500=$AH25),Results!$A$4:$A$500),COLUMN(A10))","v":0},{"$f":"SMALL(IF(($I$4:$I$500=$AH25),Results!$A$4:$A$500),COLUMN(B10))","v":0},{"$f":"SMALL(IF(($I$4:$I$500=$AH25),Results!$A$4:$A$500),COLUMN(C10))","v":0},{"$f":"SMALL(IF(($I$4:$I$500=$AH25),Results!$A$4:$A$500),COLUMN(D10))","v":0},12046.013999999999,null,{"$f":"OFFSET(Z$3,SMALL(Z$4:Z309,ROW(A10)),-1)","v":"Tideswell Rc"},{"$f":"SMALL(IF(($W$4:$W$300=$AS25),$X$4:$X$300),COLUMN(A10))","v":97},{"$f":"SMALL(IF(($W$4:$W$300=$AS25),$X$4:$X$300),COLUMN(B10))","v":101},{"$f":"SMALL(IF(($W$4:$W$300=$AS25),$X$4:$X$300),COLUMN(C10))","v":{"$error":"#NUM!"}},{"$f":"SMALL(IF(($W$4:$W$300=$AS25),$X$4:$X$300),COLUMN(D10))","v":{"$error":"#NUM!"}},2,"-",{"$f":"SMALL(AY$16:AY309,ROW(A10))","v":{"$error":"#NUM!"}},null,null,null,{"$f":"OFFSET(T$3,SMALL(V$4:V309,ROW(A10)),0)","v":"Heidelberg International School"},{"$f":"SMALL(IF(($R$4:$R$300=$BD25),$S$4:$S$300),COLUMN(A10))","v":22},{"$f":"SMALL(IF(($R$4:$R$300=$BD25),$S$4:$S$300),COLUMN(B10))","v":{"$error":"#NUM!"}},{"$f":"SMALL(IF(($R$4:$R$300=$BD25),$S$4:$S$300),COLUMN(C10))","v":{"$error":"#NUM!"}},{"$f":"SMALL(IF(($R$4:$R$300=$BD25),$S$4:$S$300),COLUMN(D10))","v":{"$error":"#NUM!"}},1,"-"]
[23,44,0,30,51,"Liam Ashton","",{"$f":"IF($B26>0,OFFSET(Entries!$C$2,Results!$N26,7),\"\")","v":"MS"},{"$f":"PROPER(IF($B26>0,club(OFFSET(Entries!$I$2,Results!$N26,0)),\"\"))","v":"Tideswell Rc"},{"$f":"nLocal(OFFSET(Entries!$C$2,Results!$N26,5),H26)","v":""},{"$f":"PROPER(OFFSET(Entries!$C$2,Results!$N26,0))","v":"Liam Ashton"},"M",null,{"$f":"MATCH($B26,Entries!$A$3:$A$1001,0)","v":45},0,{"$f":"IF(ISERROR(OFFSET(Results!$B$3,MATCH(Entries!A25,Results!B$4:B323,0),0)),Entries!A25,0)","v":0},null,"-",1000,{"$f":"IF(ISERROR(MATCH(R26,R$3:R25,0)),R26,\"-\")","v":"-"},{"$f":"IF(ISERROR(MATCH(S26,S$3:S25,0)),S26,\"-\")","v":"-"},99999,"-",1000,{"$f":"IF(ISERROR(MATCH(W26,W$3:W25,0)),W26,\"-\")","v":"-"},99999,null,null,null,null,{"$f":"COUNTIF($I$3:L$500,AF26)","v":1},{"$f":"Entries!Z14","v":"Fra"},1000,0,null,null,null,0,{"$f":"SMALL(IF(($I$4:$I$500=$AH26),Results!$A$4:$A$500),COLUMN(A11))","v":0},{"$f":"SMALL(IF(($I$4:$I$500=$AH26),Results!$A$4:$A$500),COLUMN(B11))","v":0},{"$f":"SMALL(IF(($I$4:$I$500=$AH26),Results!$A$4:$A$500),COLUMN(C11))","v":0},{"$f":"SMALL(IF(($I$4:$I$500=$AH26),Results!$A$4:$A$500),COLUMN(D11))","v":0},12046.013999999999,null,{"$f":"OFFSET(Z$3,SMALL(Z$4:Z310,ROW(A11)),-1)","v":"Goyt Valley Striders"},{"$f":"SMALL(IF(($W$4:$W$300=$AS26),$X$4:$X$300),COLUMN(A11))","v":100},{"$f":"SMALL(IF(($W$4:$W$300=$AS26),$X$4:$X$300),COLUMN(B11))","v":{"$error":"#NUM!"}},{"$f":"SMALL(IF(($W$4:$W$300=$AS26),$X$4:$X$300),COLUMN(C11))","v":{"$error":"#NUM!"}},{"$f":"SMALL(IF(($W$4:$W$300=$AS26),$X$4:$X$300),COLUMN(D11))","v":{"$error":"#NUM!"}},1,"-",{"$f":"SMALL(AY$16:AY310,ROW(A11))","v":{"$error":"#NUM!"}},null,null,null,{"$f":"OFFSET(T$3,SMALL(V$4:V310,ROW(A11)),0)","v":"-"},{"$f":"SMALL(IF(($R$4:$R$300=$BD26),$S$4:$S$300),COLUMN(A11))","v":1000},{"$f":"SMALL(IF(($R$4:$R$300=$BD26),$S$4:$S$300),COLUMN(B11))","v":1000},{"$f":"SMALL(IF(($R$4:$R$300=$BD26),$S$4:$S$300),COLUMN(C11))","v":1000},{"$f":"SMALL(IF(($R$4:$R$300=$BD26),$S$4:$S$300),COLUMN(D11))","v":1000},234,3001]
[24,40,0,31,10,"Nick Morris","",{"$f":"IF($B27>0,OFFSET(Entries!$C$2,Results!$N27,7),\"\")","v":"MS"},{"$f":"PROPER(IF($B27>0,club(OFFSET(Entries!$I$2,Results!$N27,0)),\"\"))","v":"Handsworth Road Hogs"},{"$f":"nLocal(OFFSET(Entries!$C$2,Results!$N27,5),H27)","v":""},{"$f":"PROPER(OFFSET(Entries!$C$2,Results!$N27,0))","v":"Nick Morris"},"M",null,{"$f":"MATCH($B27,Entries!$A$3:$A$1001,0)","v":41},0,{"$f":"IF(ISERROR(OFFSET(Results!$B$3,MATCH(Entries!A26,Results!B$4:B324,0),0)),Entries!A26,0)","v":0},null,"-",1000,{"$f":"IF(ISERROR(MATCH(R27,R$3:R26,0)),R27,\"-\")","v":"-"},{"$f":"IF(ISERROR(MATCH(S27,S$3:S26,0)),S27,\"-\")","v":"-"},99999,"-",1000,{"$f":"IF(ISERROR(MATCH(W27,W$3:W26,0)),W27,\"-\")","v":"-"},99999,null,null,null,null,{"$f":"COUNTIF($I$3:L$500,AF27)","v":4},{"$f":"Entries!Z15","v":"Handsworth Road Hogs"},27,0,null,null,null,0,{"$f":"SMALL(IF(($I$4:$I$500=$AH27),Results!$A$4:$A$500),COLUMN(A12))","v":0},{"$f":"SMALL(IF(($I$4:$I$500=$AH27),Results!$A$4:$A$500),COLUMN(B12))","v":0},{"$f":"SMALL(IF(($I$4:$I$500=$AH27),Results!$A$4:$A$500),COLUMN(C12))","v":0},{"$f":"SMALL(IF(($I$4:$I$500=$AH27),Results!$A$4:$A$500),COLUMN(D12))","v":0},12046.013999999999,null,{"$f":"OFFSET(Z$3,SMALL(Z$4:Z311,ROW(A12)),-1)","v":0},{"$f":"SMALL(IF(($W$4:$W$300=$AS27),$X$4:$X$300),COLUMN(A12))","v":{"$error":"#NUM!"}},{"$f":"SMALL(IF(($W$4:$W$300=$AS27),$X$4:$X$300),COLUMN(B12))","v":{"$error":"#NUM!"}},{"$f":"SMALL(IF(($W$4:$W$300=$AS27),$X$4:$X$300),COLUMN(C12))","v":{"$error":"#NUM!"}},{"$f":"SMALL(IF(($W$4:$W$300=$AS27),$X$4:$X$300),COLUMN(D12))","v":{"$error":"#NUM!"}},0,"-",{"$f":"SMALL(AY$16:AY311,ROW(A12))","v":{"$error":"#NUM!"}},null,null,null,{"$f":"OFFSET(T$3,SMALL(V$4:V311,ROW(A12)),0)","v":"-"},{"$f":"SMALL(IF(($R$4:$R$300=$BD27),$S$4:$S$300),COLUMN(A12))","v":1000},{"$f":"SMALL(IF(($R$4:$R$300=$BD27),$S$4:$S$300),COLUMN(B12))","v":1000},{"$f":"SMALL(IF(($R$4:$R$300=$BD27),$S$4:$S$300),COLUMN(C12))","v":1000},{"$f":"SMALL(IF(($R$4:$R$300=$BD27),$S$4:$S$300),COLUMN(D12))","v":1000},234,3001]
[25,1,0,31,13,"","David Perkins",{"$f":"IF($B28>0,OFFSET(Entries!$C$2,Results!$N28,7),\"\")","v":"MV40"},{"$f":"PROPER(IF($B28>0,club(OFFSET(Entries!$I$2,Results!$N28,0)),\"\"))","v":"Steel City Striders"},{"$f":"nLocal(OFFSET(Entries!$C$2,Results!$N28,5),H28)","v":""},{"$f":"PROPER(OFFSET(Entries!$C$2,Results!$N28,0))","v":"David Perkins"},"M",null,{"$f":"MATCH($B28,Entries!$A$3:$A$1001,0)","v":2},"40",{"$f":"IF(ISERROR(OFFSET(Results!$B$3,MATCH(Entries!A27,Results!B$4:B325,0),0)),Entries!A27,0)","v":0},null,"Steel City Striders",25,{"$f":"IF(ISERROR(MATCH(R28,R$3:R27,0)),R28,\"-\")","v":"-"},{"$f":"IF(ISERROR(MATCH(S28,S$3:S27,0)),S28,\"-\")","v":25},25,"-",1000,{"$f":"IF(ISERROR(MATCH(W28,W$3:W27,0)),W28,\"-\")","v":"-"},99999,null,null,null,null,{"$f":"COUNTIF($I$3:L$500,AF28)","v":1},{"$f":"Entries!Z16","v":"Norham Running Club"},1000,0,null,null,null,0,{"$f":"SMALL(IF(($I$4:$I$500=$AH28),Results!$A$4:$A$500),COLUMN(A13))","v":0},{"$f":"SMALL(IF(($I$4:$I$500=$AH28),Results!$A$4:$A$500),COLUMN(B13))","v":0},{"$f":"SMALL(IF(($I$4:$I$500=$AH28),Results!$A$4:$A$500),COLUMN(C13))","v":0},{"$f":"SMALL(IF(($I$4:$I$500=$AH28),Results!$A$4:$A$500),COLUMN(D13))","v":0},12046.013999999999,null,{"$f":"OFFSET(Z$3,SMALL(Z$4:Z312,ROW(A13)),-1)","v":0},{"$f":"SMALL(IF(($W$4:$W$300=$AS28),$X$4:$X$300),COLUMN(A13))","v":{"$error":"#NUM!"}},{"$f":"SMALL(IF(($W$4:$W$300=$AS28),$X$4:$X$300),COLUMN(B13))","v":{"$error":"#NUM!"}},{"$f":"SMALL(IF(($W$4:$W$300=$AS28),$X$4:$X$300),COLUMN(C13))","v":{"$error":"#NUM!"}},{"$f":"SMALL(IF(($W$4:$W$300=$AS28),$X$4:$X$300),COLUMN(D13))","v":{"$error":"#NUM!"}},0,"-",{"$f":"SMALL(AY$16:AY312,ROW(A13))","v":{"$error":"#NUM!"}},null,null,null,{"$f":"OFFSET(T$3,SMALL(V$4:V312,ROW(A13)),0)","v":"-"},{"$f":"SMALL(IF(($R$4:$R$300=$BD28),$S$4:$S$300),COLUMN(A13))","v":1000},{"$f":"SMALL(IF(($R$4:$R$300=$BD28),$S$4:$S$300),COLUMN(B13))","v":1000},{"$f":"SMALL(IF(($R$4:$R$300=$BD28),$S$4:$S$300),COLUMN(C13))","v":1000},{"$f":"SMALL(IF(($R$4:$R$300=$BD28),$S$4:$S$300),COLUMN(D13))","v":1000},234,3001]
[26,12,0,31,22,"","Mick Archer",{"$f":"IF($B29>0,OFFSET(Entries!$C$2,Results!$N29,7),\"\")","v":"MV50"},{"$f":"PROPER(IF($B29>0,club(OFFSET(Entries!$I$2,Results!$N29,0)),\"\"))","v":"Dark Peak"},{"$f":"nLocal(OFFSET(Entries!$C$2,Results!$N29,5),H29)","v":"MB"},{"$f":"PROPER(OFFSET(Entries!$C$2,Results!$N29,0))","v":"Mick Archer"},"MVD",null,{"$f":"MATCH($B29,Entries!$A$3:$A$1001,0)","v":13},"50",{"$f":"IF(ISERROR(OFFSET(Results!$B$3,MATCH(Entries!A28,Results!B$4:B326,0),0)),Entries!A28,0)","v":0},null,"Dark Peak",26,{"$f":"IF(ISERROR(MATCH(R29,R$3:R28,0)),R29,\"-\")","v":"-"},{"$f":"IF(ISERROR(MATCH(S29,S$3:S28,0)),S29,\"-\")","v":26},26,"-",1000,{"$f":"IF(ISERROR(MATCH(W29,W$3:W28,0)),W29,\"-\")","v":"-"},99999,null,null,null,null,{"$f":"COUNTIF($I$3:L$500,AF29)","v":1},{"$f":"Entries!Z17","v":"Heidelberg International School"},1000,0,null,null,null,0,{"$f":"SMALL(IF(($I$4:$I$500=$AH29),Results!$A$4:$A$500),COLUMN(A14))","v":0},{"$f":"SMALL(IF(($I$4:$I$500=$AH29),Results!$A$4:$A$500),COLUMN(B14))","v":0},{"$f":"SMALL(IF(($I$4:$I$500=$AH29),Results!$A$4:$A$500),COLUMN(C14))","v":0},{"$f":"SMALL(IF(($I$4:$I$500=$AH29),Results!$A$4:$A$500),COLUMN(D14))","v":0},12046.013999999999,null,{"$f":"OFFSET(Z$3,SMALL(Z$4:Z313,ROW(A14)),-1)","v":0},{"$f":"SMALL(IF(($W$4:$W$300=$AS29),$X$4:$X$300),COLUMN(A14))","v":{"$error":"#NUM!"}},{"$f":"SMALL(IF(($W$4:$W$300=$AS29),$X$4:$X$300),COLUMN(B14))","v":{"$error":"#NUM!"}},{"$f":"SMALL(IF(($W$4:$W$300=$AS29),$X$4:$X$300),COLUMN(C14))","v":{"$error":"#NUM!"}},{"$f":"SMALL(IF(($W$4:$W$300=$AS29),$X$4:$X$300),COLUMN(D14))","v":{"$error":"#NUM!"}},0,"-",{"$f":"SMALL(AY$16:AY313,ROW(A14))","v":{"$error":"#NUM!"}},null,null,null,{"$f":"OFFSET(T$3,SMALL(V$4:V313,ROW(A14)),0)","v":"Fatboys Rc"},{"$f":"SMALL(IF(($R$4:$R$300=$BD29),$S$4:$S$300),COLUMN(A14))","v":28},{"$f":"SMALL(IF(($R$4:$R$300=$BD29),$S$4:$S$300),COLUMN(B14))","v":85},{"$f":"SMALL(IF(($R$4:$R$300=$BD29),$S$4:$S$300),COLUMN(C14))","v":{"$error":"#NUM!"}},{"$f":"SMALL(IF(($R$4:$R$300=$BD29),$S$4:$S$300),COLUMN(D14))","v":{"$error":"#NUM!"}},2,"-"]
[27,100,0,31,48,"","Kevin Mottram",{"$f":"IF($B30>0,OFFSET(Entries!$C$2,Results!$N30,7),\"\")","v":"MV40"},{"$f":"PROPER(IF($B30>0,club(OFFSET(Entries!$I$2,Results!$N30,0)),\"\"))","v":"Buxton Ac"},{"$f":"nLocal(OFFSET(Entries!$C$2,Results!$N30,5),H30)","v":""},{"$f":"PROPER(OFFSET(Entries!$C$2,Results!$N30,0))","v":"Kevin Mottram"},"M",null,{"$f":"MATCH($B30,Entries!$A$3:$A$1001,0)","v":101},"40",{"$f":"IF(ISERROR(OFFSET(Results!$B$3,MATCH(Entries!A29,Results!B$4:B327,0),0)),Entries!A29,0)","v":0},null,"Buxton Ac",27,{"$f":"IF(ISERROR(MATCH(R30,R$3:R29,0)),R30,\"-\")","v":"-"},{"$f":"IF(ISERROR(MATCH(S30,S$3:S29,0)),S30,\"-\")","v":27},27,"-",1000,{"$f":"IF(ISERROR(MATCH(W30,W$3:W29,0)),W30,\"-\")","v":"-"},99999,null,null,null,null,{"$f":"COUNTIF($I$3:L$500,AF30)","v":2},{"$f":"Entries!Z18","v":"Fusion Cc"},1000,0,null,null,null,0,{"$f":"SMALL(IF(($I$4:$I$500=$AH30),Results!$A$4:$A$500),COLUMN(A15))","v":0},{"$f":"SMALL(IF(($I$4:$I$500=$AH30),Results!$A$4:$A$500),COLUMN(B15))","v":0},{"$f":"SMALL(IF(($I$4:$I$500=$AH30),Results!$A$4:$A$500),COLUMN(C15))","v":0},{"$f":"SMALL(IF(($I$4:$I$500=$AH30),Results!$A$4:$A$500),COLUMN(D15))","v":0},12046.013999999999,null,{"$f":"OFFSET(Z$3,SMALL(Z$4:Z314,ROW(A15)),-1)","v":0},{"$f":"SMALL(IF(($W$4:$W$300=$AS30),$X$4:$X$300),COLUMN(A15))","v":{"$error":"#NUM!"}},{"$f":"SMALL(IF(($W$4:$W$300=$AS30),$X$4:$X$300),COLUMN(B15))","v":{"$error":"#NUM!"}},{"$f":"SMALL(IF(($W$4:$W$300=$AS30),$X$4:$X$300),COLUMN(C15))","v":{"$error":"#NUM!"}},{"$f":"SMALL(IF(($W$4:$W$300=$AS30),$X$4:$X$300),COLUMN(D15))","v":{"$error":"#NUM!"}},0,"-",{"$f":"SMALL(AY$16:AY314,ROW(A15))","v":{"$error":"#NUM!"}},null,null,null,{"$f":"OFFSET(T$3,SMALL(V$4:V314,ROW(A15)),0)","v":"-"},{"$f":"SMALL(IF(($R$4:$R$300=$BD30),$S$4:$S$300),COLUMN(A15))","v":1000},{"$f":"SMALL(IF(($R$4:$R$300=$BD30),$S$4:$S$300),COLUMN(B15))","v":1000},{"$f":"SMALL(IF(($R$4:$R$300=$BD30),$S$4:$S$300),COLUMN(C15))","v":1000},{"$f":"SMALL(IF(($R$4:$R$300=$BD30),$S$4:$S$300),COLUMN(D15))","v":1000},234,3001]
[28,73,0,31,57,"","John Thompson",{"$f":"IF($B31>0,OFFSET(Entries!$C$2,Results!$N31,7),\"\")","v":"MV40"},{"$f":"PROPER(IF($B31>0,club(OFFSET(Entries!$I$2,Results!$N31,0)),\"\"))","v":"Fatboys Rc"},{"$f":"nLocal(OFFSET(Entries!$C$2,Results!$N31,5),H31)","v":""},{"$f":"PROPER(OFFSET(Entries!$C$2,Results!$N31,0))","v":"John Thompson"},"M",null,{"$f":"MATCH($B31,Entries!$A$3:$A$1001,0)","v":74},"40",{"$f":"IF(ISERROR(OFFSET(Results!$B$3,MATCH(Entries!A30,Results!B$4:B328,0),0)),Entries!A30,0)","v":0},null,"Fatboys Rc",28,{"$f":"IF(ISERROR(MATCH(R31,R$3:R30,0)),R31,\"-\")","v":"Fatboys Rc"},{"$f":"IF(ISERROR(MATCH(S31,S$3:S30,0)),S31,\"-\")","v":28},28,"-",1000,{"$f":"IF(ISERROR(MATCH(W31,W$3:W30,0)),W31,\"-\")","v":"-"},99999,null,null,null,null,{"$f":"COUNTIF($I$3:L$500,AF31)","v":1},{"$f":"Entries!Z19","v":"Glossopdale"},1000,0,null,null,null,0,{"$f":"SMALL(IF(($I$4:$I$500=$AH31),Results!$A$4:$A$500),COLUMN(A16))","v":0},{"$f":"SMALL(IF(($I$4:$I$500=$AH31),Results!$A$4:$A$500),COLUMN(B16))","v":0},{"$f":"SMALL(IF(($I$4:$I$500=$AH31),Results!$A$4:$A$500),COLUMN(C16))","v":0},{"$f":"SMALL(IF(($I$4:$I$500=$AH31),Results!$A$4:$A$500),COLUMN(D16))","v":0},12046.013999999999,null,{"$f":"OFFSET(Z$3,SMALL(Z$4:Z315,ROW(A16)),-1)","v":0},{"$f":"SMALL(IF(($W$4:$W$300=$AS31),$X$4:$X$300),COLUMN(A16))","v":{"$error":"#NUM!"}},{"$f":"SMALL(IF(($W$4:$W$300=$AS31),$X$4:$X$300),COLUMN(B16))","v":{"$error":"#NUM!"}},{"$f":"SMALL(IF(($W$4:$W$300=$AS31),$X$4:$X$300),COLUMN(C16))","v":{"$error":"#NUM!"}},{"$f":"SMALL(IF(($W$4:$W$300=$AS31),$X$4:$X$300),COLUMN(D16))","v":{"$error":"#NUM!"}},0,"-",{"$f":"SMALL(AY$16:AY315,ROW(A16))","v":{"$error":"#NUM!"}},null,null,null,{"$f":"OFFSET(T$3,SMALL(V$4:V315,ROW(A16)),0)","v":"-"},{"$f":"SMALL(IF(($R$4:$R$300=$BD31),$S$4:$S$300),COLUMN(A16))","v":1000},{"$f":"SMALL(IF(($R$4:$R$300=$BD31),$S$4:$S$300),COLUMN(B16))","v":1000},{"$f":"SMALL(IF(($R$4:$R$300=$BD31),$S$4:$S$300),COLUMN(C16))","v":1000},{"$f":"SMALL(IF(($R$4:$R$300=$BD31),$S$4:$S$300),COLUMN(D16))","v":1000},234,3001]
[29,95,0,32,4,"","David Whitaker",{"$f":"IF($B32>0,OFFSET(Entries!$C$2,Results!$N32,7),\"\")","v":"MV50"},{"$f":"PROPER(IF($B32>0,club(OFFSET(Entries!$I$2,Results!$N32,0)),\"\"))","v":"Sheffield Tri Club"},{"$f":"nLocal(OFFSET(Entries!$C$2,Results!$N32,5),H32)","v":""},{"$f":"PROPER(OFFSET(Entries!$C$2,Results!$N32,0))","v":"David Whitaker"},"MVD",null,{"$f":"MATCH($B32,Entries!$A$3:$A$1001,0)","v":96},"50",{"$f":"IF(ISERROR(OFFSET(Results!$B$3,MATCH(Entries!A31,Results!B$4:B329,0),0)),Entries!A31,0)","v":0},null,"Sheffield Tri Club",29,{"$f":"IF(ISERROR(MATCH(R32,R$3:R31,0)),R32,\"-\")","v":"-"},{"$f":"IF(ISERROR(MATCH(S32,S$3:S31,0)),S32,\"-\")","v":29},29,"-",1000,{"$f":"IF(ISERROR(MATCH(W32,W$3:W31,0)),W32,\"-\")","v":"-"},99999,null,null,null,null,{"$f":"COUNTIF($I$3:L$500,AF32)","v":1},{"$f":"Entries!Z20","v":"Serpentine Rc"},1000,0,null,null,null,0,{"$f":"SMALL(IF(($I$4:$I$500=$AH32),Results!$A$4:$A$500),COLUMN(A17))","v":0},{"$f":"SMALL(IF(($I$4:$I$500=$AH32),Results!$A$4:$A$500),COLUMN(B17))","v":0},{"$f":"SMALL(IF(($I$4:$I$500=$AH32),Results!$A$4:$A$500),COLUMN(C17))","v":0},{"$f":"SMALL(IF(($I$4:$I$500=$AH32),Results!$A$4:$A$500),COLUMN(D17))","v":0},12046.013999999999,null,{"$f":"OFFSET(Z$3,SMALL(Z$4:Z316,ROW(A17)),-1)","v":0},{"$f":"SMALL(IF(($W$4:$W$300=$AS32),$X$4:$X$300),COLUMN(A17))","v":{"$error":"#NUM!"}},{"$f":"SMALL(IF(($W$4:$W$300=$AS32),$X$4:$X$300),COLUMN(B17))","v":{"$error":"#NUM!"}},{"$f":"SMALL(IF(($W$4:$W$300=$AS32),$X$4:$X$300),COLUMN(C17))","v":{"$error":"#NUM!"}},{"$f":"SMALL(IF(($W$4:$W$300=$AS32),$X$4:$X$300),COLUMN(D17))","v":{"$error":"#NUM!"}},0,"-",{"$f":"SMALL(AY$16:AY316,ROW(A17))","v":{"$error":"#NUM!"}},null,null,null,{"$f":"OFFSET(T$3,SMALL(V$4:V316,ROW(A17)),0)","v":"Tideswell Rc"},{"$f":"SMALL(IF(($R$4:$R$300=$BD32),$S$4:$S$300),COLUMN(A17))","v":31},{"$f":"SMALL(IF(($R$4:$R$300=$BD32),$S$4:$S$300),COLUMN(B17))","v":54},{"$f":"SMALL(IF(($R$4:$R$300=$BD32),$S$4:$S$300),COLUMN(C17))","v":97},{"$f":"SMALL(IF(($R$4:$R$300=$BD32),$S$4:$S$300),COLUMN(D17))","v":101},5,182.03100000000001]
[30,43,0,32,7,"","Stephen Moss",{"$f":"IF($B33>0,OFFSET(Entries!$C$2,Results!$N33,7),\"\")","v":"MV40"},{"$f":"PROPER(IF($B33>0,club(OFFSET(Entries!$I$2,Results!$N33,0)),\"\"))","v":"Unattached"},{"$f":"nLocal(OFFSET(Entries!$C$2,Results!$N33,5),H33)","v":""},{"$f":"PROPER(OFFSET(Entries!$C$2,Results!$N33,0))","v":"Stephen Moss"},"M",null,{"$f":"MATCH($B33,Entries!$A$3:$A$1001,0)","v":44},"40",{"$f":"IF(ISERROR(OFFSET(Results!$B$3,MATCH(Entries!A32,Results!B$4:B330,0),0)),Entries!A32,0)","v":0},null,"Unattached",30,{"$f":"IF(ISERROR(MATCH(R33,R$3:R32,0)),R33,\"-\")","v":"-"},{"$f":"IF(ISERROR(MATCH(S33,S$3:S32,0)),S33,\"-\")","v":30},30,"-",1000,{"$f":"IF(ISERROR(MATCH(W33,W$3:W32,0)),W33,\"-\")","v":"-"},99999,null,null,null,null,{"$f":"COUNTIF($I$3:L$500,AF33)","v":4},{"$f":"Entries!Z21","v":"Fatboys Rc"},33,0,null,null,null,0,{"$f":"SMALL(IF(($I$4:$I$500=$AH33),Results!$A$4:$A$500),COLUMN(A18))","v":0},{"$f":"SMALL(IF(($I$4:$I$500=$AH33),Results!$A$4:$A$500),COLUMN(B18))","v":0},{"$f":"SMALL(IF(($I$4:$I$500=$AH33),Results!$A$4:$A$500),COLUMN(C18))","v":0},{"$f":"SMALL(IF(($I$4:$I$500=$AH33),Results!$A$4:$A$500),COLUMN(D18))","v":0},12046.013999999999,null,{"$f":"OFFSET(Z$3,SMALL(Z$4:Z317,ROW(A18)),-1)","v":0},{"$f":"SMALL(IF(($W$4:$W$300=$AS33),$X$4:$X$300),COLUMN(A18))","v":{"$error":"#NUM!"}},{"$f":"SMALL(IF(($W$4:$W$300=$AS33),$X$4:$X$300),COLUMN(B18))","v":{"$error":"#NUM!"}},{"$f":"SMALL(IF(($W$4:$W$300=$AS33),$X$4:$X$300),COLUMN(C18))","v":{"$error":"#NUM!"}},{"$f":"SMALL(IF(($W$4:$W$300=$AS33),$X$4:$X$300),COLUMN(D18))","v":{"$error":"#NUM!"}},0,"-",{"$f":"SMALL(AY$16:AY317,ROW(A18))","v":{"$error":"#NUM!"}},null,null,null,{"$f":"OFFSET(T$3,SMALL(V$4:V317,ROW(A18)),0)","v":"-"},{"$f":"SMALL(IF(($R$4:$R$300=$BD33),$S$4:$S$300),COLUMN(A18))","v":1000},{"$f":"SMALL(IF(($R$4:$R$300=$BD33),$S$4:$S$300),COLUMN(B18))","v":1000},{"$f":"SMALL(IF(($R$4:$R$300=$BD33),$S$4:$S$300),COLUMN(C18))","v":1000},{"$f":"SMALL(IF(($R$4:$R$300=$BD33),$S$4:$S$300),COLUMN(D18))","v":1000},234,3001]
[31,15,0,32,11,"","Peter Wallis",{"$f":"IF($B34>0,OFFSET(Entries!$C$2,Results!$N34,7),\"\")","v":"MV55"},{"$f":"PROPER(IF($B34>0,club(OFFSET(Entries!$I$2,Results!$N34,0)),\"\"))","v":"Tideswell Rc"},{"$f":"nLocal(OFFSET(Entries!$C$2,Results!$N34,5),H34)","v":"MB"},{"$f":"PROPER(OFFSET(Entries!$C$2,Results!$N34,0))","v":"Peter Wallis"},"MVDE",null,{"$f":"MATCH($B34,Entries!$A$3:$A$1001,0)","v":16},"55",{"$f":"IF(ISERROR(OFFSET(Results!$B$3,MATCH(Entries!A33,Results!B$4:B331,0),0)),Entries!A33,0)","v":0},null,"Tideswell Rc",31,{"$f":"IF(ISERROR(MATCH(R34,R$3:R33,0)),R34,\"-\")","v":"Tideswell Rc"},{"$f":"IF(ISERROR(MATCH(S34,S$3:S33,0)),S34,\"-\")","v":31},31,"-",1000,{"$f":"IF(ISERROR(MATCH(W34,W$3:W33,0)),W34,\"-\")","v":"-"},99999,null,null,null,null,{"$f":"COUNTIF($I$3:L$500,AF34)","v":2},{"$f":"Entries!Z22","v":"Goyt Valley Striders"},1000,0,null,null,null,0,{"$f":"SMALL(IF(($I$4:$I$500=$AH34),Results!$A$4:$A$500),COLUMN(A19))","v":0},{"$f":"SMALL(IF(($I$4:$I$500=$AH34),Results!$A$4:$A$500),COLUMN(B19))","v":0},{"$f":"SMALL(IF(($I$4:$I$500=$AH34),Results!$A$4:$A$500),COLUMN(C19))","v":0},{"$f":"SMALL(IF(($I$4:$I$500=$AH34),Results!$A$4:$A$500),COLUMN(D19))","v":0},12046.013999999999,null,{"$f":"OFFSET(Z$3,SMALL(Z$4:Z318,ROW(A19)),-1)","v":0},{"$f":"SMALL(IF(($W$4:$W$300=$AS34),$X$4:$X$300),COLUMN(A19))","v":{"$error":"#NUM!"}},{"$f":"SMALL(IF(($W$4:$W$300=$AS34),$X$4:$X$300),COLUMN(B19))","v":{"$error":"#NUM!"}},{"$f":"SMALL(IF(($W$4:$W$300=$AS34),$X$4:$X$300),COLUMN(C19))","v":{"$error":"#NUM!"}},{"$f":"SMALL(IF(($W$4:$W$300=$AS34),$X$4:$X$300),COLUMN(D19))","v":{"$error":"#NUM!"}},0,"-",{"$f":"SMALL(AY$16:AY318,ROW(A19))","v":{"$error":"#NUM!"}},null,null,null,{"$f":"OFFSET(T$3,SMALL(V$4:V318,ROW(A19)),0)","v":"-"},{"$f":"SMALL(IF(($R$4:$R$300=$BD34),$S$4:$S$300),COLUMN(A19))","v":1000},{"$f":"SMALL(IF(($R$4:$R$300=$BD34),$S$4:$S$300),COLUMN(B19))","v":1000},{"$f":"SMALL(IF(($R$4:$R$300=$BD34),$S$4:$S$300),COLUMN(C19))","v":1000},{"$f":"SMALL(IF(($R$4:$R$300=$BD34),$S$4:$S$300),COLUMN(D19))","v":1000},234,3001]
[32,79,0,32,14,"Jonathan Douglass","",{"$f":"IF($B35>0,OFFSET(Entries!$C$2,Results!$N35,7),\"\")","v":"MS"},{"$f":"PROPER(IF($B35>0,club(OFFSET(Entries!$I$2,Results!$N35,0)),\"\"))","v":"Totley Ac"},{"$f":"nLocal(OFFSET(Entries!$C$2,Results!$N35,5),H35)","v":""},{"$f":"PROPER(OFFSET(Entries!$C$2,Results!$N35,0))","v":"Jonathan Douglass"},"M",null,{"$f":"MATCH($B35,Entries!$A$3:$A$1001,0)","v":80},0,{"$f":"IF(ISERROR(OFFSET(Results!$B$3,MATCH(Entries!A34,Results!B$4:B332,0),0)),Entries!A34,0)","v":0},null,"-",1000,{"$f":"IF(ISERROR(MATCH(R35,R$3:R34,0)),R35,\"-\")","v":"-"},{"$f":"IF(ISERROR(MATCH(S35,S$3:S34,0)),S35,\"-\")","v":"-"},99999,"-",1000,{"$f":"IF(ISERROR(MATCH(W35,W$3:W34,0)),W35,\"-\")","v":"-"},99999,null,null,null,null,{"$f":"COUNTIF($I$3:L$500,AF35)","v":2},{"$f":"Entries!Z23","v":"Sheffield Tri Club"},1000,0,null,null,null,0,{"$f":"SMALL(IF(($I$4:$I$500=$AH35),Results!$A$4:$A$500),COLUMN(A20))","v":0},{"$f":"SMALL(IF(($I$4:$I$500=$AH35),Results!$A$4:$A$500),COLUMN(B20))","v":0},{"$f":"SMALL(IF(($I$4:$I$500=$AH35),Results!$A$4:$A$500),COLUMN(C20))","v":0},{"$f":"SMALL(IF(($I$4:$I$500=$AH35),Results!$A$4:$A$500),COLUMN(D20))","v":0},12046.013999999999,null,{"$f":"OFFSET(Z$3,SMALL(Z$4:Z319,ROW(A20)),-1)","v":0},{"$f":"SMALL(IF(($W$4:$W$300=$AS35),$X$4:$X$300),COLUMN(A20))","v":{"$error":"#NUM!"}},{"$f":"SMALL(IF(($W$4:$W$300=$AS35),$X$4:$X$300),COLUMN(B20))","v":{"$error":"#NUM!"}},{"$f":"SMALL(IF(($W$4:$W$300=$AS35),$X$4:$X$300),COLUMN(C20))","v":{"$error":"#NUM!"}},{"$f":"SMALL(IF(($W$4:$W$300=$AS35),$X$4:$X$300),COLUMN(D20))","v":{"$error":"#NUM!"}},0,"-",{"$f":"SMALL(AY$16:AY319,ROW(A20))","v":{"$error":"#NUM!"}},null,null,null,{"$f":"OFFSET(T$3,SMALL(V$4:V319,ROW(A20)),0)","v":"Norham Running Club"},{"$f":"SMALL(IF(($R$4:$R$300=$BD35),$S$4:$S$300),COLUMN(A20))","v":38},{"$f":"SMALL(IF(($R$4:$R$300=$BD35),$S$4:$S$300),COLUMN(B20))","v":{"$error":"#NUM!"}},{"$f":"SMALL(IF(($R$4:$R$300=$BD35),$S$4:$S$300),COLUMN(C20))","v":{"$error":"#NUM!"}},{"$f":"SMALL(IF(($R$4:$R$300=$BD35),$S$4:$S$300),COLUMN(D20))","v":{"$error":"#NUM!"}},1,"-"]
[33,105,0,32,16,"Robert Eyre","",{"$f":"IF($B36>0,OFFSET(Entries!$C$2,Results!$N36,7),\"\")","v":"MS"},{"$f":"PROPER(IF($B36>0,club(OFFSET(Entries!$I$2,Results!$N36,0)),\"\"))","v":"Unattached"},{"$f":"nLocal(OFFSET(Entries!$C$2,Results!$N36,5),H36)","v":"MB"},{"$f":"PROPER(OFFSET(Entries!$C$2,Results!$N36,0))","v":"Robert Eyre"},"M",null,{"$f":"MATCH($B36,Entries!$A$3:$A$1001,0)","v":106},0,{"$f":"IF(ISERROR(OFFSET(Results!$B$3,MATCH(Entries!A35,Results!B$4:B333,0),0)),Entries!A35,0)","v":0},null,"-",1000,{"$f":"IF(ISERROR(MATCH(R36,R$3:R35,0)),R36,\"-\")","v":"-"},{"$f":"IF(ISERROR(MATCH(S36,S$3:S35,0)),S36,\"-\")","v":"-"},99999,"-",1000,{"$f":"IF(ISERROR(MATCH(W36,W$3:W35,0)),W36,\"-\")","v":"-"},99999,null,null,null,null,{"$f":"COUNTIF($I$3:L$500,AF36)","v":1},{"$f":"Entries!Z24","v":"Retford Ac"},1000,0,null,null,null,0,{"$f":"SMALL(IF(($I$4:$I$500=$AH36),Results!$A$4:$A$500),COLUMN(A21))","v":0},{"$f":"SMALL(IF(($I$4:$I$500=$AH36),Results!$A$4:$A$500),COLUMN(B21))","v":0},{"$f":"SMALL(IF(($I$4:$I$500=$AH36),Results!$A$4:$A$500),COLUMN(C21))","v":0},{"$f":"SMALL(IF(($I$4:$I$500=$AH36),Results!$A$4:$A$500),COLUMN(D21))","v":0},12046.013999999999,null,{"$f":"OFFSET(Z$3,SMALL(Z$4:Z320,ROW(A21)),-1)","v":0},{"$f":"SMALL(IF(($W$4:$W$300=$AS36),$X$4:$X$300),COLUMN(A21))","v":{"$error":"#NUM!"}},{"$f":"SMALL(IF(($W$4:$W$300=$AS36),$X$4:$X$300),COLUMN(B21))","v":{"$error":"#NUM!"}},{"$f":"SMALL(IF(($W$4:$W$300=$AS36),$X$4:$X$300),COLUMN(C21))","v":{"$error":"#NUM!"}},{"$f":"SMALL(IF(($W$4:$W$300=$AS36),$X$4:$X$300),COLUMN(D21))","v":{"$error":"#NUM!"}},0,"-",{"$f":"SMALL(AY$16:AY320,ROW(A21))","v":{"$error":"#NUM!"}},null,null,null,{"$f":"OFFSET(T$3,SMALL(V$4:V320,ROW(A21)),0)","v":"Handsworth Road Hogs"},{"$f":"SMALL(IF(($R$4:$R$300=$BD36),$S$4:$S$300),COLUMN(A21))","v":39},{"$f":"SMALL(IF(($R$4:$R$300=$BD36),$S$4:$S$300),COLUMN(B21))","v":42},{"$f":"SMALL(IF(($R$4:$R$300=$BD36),$S$4:$S$300),COLUMN(C21))","v":{"$error":"#NUM!"}},{"$f":"SMALL(IF(($R$4:$R$300=$BD36),$S$4:$S$300),COLUMN(D21))","v":{"$error":"#NUM!"}},2,"-"]
[34,67,0,32,21,"","Nick Jones",{"$f":"IF($B37>0,OFFSET(Entries!$C$2,Results!$N37,7),\"\")","v":"MV40"},{"$f":"PROPER(IF($B37>0,club(OFFSET(Entries!$I$2,Results!$N37,0)),\"\"))","v":"Buxton Ac"},{"$f":"nLocal(OFFSET(Entries!$C$2,Results!$N37,5),H37)","v":""},{"$f":"PROPER(OFFSET(Entries!$C$2,Results!$N37,0))","v":"Nick Jones"},"M",null,{"$f":"MATCH($B37,Entries!$A$3:$A$1001,0)","v":68},"40",{"$f":"IF(ISERROR(OFFSET(Results!$B$3,MATCH(Entries!A36,Results!B$4:B334,0),0)),Entries!A36,0)","v":0},null,"Buxton Ac",34,{"$f":"IF(ISERROR(MATCH(R37,R$3:R36,0)),R37,\"-\")","v":"-"},{"$f":"IF(ISERROR(MATCH(S37,S$3:S36,0)),S37,\"-\")","v":34},34,"-",1000,{"$f":"IF(ISERROR(MATCH(W37,W$3:W36,0)),W37,\"-\")","v":"-"},99999,null,null,null,null,{"$f":"COUNTIF($I$3:L$500,AF37)","v":0},{"$f":"Entries!Z25","v":"-"},1000,0,null,null,null,0,{"$f":"SMALL(IF(($I$4:$I$500=$AH37),Results!$A$4:$A$500),COLUMN(A22))","v":0},{"$f":"SMALL(IF(($I$4:$I$500=$AH37),Results!$A$4:$A$500),COLUMN(B22))","v":0},{"$f":"SMALL(IF(($I$4:$I$500=$AH37),Results!$A$4:$A$500),COLUMN(C22))","v":0},{"$f":"SMALL(IF(($I$4:$I$500=$AH37),Results!$A$4:$A$500),COLUMN(D22))","v":0},12046.013999999999,null,{"$f":"OFFSET(Z$3,SMALL(Z$4:Z321,ROW(A22)),-1)","v":0},{"$f":"SMALL(IF(($W$4:$W$300=$AS37),$X$4:$X$300),COLUMN(A22))","v":{"$error":"#NUM!"}},{"$f":"SMALL(IF(($W$4:$W$300=$AS37),$X$4:$X$300),COLUMN(B22))","v":{"$error":"#NUM!"}},{"$f":"SMALL(IF(($W$4:$W$300=$AS37),$X$4:$X$300),COLUMN(C22))","v":{"$error":"#NUM!"}},{"$f":"SMALL(IF(($W$4:$W$300=$AS37),$X$4:$X$300),COLUMN(D22))","v":{"$error":"#NUM!"}},0,"-",{"$f":"SMALL(AY$16:AY321,ROW(A22))","v":{"$error":"#NUM!"}},null,null,null,{"$f":"OFFSET(T$3,SMALL(V$4:V321,ROW(A22)),0)","v":"-"},{"$f":"SMALL(IF(($R$4:$R$300=$BD37),$S$4:$S$300),COLUMN(A22))","v":1000},{"$f":"SMALL(IF(($R$4:$R$300=$BD37),$S$4:$S$300),COLUMN(B22))","v":1000},{"$f":"SMALL(IF(($R$4:$R$300=$BD37),$S$4:$S$300),COLUMN(C22))","v":1000},{"$f":"SMALL(IF(($R$4:$R$300=$BD37),$S$4:$S$300),COLUMN(D22))","v":1000},234,3001]
[35,31,0,32,23,"Steve Clarke","",{"$f":"IF($B38>0,OFFSET(Entries!$C$2,Results!$N38,7),\"\")","v":"MS"},{"$f":"PROPER(IF($B38>0,club(OFFSET(Entries!$I$2,Results!$N38,0)),\"\"))","v":"Steel City Striders"},{"$f":"nLocal(OFFSET(Entries!$C$2,Results!$N38,5),H38)","v":""},{"$f":"PROPER(OFFSET(Entries!$C$2,Results!$N38,0))","v":"Steve Clarke"},"M",null,{"$f":"MATCH($B38,Entries!$A$3:$A$1001,0)","v":32},0,{"$f":"IF(ISERROR(OFFSET(Results!$B$3,MATCH(Entries!A37,Results!B$4:B335,0),0)),Entries!A37,0)","v":0},null,"-",1000,{"$f":"IF(ISERROR(MATCH(R38,R$3:R37,0)),R38,\"-\")","v":"-"},{"$f":"IF(ISERROR(MATCH(S38,S$3:S37,0)),S38,\"-\")","v":"-"},99999,"-",1000,{"$f":"IF(ISERROR(MATCH(W38,W$3:W37,0)),W38,\"-\")","v":"-"},99999,null,null,null,null,{"$f":"COUNTIF($I$3:L$500,AF38)","v":0},{"$f":"Entries!Z26","v":"-"},1000,0,null,null,null,0,{"$f":"SMALL(IF(($I$4:$I$500=$AH38),Results!$A$4:$A$500),COLUMN(A23))","v":0},{"$f":"SMALL(IF(($I$4:$I$500=$AH38),Results!$A$4:$A$500),COLUMN(B23))","v":0},{"$f":"SMALL(IF(($I$4:$I$500=$AH38),Results!$A$4:$A$500),COLUMN(C23))","v":0},{"$f":"SMALL(IF(($I$4:$I$500=$AH38),Results!$A$4:$A$500),COLUMN(D23))","v":0},12046.013999999999,null,{"$f":"OFFSET(Z$3,SMALL(Z$4:Z322,ROW(A23)),-1)","v":0},{"$f":"SMALL(IF(($W$4:$W$300=$AS38),$X$4:$X$300),COLUMN(A23))","v":{"$error":"#NUM!"}},{"$f":"SMALL(IF(($W$4:$W$300=$AS38),$X$4:$X$300),COLUMN(B23))","v":{"$error":"#NUM!"}},{"$f":"SMALL(IF(($W$4:$W$300=$AS38),$X$4:$X$300),COLUMN(C23))","v":{"$error":"#NUM!"}},{"$f":"SMALL(IF(($W$4:$W$300=$AS38),$X$4:$X$300),COLUMN(D23))","v":{"$error":"#NUM!"}},0,"-",{"$f":"SMALL(AY$16:AY322,ROW(A23))","v":{"$error":"#NUM!"}},null,null,null,{"$f":"OFFSET(T$3,SMALL(V$4:V322,ROW(A23)),0)","v":"-"},{"$f":"SMALL(IF(($R$4:$R$300=$BD38),$S$4:$S$300),COLUMN(A23))","v":1000},{"$f":"SMALL(IF(($R$4:$R$300=$BD38),$S$4:$S$300),COLUMN(B23))","v":1000},{"$f":"SMALL(IF(($R$4:$R$300=$BD38),$S$4:$S$300),COLUMN(C23))","v":1000},{"$f":"SMALL(IF(($R$4:$R$300=$BD38),$S$4:$S$300),COLUMN(D23))","v":1000},234,3001]
[36,112,0,32,50,"","Steve Aspey",{"$f":"IF($B39>0,OFFSET(Entries!$C$2,Results!$N39,7),\"\")","v":"MV50"},{"$f":"PROPER(IF($B39>0,club(OFFSET(Entries!$I$2,Results!$N39,0)),\"\"))","v":"Unattached"},{"$f":"nLocal(OFFSET(Entries!$C$2,Results!$N39,5),H39)","v":""},{"$f":"PROPER(OFFSET(Entries!$C$2,Results!$N39,0))","v":"Steve Aspey"},"MVD",null,{"$f":"MATCH($B39,Entries!$A$3:$A$1001,0)","v":113},"50",{"$f":"IF(ISERROR(OFFSET(Results!$B$3,MATCH(Entries!A38,Results!B$4:B336,0),0)),Entries!A38,0)","v":0},null,"Unattached",36,{"$f":"IF(ISERROR(MATCH(R39,R$3:R38,0)),R39,\"-\")","v":"-"},{"$f":"IF(ISERROR(MATCH(S39,S$3:S38,0)),S39,\"-\")","v":36},36,"-",1000,{"$f":"IF(ISERROR(MATCH(W39,W$3:W38,0)),W39,\"-\")","v":"-"},99999,null,null,null,null,{"$f":"COUNTIF($I$3:L$500,AF39)","v":0},{"$f":"Entries!Z27","v":"-"},1000,0,null,null,null,0,{"$f":"SMALL(IF(($I$4:$I$500=$AH39),Results!$A$4:$A$500),COLUMN(A24))","v":0},{"$f":"SMALL(IF(($I$4:$I$500=$AH39),Results!$A$4:$A$500),COLUMN(B24))","v":0},{"$f":"SMALL(IF(($I$4:$I$500=$AH39),Results!$A$4:$A$500),COLUMN(C24))","v":0},{"$f":"SMALL(IF(($I$4:$I$500=$AH39),Results!$A$4:$A$500),COLUMN(D24))","v":0},12046.013999999999,null,{"$f":"OFFSET(Z$3,SMALL(Z$4:Z323,ROW(A24)),-1)","v":0},{"$f":"SMALL(IF(($W$4:$W$300=$AS39),$X$4:$X$300),COLUMN(A24))","v":{"$error":"#NUM!"}},{"$f":"SMALL(IF(($W$4:$W$300=$AS39),$X$4:$X$300),COLUMN(B24))","v":{"$error":"#NUM!"}},{"$f":"SMALL(IF(($W$4:$W$300=$AS39),$X$4:$X$300),COLUMN(C24))","v":{"$error":"#NUM!"}},{"$f":"SMALL(IF(($W$4:$W$300=$AS39),$X$4:$X$300),COLUMN(D24))","v":{"$error":"#NUM!"}},0,"-",{"$f":"SMALL(AY$16:AY323,ROW(A24))","v":{"$error":"#NUM!"}},null,null,null,{"$f":"OFFSET(T$3,SMALL(V$4:V323,ROW(A24)),0)","v":"-"},{"$f":"SMALL(IF(($R$4:$R$300=$BD39),$S$4:$S$300),COLUMN(A24))","v":1000},{"$f":"SMALL(IF(($R$4:$R$300=$BD39),$S$4:$S$300),COLUMN(B24))","v":1000},{"$f":"SMALL(IF(($R$4:$R$300=$BD39),$S$4:$S$300),COLUMN(C24))","v":1000},{"$f":"SMALL(IF(($R$4:$R$300=$BD39),$S$4:$S$300),COLUMN(D24))","v":1000},234,3001]
[37,60,0,33,3,"Bradley Martin","",{"$f":"IF($B40>0,OFFSET(Entries!$C$2,Results!$N40,7),\"\")","v":"MS"},{"$f":"PROPER(IF($B40>0,club(OFFSET(Entries!$I$2,Results!$N40,0)),\"\"))","v":"Fusion Cc"},{"$f":"nLocal(OFFSET(Entries!$C$2,Results!$N40,5),H40)","v":""},{"$f":"PROPER(OFFSET(Entries!$C$2,Results!$N40,0))","v":"Bradley Martin"},"M",null,{"$f":"MATCH($B40,Entries!$A$3:$A$1001,0)","v":61},0,{"$f":"IF(ISERROR(OFFSET(Results!$B$3,MATCH(Entries!A39,Results!B$4:B337,0),0)),Entries!A39,0)","v":0},null,"-",1000,{"$f":"IF(ISERROR(MATCH(R40,R$3:R39,0)),R40,\"-\")","v":"-"},{"$f":"IF(ISERROR(MATCH(S40,S$3:S39,0)),S40,\"-\")","v":"-"},99999,"-",1000,{"$f":"IF(ISERROR(MATCH(W40,W$3:W39,0)),W40,\"-\")","v":"-"},99999,null,null,null,null,{"$f":"COUNTIF($I$3:L$500,AF40)","v":0},{"$f":"Entries!Z28","v":"-"},1000,0,null,null,null,0,{"$f":"SMALL(IF(($I$4:$I$500=$AH40),Results!$A$4:$A$500),COLUMN(A25))","v":0},{"$f":"SMALL(IF(($I$4:$I$500=$AH40),Results!$A$4:$A$500),COLUMN(B25))","v":0},{"$f":"SMALL(IF(($I$4:$I$500=$AH40),Results!$A$4:$A$500),COLUMN(C25))","v":0},{"$f":"SMALL(IF(($I$4:$I$500=$AH40),Results!$A$4:$A$500),COLUMN(D25))","v":0},12046.013999999999,null,{"$f":"OFFSET(Z$3,SMALL(Z$4:Z324,ROW(A25)),-1)","v":0},{"$f":"SMALL(IF(($W$4:$W$300=$AS40),$X$4:$X$300),COLUMN(A25))","v":{"$error":"#NUM!"}},{"$f":"SMALL(IF(($W$4:$W$300=$AS40),$X$4:$X$300),COLUMN(B25))","v":{"$error":"#NUM!"}},{"$f":"SMALL(IF(($W$4:$W$300=$AS40),$X$4:$X$300),COLUMN(C25))","v":{"$error":"#NUM!"}},{"$f":"SMALL(IF(($W$4:$W$300=$AS40),$X$4:$X$300),COLUMN(D25))","v":{"$error":"#NUM!"}},0,"-",{"$f":"SMALL(AY$16:AY324,ROW(A25))","v":{"$error":"#NUM!"}},null,null,null,{"$f":"OFFSET(T$3,SMALL(V$4:V324,ROW(A25)),0)","v":"-"},{"$f":"SMALL(IF(($R$4:$R$300=$BD40),$S$4:$S$300),COLUMN(A25))","v":1000},{"$f":"SMALL(IF(($R$4:$R$300=$BD40),$S$4:$S$300),COLUMN(B25))","v":1000},{"$f":"SMALL(IF(($R$4:$R$300=$BD40),$S$4:$S$300),COLUMN(C25))","v":1000},{"$f":"SMALL(IF(($R$4:$R$300=$BD40),$S$4:$S$300),COLUMN(D25))","v":1000},234,3001]
[38,36,0,33,7,"","Mike Jones",{"$f":"IF($B41>0,OFFSET(Entries!$C$2,Results!$N41,7),\"\")","v":"MV45"},{"$f":"PROPER(IF($B41>0,club(OFFSET(Entries!$I$2,Results!$N41,0)),\"\"))","v":"Norham Running Club"},{"$f":"nLocal(OFFSET(Entries!$C$2,Results!$N41,5),H41)","v":"MB"},{"$f":"PROPER(OFFSET(Entries!$C$2,Results!$N41,0))","v":"Mike Jones"},"MV",null,{"$f":"MATCH($B41,Entries!$A$3:$A$1001,0)","v":37},"45",{"$f":"IF(ISERROR(OFFSET(Results!$B$3,MATCH(Entries!A40,Results!B$4:B338,0),0)),Entries!A40,0)","v":0},null,"Norham Running Club",38,{"$f":"IF(ISERROR(MATCH(R41,R$3:R40,0)),R41,\"-\")","v":"Norham Running Club"},{"$f":"IF(ISERROR(MATCH(S41,S$3:S40,0)),S41,\"-\")","v":38},38,"-",1000,{"$f":"IF(ISERROR(MATCH(W41,W$3:W40,0)),W41,\"-\")","v":"-"},99999,null,null,null,null,{"$f":"COUNTIF($I$3:L$500,AF41)","v":0},{"$f":"Entries!Z29","v":"-"},1000,0,null,null,null,0,{"$f":"SMALL(IF(($I$4:$I$500=$AH41),Results!$A$4:$A$500),COLUMN(A26))","v":0},{"$f":"SMALL(IF(($I$4:$I$500=$AH41),Results!$A$4:$A$500),COLUMN(B26))","v":0},{"$f":"SMALL(IF(($I$4:$I$500=$AH41),Results!$A$4:$A$500),COLUMN(C26))","v":0},{"$f":"SMALL(IF(($I$4:$I$500=$AH41),Results!$A$4:$A$500),COLUMN(D26))","v":0},12046.013999999999,null,{"$f":"OFFSET(Z$3,SMALL(Z$4:Z325,ROW(A26)),-1)","v":0},{"$f":"SMALL(IF(($W$4:$W$300=$AS41),$X$4:$X$300),COLUMN(A26))","v":{"$error":"#NUM!"}},{"$f":"SMALL(IF(($W$4:$W$300=$AS41),$X$4:$X$300),COLUMN(B26))","v":{"$error":"#NUM!"}},{"$f":"SMALL(IF(($W$4:$W$300=$AS41),$X$4:$X$300),COLUMN(C26))","v":{"$error":"#NUM!"}},{"$f":"SMALL(IF(($W$4:$W$300=$AS41),$X$4:$X$300),COLUMN(D26))","v":{"$error":"#NUM!"}},0,"-",{"$f":"SMALL(AY$16:AY325,ROW(A26))","v":{"$error":"#NUM!"}},null,null,null,{"$f":"OFFSET(T$3,SMALL(V$4:V325,ROW(A26)),0)","v":"-"},{"$f":"SMALL(IF(($R$4:$R$300=$BD41),$S$4:$S$300),COLUMN(A26))","v":1000},{"$f":"SMALL(IF(($R$4:$R$300=$BD41),$S$4:$S$300),COLUMN(B26))","v":1000},{"$f":"SMALL(IF(($R$4:$R$300=$BD41),$S$4:$S$300),COLUMN(C26))","v":1000},{"$f":"SMALL(IF(($R$4:$R$300=$BD41),$S$4:$S$300),COLUMN(D26))","v":1000},234,3001]
[39,33,0,33,8,"","Kevin Mahon",{"$f":"IF($B42>0,OFFSET(Entries!$C$2,Results!$N42,7),\"\")","v":"MV40"},{"$f":"PROPER(IF($B42>0,club(OFFSET(Entries!$I$2,Results!$N42,0)),\"\"))","v":"Handsworth Road Hogs"},{"$f":"nLocal(OFFSET(Entries!$C$2,Results!$N42,5),H42)","v":""},{"$f":"PROPER(OFFSET(Entries!$C$2,Results!$N42,0))","v":"Kevin Mahon"},"M",null,{"$f":"MATCH($B42,Entries!$A$3:$A$1001,0)","v":34},"40",{"$f":"IF(ISERROR(OFFSET(Results!$B$3,MATCH(Entries!A41,Results!B$4:B339,0),0)),Entries!A41,0)","v":0},null,"Handsworth Road Hogs",39,{"$f":"IF(ISERROR(MATCH(R42,R$3:R41,0)),R42,\"-\")","v":"Handsworth Road Hogs"},{"$f":"IF(ISERROR(MATCH(S42,S$3:S41,0)),S42,\"-\")","v":39},39,"-",1000,{"$f":"IF(ISERROR(MATCH(W42,W$3:W41,0)),W42,\"-\")","v":"-"},99999,null,null,null,null,{"$f":"COUNTIF($I$3:L$500,AF42)","v":0},{"$f":"Entries!Z30","v":"-"},1000,0,null,null,null,0,{"$f":"SMALL(IF(($I$4:$I$500=$AH42),Results!$A$4:$A$500),COLUMN(A27))","v":0},{"$f":"SMALL(IF(($I$4:$I$500=$AH42),Results!$A$4:$A$500),COLUMN(B27))","v":0},{"$f":"SMALL(IF(($I$4:$I$500=$AH42),Results!$A$4:$A$500),COLUMN(C27))","v":0},{"$f":"SMALL(IF(($I$4:$I$500=$AH42),Results!$A$4:$A$500),COLUMN(D27))","v":0},12046.013999999999,null,{"$f":"OFFSET(Z$3,SMALL(Z$4:Z326,ROW(A27)),-1)","v":0},{"$f":"SMALL(IF(($W$4:$W$300=$AS42),$X$4:$X$300),COLUMN(A27))","v":{"$error":"#NUM!"}},{"$f":"SMALL(IF(($W$4:$W$300=$AS42),$X$4:$X$300),COLUMN(B27))","v":{"$error":"#NUM!"}},{"$f":"SMALL(IF(($W$4:$W$300=$AS42),$X$4:$X$300),COLUMN(C27))","v":{"$error":"#NUM!"}},{"$f":"SMALL(IF(($W$4:$W$300=$AS42),$X$4:$X$300),COLUMN(D27))","v":{"$error":"#NUM!"}},0,"-",{"$f":"SMALL(AY$16:AY326,ROW(A27))","v":{"$error":"#NUM!"}},null,null,null,{"$f":"OFFSET(T$3,SMALL(V$4:V326,ROW(A27)),0)","v":"-"},{"$f":"SMALL(IF(($R$4:$R$300=$BD42),$S$4:$S$300),COLUMN(A27))","v":1000},{"$f":"SMALL(IF(($R$4:$R$300=$BD42),$S$4:$S$300),COLUMN(B27))","v":1000},{"$f":"SMALL(IF(($R$4:$R$300=$BD42),$S$4:$S$300),COLUMN(C27))","v":1000},{"$f":"SMALL(IF(($R$4:$R$300=$BD42),$S$4:$S$300),COLUMN(D27))","v":1000},234,3001]
[40,86,0,33,11,"","Mark Halsey",{"$f":"IF($B43>0,OFFSET(Entries!$C$2,Results!$N43,7),\"\")","v":"MV40"},{"$f":"PROPER(IF($B43>0,club(OFFSET(Entries!$I$2,Results!$N43,0)),\"\"))","v":"Buxton Ac"},{"$f":"nLocal(OFFSET(Entries!$C$2,Results!$N43,5),H43)","v":""},{"$f":"PROPER(OFFSET(Entries!$C$2,Results!$N43,0))","v":"Mark Halsey"},"M",null,{"$f":"MATCH($B43,Entries!$A$3:$A$1001,0)","v":87},"40",{"$f":"IF(ISERROR(OFFSET(Results!$B$3,MATCH(Entries!A42,Results!B$4:B340,0),0)),Entries!A42,0)","v":0},null,"Buxton Ac",40,{"$f":"IF(ISERROR(MATCH(R43,R$3:R42,0)),R43,\"-\")","v":"-"},{"$f":"IF(ISERROR(MATCH(S43,S$3:S42,0)),S43,\"-\")","v":40},40,"-",1000,{"$f":"IF(ISERROR(MATCH(W43,W$3:W42,0)),W43,\"-\")","v":"-"},99999,null,null,null,null,{"$f":"COUNTIF($I$3:L$500,AF43)","v":0},{"$f":"Entries!Z31","v":"-"},1000,0,null,null,null,0,{"$f":"SMALL(IF(($I$4:$I$500=$AH43),Results!$A$4:$A$500),COLUMN(A28))","v":0},{"$f":"SMALL(IF(($I$4:$I$500=$AH43),Results!$A$4:$A$500),COLUMN(B28))","v":0},{"$f":"SMALL(IF(($I$4:$I$500=$AH43),Results!$A$4:$A$500),COLUMN(C28))","v":0},{"$f":"SMALL(IF(($I$4:$I$500=$AH43),Results!$A$4:$A$500),COLUMN(D28))","v":0},12046.013999999999,null,{"$f":"OFFSET(Z$3,SMALL(Z$4:Z327,ROW(A28)),-1)","v":0},{"$f":"SMALL(IF(($W$4:$W$300=$AS43),$X$4:$X$300),COLUMN(A28))","v":{"$error":"#NUM!"}},{"$f":"SMALL(IF(($W$4:$W$300=$AS43),$X$4:$X$300),COLUMN(B28))","v":{"$error":"#NUM!"}},{"$f":"SMALL(IF(($W$4:$W$300=$AS43),$X$4:$X$300),COLUMN(C28))","v":{"$error":"#NUM!"}},{"$f":"SMALL(IF(($W$4:$W$300=$AS43),$X$4:$X$300),COLUMN(D28))","v":{"$error":"#NUM!"}},0,"-",{"$f":"SMALL(AY$16:AY327,ROW(A28))","v":{"$error":"#NUM!"}},null,null,null,{"$f":"OFFSET(T$3,SMALL(V$4:V327,ROW(A28)),0)","v":"Totley Ac"},{"$f":"SMALL(IF(($R$4:$R$300=$BD43),$S$4:$S$300),COLUMN(A28))","v":47},{"$f":"SMALL(IF(($R$4:$R$300=$BD43),$S$4:$S$300),COLUMN(B28))","v":61},{"$f":"SMALL(IF(($R$4:$R$300=$BD43),$S$4:$S$300),COLUMN(C28))","v":84},{"$f":"SMALL(IF(($R$4:$R$300=$BD43),$S$4:$S$300),COLUMN(D28))","v":90},5,192.047]
[41,111,0,33,15,"","Neil Oxley",{"$f":"IF($B44>0,OFFSET(Entries!$C$2,Results!$N44,7),\"\")","v":"MV65"},{"$f":"PROPER(IF($B44>0,club(OFFSET(Entries!$I$2,Results!$N44,0)),\"\"))","v":"Unattached"},{"$f":"nLocal(OFFSET(Entries!$C$2,Results!$N44,5),H44)","v":""},{"$f":"PROPER(OFFSET(Entries!$C$2,Results!$N44,0))","v":"Neil Oxley"},"MVDEXW",null,{"$f":"MATCH($B44,Entries!$A$3:$A$1001,0)","v":112},"65",{"$f":"IF(ISERROR(OFFSET(Results!$B$3,MATCH(Entries!A43,Results!B$4:B341,0),0)),Entries!A43,0)","v":0},null,"Unattached",41,{"$f":"IF(ISERROR(MATCH(R44,R$3:R43,0)),R44,\"-\")","v":"-"},{"$f":"IF(ISERROR(MATCH(S44,S$3:S43,0)),S44,\"-\")","v":41},41,"-",1000,{"$f":"IF(ISERROR(MATCH(W44,W$3:W43,0)),W44,\"-\")","v":"-"},99999,null,null,null,null,{"$f":"COUNTIF($I$3:L$500,AF44)","v":0},{"$f":"Entries!Z32","v":"-"},1000,0,null,null,null,0,{"$f":"SMALL(IF(($I$4:$I$500=$AH44),Results!$A$4:$A$500),COLUMN(A29))","v":0},{"$f":"SMALL(IF(($I$4:$I$500=$AH44),Results!$A$4:$A$500),COLUMN(B29))","v":0},{"$f":"SMALL(IF(($I$4:$I$500=$AH44),Results!$A$4:$A$500),COLUMN(C29))","v":0},{"$f":"SMALL(IF(($I$4:$I$500=$AH44),Results!$A$4:$A$500),COLUMN(D29))","v":0},12046.013999999999,null,{"$f":"OFFSET(Z$3,SMALL(Z$4:Z328,ROW(A29)),-1)","v":0},{"$f":"SMALL(IF(($W$4:$W$300=$AS44),$X$4:$X$300),COLUMN(A29))","v":{"$error":"#NUM!"}},{"$f":"SMALL(IF(($W$4:$W$300=$AS44),$X$4:$X$300),COLUMN(B29))","v":{"$error":"#NUM!"}},{"$f":"SMALL(IF(($W$4:$W$300=$AS44),$X$4:$X$300),COLUMN(C29))","v":{"$error":"#NUM!"}},{"$f":"SMALL(IF(($W$4:$W$300=$AS44),$X$4:$X$300),COLUMN(D29))","v":{"$error":"#NUM!"}},0,"-",{"$f":"SMALL(AY$16:AY328,ROW(A29))","v":{"$error":"#NUM!"}},null,null,null,{"$f":"OFFSET(T$3,SMALL(V$4:V328,ROW(A29)),0)","v":"-"},{"$f":"SMALL(IF(($R$4:$R$300=$BD44),$S$4:$S$300),COLUMN(A29))","v":1000},{"$f":"SMALL(IF(($R$4:$R$300=$BD44),$S$4:$S$300),COLUMN(B29))","v":1000},{"$f":"SMALL(IF(($R$4:$R$300=$BD44),$S$4:$S$300),COLUMN(C29))","v":1000},{"$f":"SMALL(IF(($R$4:$R$300=$BD44),$S$4:$S$300),COLUMN(D29))","v":1000},234,3001]
[42,32,0,33,15,"","Kate Jenkins",{"$f":"IF($B45>0,OFFSET(Entries!$C$2,Results!$N45,7),\"\")","v":"FV40"},{"$f":"PROPER(IF($B45>0,club(OFFSET(Entries!$I$2,Results!$N45,0)),\"\"))","v":"Handsworth Road Hogs"},{"$f":"nLocal(OFFSET(Entries!$C$2,Results!$N45,5),H45)","v":""},{"$f":"PROPER(OFFSET(Entries!$C$2,Results!$N45,0))","v":"Kate Jenkins"},"F",null,{"$f":"MATCH($B45,Entries!$A$3:$A$1001,0)","v":33},"40",{"$f":"IF(ISERROR(OFFSET(Results!$B$3,MATCH(Entries!A44,Results!B$4:B342,0),0)),Entries!A44,0)","v":0},null,"Handsworth Road Hogs",42,{"$f":"IF(ISERROR(MATCH(R45,R$3:R44,0)),R45,\"-\")","v":"-"},{"$f":"IF(ISERROR(MATCH(S45,S$3:S44,0)),S45,\"-\")","v":42},42,"Handsworth Road Hogs",42,{"$f":"IF(ISERROR(MATCH(W45,W$3:W44,0)),W45,\"-\")","v":"Handsworth Road Hogs"},42,null,null,null,null,{"$f":"COUNTIF($I$3:L$500,AF45)","v":0},{"$f":"Entries!Z33","v":"-"},1000,0,null,null,null,0,{"$f":"SMALL(IF(($I$4:$I$500=$AH45),Results!$A$4:$A$500),COLUMN(A30))","v":0},{"$f":"SMALL(IF(($I$4:$I$500=$AH45),Results!$A$4:$A$500),COLUMN(B30))","v":0},{"$f":"SMALL(IF(($I$4:$I$500=$AH45),Results!$A$4:$A$500),COLUMN(C30))","v":0},{"$f":"SMALL(IF(($I$4:$I$500=$AH45),Results!$A$4:$A$500),COLUMN(D30))","v":0},12046.013999999999,null,{"$f":"OFFSET(Z$3,SMALL(Z$4:Z329,ROW(A30)),-1)","v":0},{"$f":"SMALL(IF(($W$4:$W$300=$AS45),$X$4:$X$300),COLUMN(A30))","v":{"$error":"#NUM!"}},{"$f":"SMALL(IF(($W$4:$W$300=$AS45),$X$4:$X$300),COLUMN(B30))","v":{"$error":"#NUM!"}},{"$f":"SMALL(IF(($W$4:$W$300=$AS45),$X$4:$X$300),COLUMN(C30))","v":{"$error":"#NUM!"}},{"$f":"SMALL(IF(($W$4:$W$300=$AS45),$X$4:$X$300),COLUMN(D30))","v":{"$error":"#NUM!"}},0,"-",{"$f":"SMALL(AY$16:AY329,ROW(A30))","v":{"$error":"#NUM!"}},null,null,null,{"$f":"OFFSET(T$3,SMALL(V$4:V329,ROW(A30)),0)","v":"-"},{"$f":"SMALL(IF(($R$4:$R$300=$BD45),$S$4:$S$300),COLUMN(A30))","v":1000},{"$f":"SMALL(IF(($R$4:$R$300=$BD45),$S$4:$S$300),COLUMN(B30))","v":1000},{"$f":"SMALL(IF(($R$4:$R$300=$BD45),$S$4:$S$300),COLUMN(C30))","v":1000},{"$f":"SMALL(IF(($R$4:$R$300=$BD45),$S$4:$S$300),COLUMN(D30))","v":1000},234,3001]
[43,2,0,33,18,"","Keith Holmes",{"$f":"IF($B46>0,OFFSET(Entries!$C$2,Results!$N46,7),\"\")","v":"MV60"},{"$f":"PROPER(IF($B46>0,club(OFFSET(Entries!$I$2,Results!$N46,0)),\"\"))","v":"Dark Peak"},{"$f":"nLocal(OFFSET(Entries!$C$2,Results!$N46,5),H46)","v":""},{"$f":"PROPER(OFFSET(Entries!$C$2,Results!$N46,0))","v":"Keith Holmes"},"MVDEX",null,{"$f":"MATCH($B46,Entries!$A$3:$A$1001,0)","v":3},"60",{"$f":"IF(ISERROR(OFFSET(Results!$B$3,MATCH(Entries!A45,Results!B$4:B343,0),0)),Entries!A45,0)","v":0},null,"Dark Peak",43,{"$f":"IF(ISERROR(MATCH(R46,R$3:R45,0)),R46,\"-\")","v":"-"},{"$f":"IF(ISERROR(MATCH(S46,S$3:S45,0)),S46,\"-\")","v":43},43,"-",1000,{"$f":"IF(ISERROR(MATCH(W46,W$3:W45,0)),W46,\"-\")","v":"-"},99999,null,null,null,null,{"$f":"COUNTIF($I$3:L$500,AF46)","v":0},{"$f":"Entries!Z34","v":"-"},1000,0,null,null,null,0,{"$f":"SMALL(IF(($I$4:$I$500=$AH46),Results!$A$4:$A$500),COLUMN(A31))","v":0},{"$f":"SMALL(IF(($I$4:$I$500=$AH46),Results!$A$4:$A$500),COLUMN(B31))","v":0},{"$f":"SMALL(IF(($I$4:$I$500=$AH46),Results!$A$4:$A$500),COLUMN(C31))","v":0},{"$f":"SMALL(IF(($I$4:$I$500=$AH46),Results!$A$4:$A$500),COLUMN(D31))","v":0},12046.013999999999,null,{"$f":"OFFSET(Z$3,SMALL(Z$4:Z330,ROW(A31)),-1)","v":0},{"$f":"SMALL(IF(($W$4:$W$300=$AS46),$X$4:$X$300),COLUMN(A31))","v":{"$error":"#NUM!"}},{"$f":"SMALL(IF(($W$4:$W$300=$AS46),$X$4:$X$300),COLUMN(B31))","v":{"$error":"#NUM!"}},{"$f":"SMALL(IF(($W$4:$W$300=$AS46),$X$4:$X$300),COLUMN(C31))","v":{"$error":"#NUM!"}},{"$f":"SMALL(IF(($W$4:$W$300=$AS46),$X$4:$X$300),COLUMN(D31))","v":{"$error":"#NUM!"}},0,"-",{"$f":"SMALL(AY$16:AY330,ROW(A31))","v":{"$error":"#NUM!"}},null,null,null,{"$f":"OFFSET(T$3,SMALL(V$4:V330,ROW(A31)),0)","v":"-"},{"$f":"SMALL(IF(($R$4:$R$300=$BD46),$S$4:$S$300),COLUMN(A31))","v":1000},{"$f":"SMALL(IF(($R$4:$R$300=$BD46),$S$4:$S$300),COLUMN(B31))","v":1000},{"$f":"SMALL(IF(($R$4:$R$300=$BD46),$S$4:$S$300),COLUMN(C31))","v":1000},{"$f":"SMALL(IF(($R$4:$R$300=$BD46),$S$4:$S$300),COLUMN(D31))","v":1000},234,3001]
[44,102,0,33,26,"","Steve Haake",{"$f":"IF($B47>0,OFFSET(Entries!$C$2,Results!$N47,7),\"\")","v":"MV50"},{"$f":"PROPER(IF($B47>0,club(OFFSET(Entries!$I$2,Results!$N47,0)),\"\"))","v":"Steel City Striders"},{"$f":"nLocal(OFFSET(Entries!$C$2,Results!$N47,5),H47)","v":""},{"$f":"PROPER(OFFSET(Entries!$C$2,Results!$N47,0))","v":"Steve Haake"},"MVD",null,{"$f":"MATCH($B47,Entries!$A$3:$A$1001,0)","v":103},"50",{"$f":"IF(ISERROR(OFFSET(Results!$B$3,MATCH(Entries!A46,Results!B$4:B344,0),0)),Entries!A46,0)","v":0},null,"Steel City Striders",44,{"$f":"IF(ISERROR(MATCH(R47,R$3:R46,0)),R47,\"-\")","v":"-"},{"$f":"IF(ISERROR(MATCH(S47,S$3:S46,0)),S47,\"-\")","v":44},44,"-",1000,{"$f":"IF(ISERROR(MATCH(W47,W$3:W46,0)),W47,\"-\")","v":"-"},99999,null,null,null,null,{"$f":"COUNTIF($I$3:L$500,AF47)","v":0},{"$f":"Entries!Z35","v":"-"},1000,0,null,null,null,0,{"$f":"SMALL(IF(($I$4:$I$500=$AH47),Results!$A$4:$A$500),COLUMN(A32))","v":0},{"$f":"SMALL(IF(($I$4:$I$500=$AH47),Results!$A$4:$A$500),COLUMN(B32))","v":0},{"$f":"SMALL(IF(($I$4:$I$500=$AH47),Results!$A$4:$A$500),COLUMN(C32))","v":0},{"$f":"SMALL(IF(($I$4:$I$500=$AH47),Results!$A$4:$A$500),COLUMN(D32))","v":0},12046.013999999999,null,{"$f":"OFFSET(Z$3,SMALL(Z$4:Z331,ROW(A32)),-1)","v":0},{"$f":"SMALL(IF(($W$4:$W$300=$AS47),$X$4:$X$300),COLUMN(A32))","v":{"$error":"#NUM!"}},{"$f":"SMALL(IF(($W$4:$W$300=$AS47),$X$4:$X$300),COLUMN(B32))","v":{"$error":"#NUM!"}},{"$f":"SMALL(IF(($W$4:$W$300=$AS47),$X$4:$X$300),COLUMN(C32))","v":{"$error":"#NUM!"}},{"$f":"SMALL(IF(($W$4:$W$300=$AS47),$X$4:$X$300),COLUMN(D32))","v":{"$error":"#NUM!"}},0,"-",{"$f":"SMALL(AY$16:AY331,ROW(A32))","v":{"$error":"#NUM!"}},null,null,null,{"$f":"OFFSET(T$3,SMALL(V$4:V331,ROW(A32)),0)","v":"-"},{"$f":"SMALL(IF(($R$4:$R$300=$BD47),$S$4:$S$300),COLUMN(A32))","v":1000},{"$f":"SMALL(IF(($R$4:$R$300=$BD47),$S$4:$S$300),COLUMN(B32))","v":1000},{"$f":"SMALL(IF(($R$4:$R$300=$BD47),$S$4:$S$300),COLUMN(C32))","v":1000},{"$f":"SMALL(IF(($R$4:$R$300=$BD47),$S$4:$S$300),COLUMN(D32))","v":1000},234,3001]
[45,91,0,33,31,"David Beel","",{"$f":"IF($B48>0,OFFSET(Entries!$C$2,Results!$N48,7),\"\")","v":"MS"},{"$f":"PROPER(IF($B48>0,club(OFFSET(Entries!$I$2,Results!$N48,0)),\"\"))","v":"Unattached"},{"$f":"nLocal(OFFSET(Entries!$C$2,Results!$N48,5),H48)","v":""},{"$f":"PROPER(OFFSET(Entries!$C$2,Results!$N48,0))","v":"David Beel"},"M",null,{"$f":"MATCH($B48,Entries!$A$3:$A$1001,0)","v":92},0,{"$f":"IF(ISERROR(OFFSET(Results!$B$3,MATCH(Entries!A47,Results!B$4:B345,0),0)),Entries!A47,0)","v":0},null,"-",1000,{"$f":"IF(ISERROR(MATCH(R48,R$3:R47,0)),R48,\"-\")","v":"-"},{"$f":"IF(ISERROR(MATCH(S48,S$3:S47,0)),S48,\"-\")","v":"-"},99999,"-",1000,{"$f":"IF(ISERROR(MATCH(W48,W$3:W47,0)),W48,\"-\")","v":"-"},99999,null,null,null,null,{"$f":"COUNTIF($I$3:L$500,AF48)","v":0},{"$f":"Entries!Z36","v":"-"},1000,0,null,null,null,0,{"$f":"SMALL(IF(($I$4:$I$500=$AH48),Results!$A$4:$A$500),COLUMN(A33))","v":0},{"$f":"SMALL(IF(($I$4:$I$500=$AH48),Results!$A$4:$A$500),COLUMN(B33))","v":0},{"$f":"SMALL(IF(($I$4:$I$500=$AH48),Results!$A$4:$A$500),COLUMN(C33))","v":0},{"$f":"SMALL(IF(($I$4:$I$500=$AH48),Results!$A$4:$A$500),COLUMN(D33))","v":0},12046.013999999999,null,{"$f":"OFFSET(Z$3,SMALL(Z$4:Z332,ROW(A33)),-1)","v":0},{"$f":"SMALL(IF(($W$4:$W$300=$AS48),$X$4:$X$300),COLUMN(A33))","v":{"$error":"#NUM!"}},{"$f":"SMALL(IF(($W$4:$W$300=$AS48),$X$4:$X$300),COLUMN(B33))","v":{"$error":"#NUM!"}},{"$f":"SMALL(IF(($W$4:$W$300=$AS48),$X$4:$X$300),COLUMN(C33))","v":{"$error":"#NUM!"}},{"$f":"SMALL(IF(($W$4:$W$300=$AS48),$X$4:$X$300),COLUMN(D33))","v":{"$error":"#NUM!"}},0,"-",{"$f":"SMALL(AY$16:AY332,ROW(A33))","v":{"$error":"#NUM!"}},null,null,null,{"$f":"OFFSET(T$3,SMALL(V$4:V332,ROW(A33)),0)","v":"-"},{"$f":"SMALL(IF(($R$4:$R$300=$BD48),$S$4:$S$300),COLUMN(A33))","v":1000},{"$f":"SMALL(IF(($R$4:$R$300=$BD48),$S$4:$S$300),COLUMN(B33))","v":1000},{"$f":"SMALL(IF(($R$4:$R$300=$BD48),$S$4:$S$300),COLUMN(C33))","v":1000},{"$f":"SMALL(IF(($R$4:$R$300=$BD48),$S$4:$S$300),COLUMN(D33))","v":1000},234,3001]
[46,93,0,33,34,"","Mike Adsett",{"$f":"IF($B49>0,OFFSET(Entries!$C$2,Results!$N49,7),\"\")","v":"MV50"},{"$f":"PROPER(IF($B49>0,club(OFFSET(Entries!$I$2,Results!$N49,0)),\"\"))","v":"Unattached"},{"$f":"nLocal(OFFSET(Entries!$C$2,Results!$N49,5),H49)","v":"MB"},{"$f":"PROPER(OFFSET(Entries!$C$2,Results!$N49,0))","v":"Mike Adsett"},"MVD",null,{"$f":"MATCH($B49,Entries!$A$3:$A$1001,0)","v":94},"50",{"$f":"IF(ISERROR(OFFSET(Results!$B$3,MATCH(Entries!A48,Results!B$4:B346,0),0)),Entries!A48,0)","v":0},null,"Unattached",46,{"$f":"IF(ISERROR(MATCH(R49,R$3:R48,0)),R49,\"-\")","v":"-"},{"$f":"IF(ISERROR(MATCH(S49,S$3:S48,0)),S49,\"-\")","v":46},46,"-",1000,{"$f":"IF(ISERROR(MATCH(W49,W$3:W48,0)),W49,\"-\")","v":"-"},99999,null,null,null,null,{"$f":"COUNTIF($I$3:L$500,AF49)","v":0},{"$f":"Entries!Z37","v":"-"},1000,0,null,null,null,0,{"$f":"SMALL(IF(($I$4:$I$500=$AH49),Results!$A$4:$A$500),COLUMN(A34))","v":0},{"$f":"SMALL(IF(($I$4:$I$500=$AH49),Results!$A$4:$A$500),COLUMN(B34))","v":0},{"$f":"SMALL(IF(($I$4:$I$500=$AH49),Results!$A$4:$A$500),COLUMN(C34))","v":0},{"$f":"SMALL(IF(($I$4:$I$500=$AH49),Results!$A$4:$A$500),COLUMN(D34))","v":0},12046.013999999999]
[47,20,0,33,52,"","Rob Willis",{"$f":"IF($B50>0,OFFSET(Entries!$C$2,Results!$N50,7),\"\")","v":"MV40"},{"$f":"PROPER(IF($B50>0,club(OFFSET(Entries!$I$2,Results!$N50,0)),\"\"))","v":"Totley Ac"},{"$f":"nLocal(OFFSET(Entries!$C$2,Results!$N50,5),H50)","v":""},{"$f":"PROPER(OFFSET(Entries!$C$2,Results!$N50,0))","v":"Rob Willis"},"M",null,{"$f":"MATCH($B50,Entries!$A$3:$A$1001,0)","v":21},"40",{"$f":"IF(ISERROR(OFFSET(Results!$B$3,MATCH(Entries!A49,Results!B$4:B347,0),0)),Entries!A49,0)","v":0},null,"Totley Ac",47,{"$f":"IF(ISERROR(MATCH(R50,R$3:R49,0)),R50,\"-\")","v":"Totley Ac"},{"$f":"IF(ISERROR(MATCH(S50,S$3:S49,0)),S50,\"-\")","v":47},47,"-",1000,{"$f":"IF(ISERROR(MATCH(W50,W$3:W49,0)),W50,\"-\")","v":"-"},99999,null,null,null,null,{"$f":"COUNTIF($I$3:L$500,AF50)","v":0},{"$f":"Entries!Z38","v":"-"},1000,0,null,null,null,0,{"$f":"SMALL(IF(($I$4:$I$500=$AH50),Results!$A$4:$A$500),COLUMN(A35))","v":0},{"$f":"SMALL(IF(($I$4:$I$500=$AH50),Results!$A$4:$A$500),COLUMN(B35))","v":0},{"$f":"SMALL(IF(($I$4:$I$500=$AH50),Results!$A$4:$A$500),COLUMN(C35))","v":0},{"$f":"SMALL(IF(($I$4:$I$500=$AH50),Results!$A$4:$A$500),COLUMN(D35))","v":0},12046.013999999999]
[48,68,0,33,54,"Jimmy Sharman","",{"$f":"IF($B51>0,OFFSET(Entries!$C$2,Results!$N51,7),\"\")","v":"MS"},{"$f":"PROPER(IF($B51>0,club(OFFSET(Entries!$I$2,Results!$N51,0)),\"\"))","v":"Steel City Striders"},{"$f":"nLocal(OFFSET(Entries!$C$2,Results!$N51,5),H51)","v":""},{"$f":"PROPER(OFFSET(Entries!$C$2,Results!$N51,0))","v":"Jimmy Sharman"},"M",null,{"$f":"MATCH($B51,Entries!$A$3:$A$1001,0)","v":69},0,{"$f":"IF(ISERROR(OFFSET(Results!$B$3,MATCH(Entries!A50,Results!B$4:B348,0),0)),Entries!A50,0)","v":0},null,"-",1000,{"$f":"IF(ISERROR(MATCH(R51,R$3:R50,0)),R51,\"-\")","v":"-"},{"$f":"IF(ISERROR(MATCH(S51,S$3:S50,0)),S51,\"-\")","v":"-"},99999,"-",1000,{"$f":"IF(ISERROR(MATCH(W51,W$3:W50,0)),W51,\"-\")","v":"-"},99999,null,null,null,null,{"$f":"COUNTIF($I$3:L$500,AF51)","v":0},{"$f":"Entries!Z39","v":"-"},1000,0,null,null,null,0,{"$f":"SMALL(IF(($I$4:$I$500=$AH51),Results!$A$4:$A$500),COLUMN(A36))","v":0},{"$f":"SMALL(IF(($I$4:$I$500=$AH51),Results!$A$4:$A$500),COLUMN(B36))","v":0},{"$f":"SMALL(IF(($I$4:$I$500=$AH51),Results!$A$4:$A$500),COLUMN(C36))","v":0},{"$f":"SMALL(IF(($I$4:$I$500=$AH51),Results!$A$4:$A$500),COLUMN(D36))","v":0},12046.013999999999]
[49,106,0,33,55,"Thomas Mccart","",{"$f":"IF($B52>0,OFFSET(Entries!$C$2,Results!$N52,7),\"\")","v":"MS"},{"$f":"PROPER(IF($B52>0,club(OFFSET(Entries!$I$2,Results!$N52,0)),\"\"))","v":"Steel City Striders"},{"$f":"nLocal(OFFSET(Entries!$C$2,Results!$N52,5),H52)","v":""},{"$f":"PROPER(OFFSET(Entries!$C$2,Results!$N52,0))","v":"Thomas Mccart"},"M",null,{"$f":"MATCH($B52,Entries!$A$3:$A$1001,0)","v":107},0,{"$f":"IF(ISERROR(OFFSET(Results!$B$3,MATCH(Entries!A51,Results!B$4:B349,0),0)),Entries!A51,0)","v":0},null,"-",1000,{"$f":"IF(ISERROR(MATCH(R52,R$3:R51,0)),R52,\"-\")","v":"-"},{"$f":"IF(ISERROR(MATCH(S52,S$3:S51,0)),S52,\"-\")","v":"-"},99999,"-",1000,{"$f":"IF(ISERROR(MATCH(W52,W$3:W51,0)),W52,\"-\")","v":"-"},99999,null,null,null,null,{"$f":"COUNTIF($I$3:L$500,AF52)","v":0},{"$f":"Entries!Z40","v":"-"},1000,0,null,null,null,0,{"$f":"SMALL(IF(($I$4:$I$500=$AH52),Results!$A$4:$A$500),COLUMN(A37))","v":0},{"$f":"SMALL(IF(($I$4:$I$500=$AH52),Results!$A$4:$A$500),COLUMN(B37))","v":0},{"$f":"SMALL(IF(($I$4:$I$500=$AH52),Results!$A$4:$A$500),COLUMN(C37))","v":0},{"$f":"SMALL(IF(($I$4:$I$500=$AH52),Results!$A$4:$A$500),COLUMN(D37))","v":0},12046.013999999999]
[50,85,0,34,17,"","Roland Meylan",{"$f":"IF($B53>0,OFFSET(Entries!$C$2,Results!$N53,7),\"\")","v":"MV45"},{"$f":"PROPER(IF($B53>0,club(OFFSET(Entries!$I$2,Results!$N53,0)),\"\"))","v":"Buxton Ac"},{"$f":"nLocal(OFFSET(Entries!$C$2,Results!$N53,5),H53)","v":""},{"$f":"PROPER(OFFSET(Entries!$C$2,Results!$N53,0))","v":"Roland Meylan"},"MV",null,{"$f":"MATCH($B53,Entries!$A$3:$A$1001,0)","v":86},"45",{"$f":"IF(ISERROR(OFFSET(Results!$B$3,MATCH(Entries!A52,Results!B$4:B350,0),0)),Entries!A52,0)","v":0},null,"Buxton Ac",50,{"$f":"IF(ISERROR(MATCH(R53,R$3:R52,0)),R53,\"-\")","v":"-"},{"$f":"IF(ISERROR(MATCH(S53,S$3:S52,0)),S53,\"-\")","v":50},50,"-",1000,{"$f":"IF(ISERROR(MATCH(W53,W$3:W52,0)),W53,\"-\")","v":"-"},99999,null,null,null,null,{"$f":"COUNTIF($I$3:L$500,AF53)","v":0},{"$f":"Entries!Z41","v":"-"},1000,0,null,null,null,0,{"$f":"SMALL(IF(($I$4:$I$500=$AH53),Results!$A$4:$A$500),COLUMN(A38))","v":0},{"$f":"SMALL(IF(($I$4:$I$500=$AH53),Results!$A$4:$A$500),COLUMN(B38))","v":0},{"$f":"SMALL(IF(($I$4:$I$500=$AH53),Results!$A$4:$A$500),COLUMN(C38))","v":0},{"$f":"SMALL(IF(($I$4:$I$500=$AH53),Results!$A$4:$A$500),COLUMN(D38))","v":0},12046.013999999999]
[51,83,0,34,18,"","Stephen Hughes",{"$f":"IF($B54>0,OFFSET(Entries!$C$2,Results!$N54,7),\"\")","v":"MV45"},{"$f":"PROPER(IF($B54>0,club(OFFSET(Entries!$I$2,Results!$N54,0)),\"\"))","v":"Unattached"},{"$f":"nLocal(OFFSET(Entries!$C$2,Results!$N54,5),H54)","v":"MB"},{"$f":"PROPER(OFFSET(Entries!$C$2,Results!$N54,0))","v":"Stephen Hughes"},"MV",null,{"$f":"MATCH($B54,Entries!$A$3:$A$1001,0)","v":84},"45",{"$f":"IF(ISERROR(OFFSET(Results!$B$3,MATCH(Entries!A53,Results!B$4:B351,0),0)),Entries!A53,0)","v":0},null,"Unattached",51,{"$f":"IF(ISERROR(MATCH(R54,R$3:R53,0)),R54,\"-\")","v":"-"},{"$f":"IF(ISERROR(MATCH(S54,S$3:S53,0)),S54,\"-\")","v":51},51,"-",1000,{"$f":"IF(ISERROR(MATCH(W54,W$3:W53,0)),W54,\"-\")","v":"-"},99999,null,null,null,null,{"$f":"COUNTIF($I$3:L$500,AF54)","v":0},{"$f":"Entries!Z42","v":"-"},1000,0,null,null,null,0,{"$f":"SMALL(IF(($I$4:$I$500=$AH54),Results!$A$4:$A$500),COLUMN(A39))","v":0},{"$f":"SMALL(IF(($I$4:$I$500=$AH54),Results!$A$4:$A$500),COLUMN(B39))","v":0},{"$f":"SMALL(IF(($I$4:$I$500=$AH54),Results!$A$4:$A$500),COLUMN(C39))","v":0},{"$f":"SMALL(IF(($I$4:$I$500=$AH54),Results!$A$4:$A$500),COLUMN(D39))","v":0},12046.013999999999]
[52,17,0,34,23,"","Graham Barnes",{"$f":"IF($B55>0,OFFSET(Entries!$C$2,Results!$N55,7),\"\")","v":"MV60"},{"$f":"PROPER(IF($B55>0,club(OFFSET(Entries!$I$2,Results!$N55,0)),\"\"))","v":"Unattached"},{"$f":"nLocal(OFFSET(Entries!$C$2,Results!$N55,5),H55)","v":""},{"$f":"PROPER(OFFSET(Entries!$C$2,Results!$N55,0))","v":"Graham Barnes"},"MVDEX",null,{"$f":"MATCH($B55,Entries!$A$3:$A$1001,0)","v":18},"60",{"$f":"IF(ISERROR(OFFSET(Results!$B$3,MATCH(Entries!A54,Results!B$4:B352,0),0)),Entries!A54,0)","v":0},null,"Unattached",52,{"$f":"IF(ISERROR(MATCH(R55,R$3:R54,0)),R55,\"-\")","v":"-"},{"$f":"IF(ISERROR(MATCH(S55,S$3:S54,0)),S55,\"-\")","v":52},52,"-",1000,{"$f":"IF(ISERROR(MATCH(W55,W$3:W54,0)),W55,\"-\")","v":"-"},99999,null,null,null,null,{"$f":"COUNTIF($I$3:L$500,AF55)","v":0},{"$f":"Entries!Z43","v":"-"},1000,0,null,null,null,0,{"$f":"SMALL(IF(($I$4:$I$500=$AH55),Results!$A$4:$A$500),COLUMN(A40))","v":0},{"$f":"SMALL(IF(($I$4:$I$500=$AH55),Results!$A$4:$A$500),COLUMN(B40))","v":0},{"$f":"SMALL(IF(($I$4:$I$500=$AH55),Results!$A$4:$A$500),COLUMN(C40))","v":0},{"$f":"SMALL(IF(($I$4:$I$500=$AH55),Results!$A$4:$A$500),COLUMN(D40))","v":0},12046.013999999999]
[53,109,0,34,37,"","Dave Sykes",{"$f":"IF($B56>0,OFFSET(Entries!$C$2,Results!$N56,7),\"\")","v":"MV40"},{"$f":"PROPER(IF($B56>0,club(OFFSET(Entries!$I$2,Results!$N56,0)),\"\"))","v":"Dark Peak"},{"$f":"nLocal(OFFSET(Entries!$C$2,Results!$N56,5),H56)","v":""},{"$f":"PROPER(OFFSET(Entries!$C$2,Results!$N56,0))","v":"Dave Sykes"},"M",null,{"$f":"MATCH($B56,Entries!$A$3:$A$1001,0)","v":110},"40",{"$f":"IF(ISERROR(OFFSET(Results!$B$3,MATCH(Entries!A55,Results!B$4:B353,0),0)),Entries!A55,0)","v":0},null,"Dark Peak",53,{"$f":"IF(ISERROR(MATCH(R56,R$3:R55,0)),R56,\"-\")","v":"-"},{"$f":"IF(ISERROR(MATCH(S56,S$3:S55,0)),S56,\"-\")","v":53},53,"-",1000,{"$f":"IF(ISERROR(MATCH(W56,W$3:W55,0)),W56,\"-\")","v":"-"},99999,null,null,null,null,{"$f":"COUNTIF($I$3:L$500,AF56)","v":0},{"$f":"Entries!Z44","v":"-"},1000,0,null,null,null,0,{"$f":"SMALL(IF(($I$4:$I$500=$AH56),Results!$A$4:$A$500),COLUMN(A41))","v":0},{"$f":"SMALL(IF(($I$4:$I$500=$AH56),Results!$A$4:$A$500),COLUMN(B41))","v":0},{"$f":"SMALL(IF(($I$4:$I$500=$AH56),Results!$A$4:$A$500),COLUMN(C41))","v":0},{"$f":"SMALL(IF(($I$4:$I$500=$AH56),Results!$A$4:$A$500),COLUMN(D41))","v":0},12046.013999999999]
[54,37,0,34,38,"","Stuart Rook",{"$f":"IF($B57>0,OFFSET(Entries!$C$2,Results!$N57,7),\"\")","v":"MV40"},{"$f":"PROPER(IF($B57>0,club(OFFSET(Entries!$I$2,Results!$N57,0)),\"\"))","v":"Tideswell Rc"},{"$f":"nLocal(OFFSET(Entries!$C$2,Results!$N57,5),H57)","v":"MB"},{"$f":"PROPER(OFFSET(Entries!$C$2,Results!$N57,0))","v":"Stuart Rook"},"M",null,{"$f":"MATCH($B57,Entries!$A$3:$A$1001,0)","v":38},"40",{"$f":"IF(ISERROR(OFFSET(Results!$B$3,MATCH(Entries!A56,Results!B$4:B354,0),0)),Entries!A56,0)","v":0},null,"Tideswell Rc",54,{"$f":"IF(ISERROR(MATCH(R57,R$3:R56,0)),R57,\"-\")","v":"-"},{"$f":"IF(ISERROR(MATCH(S57,S$3:S56,0)),S57,\"-\")","v":54},54,"-",1000,{"$f":"IF(ISERROR(MATCH(W57,W$3:W56,0)),W57,\"-\")","v":"-"},99999,null,null,null,null,{"$f":"COUNTIF($I$3:L$500,AF57)","v":0},{"$f":"Entries!Z45","v":"-"},1000,0,null,null,null,0,{"$f":"SMALL(IF(($I$4:$I$500=$AH57),Results!$A$4:$A$500),COLUMN(A42))","v":0},{"$f":"SMALL(IF(($I$4:$I$500=$AH57),Results!$A$4:$A$500),COLUMN(B42))","v":0},{"$f":"SMALL(IF(($I$4:$I$500=$AH57),Results!$A$4:$A$500),COLUMN(C42))","v":0},{"$f":"SMALL(IF(($I$4:$I$500=$AH57),Results!$A$4:$A$500),COLUMN(D42))","v":0},12046.013999999999]
[55,28,0,34,39,"","Neil Hindle",{"$f":"IF($B58>0,OFFSET(Entries!$C$2,Results!$N58,7),\"\")","v":"MV60"},{"$f":"PROPER(IF($B58>0,club(OFFSET(Entries!$I$2,Results!$N58,0)),\"\"))","v":"Fra"},{"$f":"nLocal(OFFSET(Entries!$C$2,Results!$N58,5),H58)","v":""},{"$f":"PROPER(OFFSET(Entries!$C$2,Results!$N58,0))","v":"Neil Hindle"},"MVDEX",null,{"$f":"MATCH($B58,Entries!$A$3:$A$1001,0)","v":29},"60",{"$f":"IF(ISERROR(OFFSET(Results!$B$3,MATCH(Entries!A57,Results!B$4:B355,0),0)),Entries!A57,0)","v":0},null,"Fra",55,{"$f":"IF(ISERROR(MATCH(R58,R$3:R57,0)),R58,\"-\")","v":"Fra"},{"$f":"IF(ISERROR(MATCH(S58,S$3:S57,0)),S58,\"-\")","v":55},55,"-",1000,{"$f":"IF(ISERROR(MATCH(W58,W$3:W57,0)),W58,\"-\")","v":"-"},99999,null,null,null,null,{"$f":"COUNTIF($I$3:L$500,AF58)","v":0},{"$f":"Entries!Z46","v":"-"},1000,0,null,null,null,0,{"$f":"SMALL(IF(($I$4:$I$500=$AH58),Results!$A$4:$A$500),COLUMN(A43))","v":0},{"$f":"SMALL(IF(($I$4:$I$500=$AH58),Results!$A$4:$A$500),COLUMN(B43))","v":0},{"$f":"SMALL(IF(($I$4:$I$500=$AH58),Results!$A$4:$A$500),COLUMN(C43))","v":0},{"$f":"SMALL(IF(($I$4:$I$500=$AH58),Results!$A$4:$A$500),COLUMN(D43))","v":0},12046.013999999999]
[56,103,0,34,52,"Clare Howarth","",{"$f":"IF($B59>0,OFFSET(Entries!$C$2,Results!$N59,7),\"\")","v":"FS"},{"$f":"PROPER(IF($B59>0,club(OFFSET(Entries!$I$2,Results!$N59,0)),\"\"))","v":"Totley Ac"},{"$f":"nLocal(OFFSET(Entries!$C$2,Results!$N59,5),H59)","v":""},{"$f":"PROPER(OFFSET(Entries!$C$2,Results!$N59,0))","v":"Clare Howarth"},"F",null,{"$f":"MATCH($B59,Entries!$A$3:$A$1001,0)","v":104},0,{"$f":"IF(ISERROR(OFFSET(Results!$B$3,MATCH(Entries!A58,Results!B$4:B356,0),0)),Entries!A58,0)","v":0},null,"-",1000,{"$f":"IF(ISERROR(MATCH(R59,R$3:R58,0)),R59,\"-\")","v":"-"},{"$f":"IF(ISERROR(MATCH(S59,S$3:S58,0)),S59,\"-\")","v":"-"},99999,"Totley Ac",56,{"$f":"IF(ISERROR(MATCH(W59,W$3:W58,0)),W59,\"-\")","v":"Totley Ac"},56,null,null,null,null,{"$f":"COUNTIF($I$3:L$500,AF59)","v":0},{"$f":"Entries!Z47","v":"-"},1000,0,null,null,null,0,{"$f":"SMALL(IF(($I$4:$I$500=$AH59),Results!$A$4:$A$500),COLUMN(A44))","v":0},{"$f":"SMALL(IF(($I$4:$I$500=$AH59),Results!$A$4:$A$500),COLUMN(B44))","v":0},{"$f":"SMALL(IF(($I$4:$I$500=$AH59),Results!$A$4:$A$500),COLUMN(C44))","v":0},{"$f":"SMALL(IF(($I$4:$I$500=$AH59),Results!$A$4:$A$500),COLUMN(D44))","v":0},12046.013999999999]
[57,59,0,34,56,"","Lee Gordon",{"$f":"IF($B60>0,OFFSET(Entries!$C$2,Results!$N60,7),\"\")","v":"MV40"},{"$f":"PROPER(IF($B60>0,club(OFFSET(Entries!$I$2,Results!$N60,0)),\"\"))","v":"Fusion Cc"},{"$f":"nLocal(OFFSET(Entries!$C$2,Results!$N60,5),H60)","v":""},{"$f":"PROPER(OFFSET(Entries!$C$2,Results!$N60,0))","v":"Lee Gordon"},"M",null,{"$f":"MATCH($B60,Entries!$A$3:$A$1001,0)","v":60},"40",{"$f":"IF(ISERROR(OFFSET(Results!$B$3,MATCH(Entries!A59,Results!B$4:B357,0),0)),Entries!A59,0)","v":0},null,"Fusion Cc",57,{"$f":"IF(ISERROR(MATCH(R60,R$3:R59,0)),R60,\"-\")","v":"Fusion Cc"},{"$f":"IF(ISERROR(MATCH(S60,S$3:S59,0)),S60,\"-\")","v":57},57,"-",1000,{"$f":"IF(ISERROR(MATCH(W60,W$3:W59,0)),W60,\"-\")","v":"-"},99999,null,null,null,null,{"$f":"COUNTIF($I$3:L$500,AF60)","v":0},{"$f":"Entries!Z48","v":"-"},1000,0,null,null,null,0,{"$f":"SMALL(IF(($I$4:$I$500=$AH60),Results!$A$4:$A$500),COLUMN(A45))","v":0},{"$f":"SMALL(IF(($I$4:$I$500=$AH60),Results!$A$4:$A$500),COLUMN(B45))","v":0},{"$f":"SMALL(IF(($I$4:$I$500=$AH60),Results!$A$4:$A$500),COLUMN(C45))","v":0},{"$f":"SMALL(IF(($I$4:$I$500=$AH60),Results!$A$4:$A$500),COLUMN(D45))","v":0},12046.013999999999]
[58,11,0,35,0,"","Peter Stanley",{"$f":"IF($B61>0,OFFSET(Entries!$C$2,Results!$N61,7),\"\")","v":"MV55"},{"$f":"PROPER(IF($B61>0,club(OFFSET(Entries!$I$2,Results!$N61,0)),\"\"))","v":"Penistone Footpath Runners"},{"$f":"nLocal(OFFSET(Entries!$C$2,Results!$N61,5),H61)","v":""},{"$f":"PROPER(OFFSET(Entries!$C$2,Results!$N61,0))","v":"Peter Stanley"},"MVDE",null,{"$f":"MATCH($B61,Entries!$A$3:$A$1001,0)","v":12},"55",{"$f":"IF(ISERROR(OFFSET(Results!$B$3,MATCH(Entries!A60,Results!B$4:B358,0),0)),Entries!A60,0)","v":0},null,"Penistone Footpath Runners",58,{"$f":"IF(ISERROR(MATCH(R61,R$3:R60,0)),R61,\"-\")","v":"Penistone Footpath Runners"},{"$f":"IF(ISERROR(MATCH(S61,S$3:S60,0)),S61,\"-\")","v":58},58,"-",1000,{"$f":"IF(ISERROR(MATCH(W61,W$3:W60,0)),W61,\"-\")","v":"-"},99999,null,null,null,null,{"$f":"COUNTIF($I$3:L$500,AF61)","v":0},{"$f":"Entries!Z49","v":"-"},1000,0,null,null,null,0,{"$f":"SMALL(IF(($I$4:$I$500=$AH61),Results!$A$4:$A$500),COLUMN(A46))","v":0},{"$f":"SMALL(IF(($I$4:$I$500=$AH61),Results!$A$4:$A$500),COLUMN(B46))","v":0},{"$f":"SMALL(IF(($I$4:$I$500=$AH61),Results!$A$4:$A$500),COLUMN(C46))","v":0},{"$f":"SMALL(IF(($I$4:$I$500=$AH61),Results!$A$4:$A$500),COLUMN(D46))","v":0},12046.013999999999]
[59,53,0,35,8,"","Will Day",{"$f":"IF($B62>0,OFFSET(Entries!$C$2,Results!$N62,7),\"\")","v":"MV45"},{"$f":"PROPER(IF($B62>0,club(OFFSET(Entries!$I$2,Results!$N62,0)),\"\"))","v":"Dark Peak"},{"$f":"nLocal(OFFSET(Entries!$C$2,Results!$N62,5),H62)","v":""},{"$f":"PROPER(OFFSET(Entries!$C$2,Results!$N62,0))","v":"Will Day"},"MV",null,{"$f":"MATCH($B62,Entries!$A$3:$A$1001,0)","v":54},"45",{"$f":"IF(ISERROR(OFFSET(Results!$B$3,MATCH(Entries!A61,Results!B$4:B359,0),0)),Entries!A61,0)","v":58},null,"Dark Peak",59,{"$f":"IF(ISERROR(MATCH(R62,R$3:R61,0)),R62,\"-\")","v":"-"},{"$f":"IF(ISERROR(MATCH(S62,S$3:S61,0)),S62,\"-\")","v":59},59,"-",1000,{"$f":"IF(ISERROR(MATCH(W62,W$3:W61,0)),W62,\"-\")","v":"-"},99999,null,null,null,null,{"$f":"COUNTIF($I$3:L$500,AF62)","v":0},{"$f":"Entries!Z50","v":"-"},1000,0,null,null,null,0,{"$f":"SMALL(IF(($I$4:$I$500=$AH62),Results!$A$4:$A$500),COLUMN(A47))","v":0},{"$f":"SMALL(IF(($I$4:$I$500=$AH62),Results!$A$4:$A$500),COLUMN(B47))","v":0},{"$f":"SMALL(IF(($I$4:$I$500=$AH62),Results!$A$4:$A$500),COLUMN(C47))","v":0},{"$f":"SMALL(IF(($I$4:$I$500=$AH62),Results!$A$4:$A$500),COLUMN(D47))","v":0},12046.013999999999]
[60,27,0,35,22,"Lorenzo Allievi","",{"$f":"IF($B63>0,OFFSET(Entries!$C$2,Results!$N63,7),\"\")","v":"MS"},{"$f":"PROPER(IF($B63>0,club(OFFSET(Entries!$I$2,Results!$N63,0)),\"\"))","v":"Totley Ac"},{"$f":"nLocal(OFFSET(Entries!$C$2,Results!$N63,5),H63)","v":""},{"$f":"PROPER(OFFSET(Entries!$C$2,Results!$N63,0))","v":"Lorenzo Allievi"},"M",null,{"$f":"MATCH($B63,Entries!$A$3:$A$1001,0)","v":28},0,{"$f":"IF(ISERROR(OFFSET(Results!$B$3,MATCH(Entries!A62,Results!B$4:B360,0),0)),Entries!A62,0)","v":0},null,"-",1000,{"$f":"IF(ISERROR(MATCH(R63,R$3:R62,0)),R63,\"-\")","v":"-"},{"$f":"IF(ISERROR(MATCH(S63,S$3:S62,0)),S63,\"-\")","v":"-"},99999,"-",1000,{"$f":"IF(ISERROR(MATCH(W63,W$3:W62,0)),W63,\"-\")","v":"-"},99999,null,null,null,null,{"$f":"COUNTIF($I$3:L$500,AF63)","v":0},{"$f":"Entries!Z51","v":"-"},1000,0,null,null,null,0,{"$f":"SMALL(IF(($I$4:$I$500=$AH63),Results!$A$4:$A$500),COLUMN(A48))","v":0},{"$f":"SMALL(IF(($I$4:$I$500=$AH63),Results!$A$4:$A$500),COLUMN(B48))","v":0},{"$f":"SMALL(IF(($I$4:$I$500=$AH63),Results!$A$4:$A$500),COLUMN(C48))","v":0},{"$f":"SMALL(IF(($I$4:$I$500=$AH63),Results!$A$4:$A$500),COLUMN(D48))","v":0},12046.013999999999]
[61,35,0,35,26,"","Emma Dent",{"$f":"IF($B64>0,OFFSET(Entries!$C$2,Results!$N64,7),\"\")","v":"FV45"},{"$f":"PROPER(IF($B64>0,club(OFFSET(Entries!$I$2,Results!$N64,0)),\"\"))","v":"Totley Ac"},{"$f":"nLocal(OFFSET(Entries!$C$2,Results!$N64,5),H64)","v":""},{"$f":"PROPER(OFFSET(Entries!$C$2,Results!$N64,0))","v":"Emma Dent"},"FV",null,{"$f":"MATCH($B64,Entries!$A$3:$A$1001,0)","v":36},"45",{"$f":"IF(ISERROR(OFFSET(Results!$B$3,MATCH(Entries!A63,Results!B$4:B361,0),0)),Entries!A63,0)","v":0},null,"Totley Ac",61,{"$f":"IF(ISERROR(MATCH(R64,R$3:R63,0)),R64,\"-\")","v":"-"},{"$f":"IF(ISERROR(MATCH(S64,S$3:S63,0)),S64,\"-\")","v":61},61,"Totley Ac",61,{"$f":"IF(ISERROR(MATCH(W64,W$3:W63,0)),W64,\"-\")","v":"-"},99999,null,null,null,null,{"$f":"COUNTIF($I$3:L$500,AF64)","v":0},{"$f":"Entries!Z52","v":"-"},1000,0,null,null,null,0,{"$f":"SMALL(IF(($I$4:$I$500=$AH64),Results!$A$4:$A$500),COLUMN(A49))","v":0},{"$f":"SMALL(IF(($I$4:$I$500=$AH64),Results!$A$4:$A$500),COLUMN(B49))","v":0},{"$f":"SMALL(IF(($I$4:$I$500=$AH64),Results!$A$4:$A$500),COLUMN(C49))","v":0},{"$f":"SMALL(IF(($I$4:$I$500=$AH64),Results!$A$4:$A$500),COLUMN(D49))","v":0},12046.013999999999]
[62,63,0,35,28,"Mark Hatfield","",{"$f":"IF($B65>0,OFFSET(Entries!$C$2,Results!$N65,7),\"\")","v":"MS"},{"$f":"PROPER(IF($B65>0,club(OFFSET(Entries!$I$2,Results!$N65,0)),\"\"))","v":"Unattached"},{"$f":"nLocal(OFFSET(Entries!$C$2,Results!$N65,5),H65)","v":""},{"$f":"PROPER(OFFSET(Entries!$C$2,Results!$N65,0))","v":"Mark Hatfield"},"M",null,{"$f":"MATCH($B65,Entries!$A$3:$A$1001,0)","v":64},0,{"$f":"IF(ISERROR(OFFSET(Results!$B$3,MATCH(Entries!A64,Results!B$4:B362,0),0)),Entries!A64,0)","v":0},null,"-",1000,{"$f":"IF(ISERROR(MATCH(R65,R$3:R64,0)),R65,\"-\")","v":"-"},{"$f":"IF(ISERROR(MATCH(S65,S$3:S64,0)),S65,\"-\")","v":"-"},99999,"-",1000,{"$f":"IF(ISERROR(MATCH(W65,W$3:W64,0)),W65,\"-\")","v":"-"},99999,null,null,null,null,{"$f":"COUNTIF($I$3:L$500,AF65)","v":0},{"$f":"Entries!Z53","v":"-"},1000,0,null,null,null,0,{"$f":"SMALL(IF(($I$4:$I$500=$AH65),Results!$A$4:$A$500),COLUMN(A50))","v":0},{"$f":"SMALL(IF(($I$4:$I$500=$AH65),Results!$A$4:$A$500),COLUMN(B50))","v":0},{"$f":"SMALL(IF(($I$4:$I$500=$AH65),Results!$A$4:$A$500),COLUMN(C50))","v":0},{"$f":"SMALL(IF(($I$4:$I$500=$AH65),Results!$A$4:$A$500),COLUMN(D50))","v":0},12046.013999999999]
[63,8,0,35,29,"","Trevor Burton",{"$f":"IF($B66>0,OFFSET(Entries!$C$2,Results!$N66,7),\"\")","v":"MV55"},{"$f":"PROPER(IF($B66>0,club(OFFSET(Entries!$I$2,Results!$N66,0)),\"\"))","v":"Steel City Striders"},{"$f":"nLocal(OFFSET(Entries!$C$2,Results!$N66,5),H66)","v":""},{"$f":"PROPER(OFFSET(Entries!$C$2,Results!$N66,0))","v":"Trevor Burton"},"MVDE",null,{"$f":"MATCH($B66,Entries!$A$3:$A$1001,0)","v":9},"55",{"$f":"IF(ISERROR(OFFSET(Results!$B$3,MATCH(Entries!A65,Results!B$4:B363,0),0)),Entries!A65,0)","v":0},null,"Steel City Striders",63,{"$f":"IF(ISERROR(MATCH(R66,R$3:R65,0)),R66,\"-\")","v":"-"},{"$f":"IF(ISERROR(MATCH(S66,S$3:S65,0)),S66,\"-\")","v":63},63,"-",1000,{"$f":"IF(ISERROR(MATCH(W66,W$3:W65,0)),W66,\"-\")","v":"-"},99999,null,null,null,null,{"$f":"COUNTIF($I$3:L$500,AF66)","v":0},{"$f":"Entries!Z54","v":"-"},1000,0,null,null,null,0,{"$f":"SMALL(IF(($I$4:$I$500=$AH66),Results!$A$4:$A$500),COLUMN(A51))","v":0},{"$f":"SMALL(IF(($I$4:$I$500=$AH66),Results!$A$4:$A$500),COLUMN(B51))","v":0},{"$f":"SMALL(IF(($I$4:$I$500=$AH66),Results!$A$4:$A$500),COLUMN(C51))","v":0},{"$f":"SMALL(IF(($I$4:$I$500=$AH66),Results!$A$4:$A$500),COLUMN(D51))","v":0},12046.013999999999]
[64,110,0,35,30,"Joe Dunne","",{"$f":"IF($B67>0,OFFSET(Entries!$C$2,Results!$N67,7),\"\")","v":"MS"},{"$f":"PROPER(IF($B67>0,club(OFFSET(Entries!$I$2,Results!$N67,0)),\"\"))","v":"Unattached"},{"$f":"nLocal(OFFSET(Entries!$C$2,Results!$N67,5),H67)","v":""},{"$f":"PROPER(OFFSET(Entries!$C$2,Results!$N67,0))","v":"Joe Dunne"},"M",null,{"$f":"MATCH($B67,Entries!$A$3:$A$1001,0)","v":111},0,{"$f":"IF(ISERROR(OFFSET(Results!$B$3,MATCH(Entries!A66,Results!B$4:B364,0),0)),Entries!A66,0)","v":0},null,"-",1000,{"$f":"IF(ISERROR(MATCH(R67,R$3:R66,0)),R67,\"-\")","v":"-"},{"$f":"IF(ISERROR(MATCH(S67,S$3:S66,0)),S67,\"-\")","v":"-"},99999,"-",1000,{"$f":"IF(ISERROR(MATCH(W67,W$3:W66,0)),W67,\"-\")","v":"-"},99999,null,null,null,null,{"$f":"COUNTIF($I$3:L$500,AF67)","v":0},{"$f":"Entries!Z55","v":"-"},1000,0,null,null,null,0,{"$f":"SMALL(IF(($I$4:$I$500=$AH67),Results!$A$4:$A$500),COLUMN(A52))","v":0},{"$f":"SMALL(IF(($I$4:$I$500=$AH67),Results!$A$4:$A$500),COLUMN(B52))","v":0},{"$f":"SMALL(IF(($I$4:$I$500=$AH67),Results!$A$4:$A$500),COLUMN(C52))","v":0},{"$f":"SMALL(IF(($I$4:$I$500=$AH67),Results!$A$4:$A$500),COLUMN(D52))","v":0},12046.013999999999]
[65,46,0,35,33,"","Clare Holdcroft",{"$f":"IF($B68>0,OFFSET(Entries!$C$2,Results!$N68,7),\"\")","v":"FV40"},{"$f":"PROPER(IF($B68>0,club(OFFSET(Entries!$I$2,Results!$N68,0)),\"\"))","v":"Buxton Ac"},{"$f":"nLocal(OFFSET(Entries!$C$2,Results!$N68,5),H68)","v":""},{"$f":"PROPER(OFFSET(Entries!$C$2,Results!$N68,0))","v":"Clare Holdcroft"},"F",null,{"$f":"MATCH($B68,Entries!$A$3:$A$1001,0)","v":47},"40",{"$f":"IF(ISERROR(OFFSET(Results!$B$3,MATCH(Entries!A67,Results!B$4:B365,0),0)),Entries!A67,0)","v":0},null,"Buxton Ac",65,{"$f":"IF(ISERROR(MATCH(R68,R$3:R67,0)),R68,\"-\")","v":"-"},{"$f":"IF(ISERROR(MATCH(S68,S$3:S67,0)),S68,\"-\")","v":65},65,"Buxton Ac",65,{"$f":"IF(ISERROR(MATCH(W68,W$3:W67,0)),W68,\"-\")","v":"Buxton Ac"},65,null,null,null,null,{"$f":"COUNTIF($I$3:L$500,AF68)","v":0},{"$f":"Entries!Z56","v":"-"},1000,0,null,null,null,0,{"$f":"SMALL(IF(($I$4:$I$500=$AH68),Results!$A$4:$A$500),COLUMN(A53))","v":0},{"$f":"SMALL(IF(($I$4:$I$500=$AH68),Results!$A$4:$A$500),COLUMN(B53))","v":0},{"$f":"SMALL(IF(($I$4:$I$500=$AH68),Results!$A$4:$A$500),COLUMN(C53))","v":0},{"$f":"SMALL(IF(($I$4:$I$500=$AH68),Results!$A$4:$A$500),COLUMN(D53))","v":0},12046.013999999999]
[66,98,0,35,46,"","Max Howard",{"$f":"IF($B69>0,OFFSET(Entries!$C$2,Results!$N69,7),\"\")","v":"MV55"},{"$f":"PROPER(IF($B69>0,club(OFFSET(Entries!$I$2,Results!$N69,0)),\"\"))","v":"Retford Ac"},{"$f":"nLocal(OFFSET(Entries!$C$2,Results!$N69,5),H69)","v":""},{"$f":"PROPER(OFFSET(Entries!$C$2,Results!$N69,0))","v":"Max Howard"},"MVDE",null,{"$f":"MATCH($B69,Entries!$A$3:$A$1001,0)","v":99},"55",{"$f":"IF(ISERROR(OFFSET(Results!$B$3,MATCH(Entries!A68,Results!B$4:B366,0),0)),Entries!A68,0)","v":0},null,"Retford Ac",66,{"$f":"IF(ISERROR(MATCH(R69,R$3:R68,0)),R69,\"-\")","v":"Retford Ac"},{"$f":"IF(ISERROR(MATCH(S69,S$3:S68,0)),S69,\"-\")","v":66},66,"-",1000,{"$f":"IF(ISERROR(MATCH(W69,W$3:W68,0)),W69,\"-\")","v":"-"},99999,null,null,null,null,{"$f":"COUNTIF($I$3:L$500,AF69)","v":0},{"$f":"Entries!Z57","v":"-"},1000,0,null,null,null,0,{"$f":"SMALL(IF(($I$4:$I$500=$AH69),Results!$A$4:$A$500),COLUMN(A54))","v":0},{"$f":"SMALL(IF(($I$4:$I$500=$AH69),Results!$A$4:$A$500),COLUMN(B54))","v":0},{"$f":"SMALL(IF(($I$4:$I$500=$AH69),Results!$A$4:$A$500),COLUMN(C54))","v":0},{"$f":"SMALL(IF(($I$4:$I$500=$AH69),Results!$A$4:$A$500),COLUMN(D54))","v":0},12046.013999999999]
[{"$f":"A69+1","v":67},87,0,36,7,"","Simon Hutchinson",{"$f":"IF($B70>0,OFFSET(Entries!$C$2,Results!$N70,7),\"\")","v":"MV50"},{"$f":"PROPER(IF($B70>0,club(OFFSET(Entries!$I$2,Results!$N70,0)),\"\"))","v":"Unattached"},{"$f":"nLocal(OFFSET(Entries!$C$2,Results!$N70,5),H70)","v":""},{"$f":"PROPER(OFFSET(Entries!$C$2,Results!$N70,0))","v":"Simon Hutchinson"},"MVD",null,{"$f":"MATCH($B70,Entries!$A$3:$A$1001,0)","v":88},{"$f":"IF(LEN(H70)>2,RIGHT(H70,2),0)","v":"50"},{"$f":"IF(ISERROR(OFFSET(Results!$B$3,MATCH(Entries!A69,Results!B$4:B367,0),0)),Entries!A69,0)","v":0},null,"Unattached",67,{"$f":"IF(ISERROR(MATCH(R70,R$3:R69,0)),R70,\"-\")","v":"-"},{"$f":"IF(ISERROR(MATCH(S70,S$3:S69,0)),S70,\"-\")","v":67},67,"-",1000,{"$f":"IF(ISERROR(MATCH(W70,W$3:W69,0)),W70,\"-\")","v":"-"},99999,null,null,null,null,{"$f":"COUNTIF($I$3:L$500,AF70)","v":0},{"$f":"Entries!Z58","v":"-"},1000,0,null,null,null,0,{"$f":"SMALL(IF(($I$4:$I$500=$AH70),Results!$A$4:$A$500),COLUMN(A55))","v":0},{"$f":"SMALL(IF(($I$4:$I$500=$AH70),Results!$A$4:$A$500),COLUMN(B55))","v":0},{"$f":"SMALL(IF(($I$4:$I$500=$AH70),Results!$A$4:$A$500),COLUMN(C55))","v":0},{"$f":"SMALL(IF(($I$4:$I$500=$AH70),Results!$A$4:$A$500),COLUMN(D55))","v":0},12046.013999999999]
[68,88,0,36,16,"Richard Bowles","",{"$f":"IF($B71>0,OFFSET(Entries!$C$2,Results!$N71,7),\"\")","v":"MS"},{"$f":"PROPER(IF($B71>0,club(OFFSET(Entries!$I$2,Results!$N71,0)),\"\"))","v":"Unattached"},{"$f":"nLocal(OFFSET(Entries!$C$2,Results!$N71,5),H71)","v":""},{"$f":"PROPER(OFFSET(Entries!$C$2,Results!$N71,0))","v":"Richard Bowles"},"M",null,{"$f":"MATCH($B71,Entries!$A$3:$A$1001,0)","v":89},0,{"$f":"IF(ISERROR(OFFSET(Results!$B$3,MATCH(Entries!A70,Results!B$4:B368,0),0)),Entries!A70,0)","v":0},null,"-",1000,{"$f":"IF(ISERROR(MATCH(R71,R$3:R70,0)),R71,\"-\")","v":"-"},{"$f":"IF(ISERROR(MATCH(S71,S$3:S70,0)),S71,\"-\")","v":"-"},99999,"-",1000,{"$f":"IF(ISERROR(MATCH(W71,W$3:W70,0)),W71,\"-\")","v":"-"},99999,null,null,null,null,{"$f":"COUNTIF($I$3:L$500,AF71)","v":0},{"$f":"Entries!Z59","v":"-"},1000,0,null,null,null,0,{"$f":"SMALL(IF(($I$4:$I$500=$AH71),Results!$A$4:$A$500),COLUMN(A56))","v":0},{"$f":"SMALL(IF(($I$4:$I$500=$AH71),Results!$A$4:$A$500),COLUMN(B56))","v":0},{"$f":"SMALL(IF(($I$4:$I$500=$AH71),Results!$A$4:$A$500),COLUMN(C56))","v":0},{"$f":"SMALL(IF(($I$4:$I$500=$AH71),Results!$A$4:$A$500),COLUMN(D56))","v":0},12046.013999999999]
[69,78,0,36,18,"Kate Turner","",{"$f":"IF($B72>0,OFFSET(Entries!$C$2,Results!$N72,7),\"\")","v":"FS"},{"$f":"PROPER(IF($B72>0,club(OFFSET(Entries!$I$2,Results!$N72,0)),\"\"))","v":"Totley Ac"},{"$f":"nLocal(OFFSET(Entries!$C$2,Results!$N72,5),H72)","v":""},{"$f":"PROPER(OFFSET(Entries!$C$2,Results!$N72,0))","v":"Kate Turner"},"F",null,{"$f":"MATCH($B72,Entries!$A$3:$A$1001,0)","v":79},0,{"$f":"IF(ISERROR(OFFSET(Results!$B$3,MATCH(Entries!A71,Results!B$4:B369,0),0)),Entries!A71,0)","v":0},null,"-",1000,{"$f":"IF(ISERROR(MATCH(R72,R$3:R71,0)),R72,\"-\")","v":"-"},{"$f":"IF(ISERROR(MATCH(S72,S$3:S71,0)),S72,\"-\")","v":"-"},99999,"Totley Ac",69,{"$f":"IF(ISERROR(MATCH(W72,W$3:W71,0)),W72,\"-\")","v":"-"},99999,null,null,null,null,{"$f":"COUNTIF($I$3:L$500,AF72)","v":0},{"$f":"Entries!Z60","v":"-"},1000,0,null,null,null,0,{"$f":"SMALL(IF(($I$4:$I$500=$AH72),Results!$A$4:$A$500),COLUMN(A57))","v":0},{"$f":"SMALL(IF(($I$4:$I$500=$AH72),Results!$A$4:$A$500),COLUMN(B57))","v":0},{"$f":"SMALL(IF(($I$4:$I$500=$AH72),Results!$A$4:$A$500),COLUMN(C57))","v":0},{"$f":"SMALL(IF(($I$4:$I$500=$AH72),Results!$A$4:$A$500),COLUMN(D57))","v":0},12046.013999999999]
[70,81,0,36,28,"Anthony Horstead","",{"$f":"IF($B73>0,OFFSET(Entries!$C$2,Results!$N73,7),\"\")","v":"MS"},{"$f":"PROPER(IF($B73>0,club(OFFSET(Entries!$I$2,Results!$N73,0)),\"\"))","v":"Steel City Striders"},{"$f":"nLocal(OFFSET(Entries!$C$2,Results!$N73,5),H73)","v":""},{"$f":"PROPER(OFFSET(Entries!$C$2,Results!$N73,0))","v":"Anthony Horstead"},"M",null,{"$f":"MATCH($B73,Entries!$A$3:$A$1001,0)","v":82},0,{"$f":"IF(ISERROR(OFFSET(Results!$B$3,MATCH(Entries!A72,Results!B$4:B370,0),0)),Entries!A72,0)","v":0},null,{"$f":"IF(LEN(H73)>2,I73,\"-\")","v":"-"},{"$f":"IF(R73<>\"-\",ROW()-3,1000)","v":1000},{"$f":"IF(ISERROR(MATCH(R73,R$3:R72,0)),R73,\"-\")","v":"-"},{"$f":"IF(ISERROR(MATCH(S73,S$3:S72,0)),S73,\"-\")","v":"-"},{"$f":"IF(U73<>\"-\",(ROW()-3)*1,99999)","v":99999},"-",1000,{"$f":"IF(ISERROR(MATCH(W73,W$3:W72,0)),W73,\"-\")","v":"-"},99999,null,null,null,null,{"$f":"COUNTIF($I$3:L$500,AF73)","v":0},{"$f":"Entries!Z61","v":"-"},1000,0,null,null,null,0,{"$f":"SMALL(IF(($I$4:$I$500=$AH73),Results!$A$4:$A$500),COLUMN(A58))","v":0},{"$f":"SMALL(IF(($I$4:$I$500=$AH73),Results!$A$4:$A$500),COLUMN(B58))","v":0},{"$f":"SMALL(IF(($I$4:$I$500=$AH73),Results!$A$4:$A$500),COLUMN(C58))","v":0},{"$f":"SMALL(IF(($I$4:$I$500=$AH73),Results!$A$4:$A$500),COLUMN(D58))","v":0},12046.013999999999]
[71,101,0,36,31,"Patryk Szwedt","",{"$f":"IF($B74>0,OFFSET(Entries!$C$2,Results!$N74,7),\"\")","v":"MS"},{"$f":"PROPER(IF($B74>0,club(OFFSET(Entries!$I$2,Results!$N74,0)),\"\"))","v":"Unattached"},{"$f":"nLocal(OFFSET(Entries!$C$2,Results!$N74,5),H74)","v":""},{"$f":"PROPER(OFFSET(Entries!$C$2,Results!$N74,0))","v":"Patryk Szwedt"},"M",null,{"$f":"MATCH($B74,Entries!$A$3:$A$1001,0)","v":102},0,{"$f":"IF(ISERROR(OFFSET(Results!$B$3,MATCH(Entries!A73,Results!B$4:B371,0),0)),Entries!A73,0)","v":0},null,"-",1000,{"$f":"IF(ISERROR(MATCH(R74,R$3:R73,0)),R74,\"-\")","v":"-"},{"$f":"IF(ISERROR(MATCH(S74,S$3:S73,0)),S74,\"-\")","v":"-"},99999,"-",1000,{"$f":"IF(ISERROR(MATCH(W74,W$3:W73,0)),W74,\"-\")","v":"-"},99999,null,null,null,null,{"$f":"COUNTIF($I$3:L$500,AF74)","v":0},{"$f":"Entries!Z62","v":"-"},{"$f":"IF(AE74>2,ROW(),1000)","v":1000},{"$f":"OFFSET(AG$15,SMALL(AG$16:AG$500,ROW(E59))-15,-1)","v":0},null,null,null,{"$f":"COUNTIF(I$3:I$500,AH74)","v":0},{"$f":"SMALL(IF(($I$4:$I$500=$AH74),Results!$A$4:$A$500),COLUMN(A59))","v":0},{"$f":"SMALL(IF(($I$4:$I$500=$AH74),Results!$A$4:$A$500),COLUMN(B59))","v":0},{"$f":"SMALL(IF(($I$4:$I$500=$AH74),Results!$A$4:$A$500),COLUMN(C59))","v":0},{"$f":"SMALL(IF(($I$4:$I$500=$AH74),Results!$A$4:$A$500),COLUMN(D59))","v":0},{"$f":"Team(AM74,AN74,AO74,$AQ$13)","v":12046.013999999999}]
[72,75,{"$f":"IF(D75>=D74,C74,C74+1)","v":0},{"$f":"IF(E75>=E74,D74,D74+1)","v":36},39,{"$f":"IF(AND($B75>=0,LEN(H75)=2),K75,\"\")","v":""},{"$f":"IF(AND($B75>=0,MID(H75,2,1)=\"V\"),K75,\"\")","v":"Mark Platton"},{"$f":"IF($B75>0,OFFSET(Entries!$C$2,Results!$N75,7),\"\")","v":"MV50"},{"$f":"PROPER(IF($B75>0,club(OFFSET(Entries!$I$2,Results!$N75,0)),\"\"))","v":"Unattached"},{"$f":"nLocal(OFFSET(Entries!$C$2,Results!$N75,5),H75)","v":""},{"$f":"PROPER(OFFSET(Entries!$C$2,Results!$N75,0))","v":"Mark Platton"},{"$f":"LEFT(H75,1)&VetCat5(H75)","v":"MVD"},null,{"$f":"MATCH($B75,Entries!$A$3:$A$1001,0)","v":76},"50",{"$f":"IF(ISERROR(OFFSET(Results!$B$3,MATCH(Entries!A74,Results!B$4:B372,0),0)),Entries!A74,0)","v":0},null,"Unattached",72,{"$f":"IF(ISERROR(MATCH(R75,R$3:R74,0)),R75,\"-\")","v":"-"},{"$f":"IF(ISERROR(MATCH(S75,S$3:S74,0)),S75,\"-\")","v":72},72,{"$f":"IF(LEFT(H75,1)=\"F\",I75,\"-\")","v":"-"},{"$f":"IF(W75<>\"-\",ROW()-3,1000)","v":1000},{"$f":"IF(ISERROR(MATCH(W75,W$3:W74,0)),W75,\"-\")","v":"-"},{"$f":"IF(Y75<>\"-\",(ROW()-3)*1,99999)","v":99999},null,null,null,null,{"$f":"COUNTIF($I$3:L$500,AF75)","v":0},{"$f":"Entries!Z63","v":"-"},1000,0,null,null,null,0,{"$f":"SMALL(IF(($I$4:$I$500=$AH75),Results!$A$4:$A$500),COLUMN(A60))","v":0},{"$f":"SMALL(IF(($I$4:$I$500=$AH75),Results!$A$4:$A$500),COLUMN(B60))","v":0},{"$f":"SMALL(IF(($I$4:$I$500=$AH75),Results!$A$4:$A$500),COLUMN(C60))","v":0},{"$f":"SMALL(IF(($I$4:$I$500=$AH75),Results!$A$4:$A$500),COLUMN(D60))","v":0},12046.013999999999]
[73,97,0,36,50,"Zayne Bukhari","",{"$f":"IF($B76>0,OFFSET(Entries!$C$2,Results!$N76,7),\"\")","v":"MS"},{"$f":"PROPER(IF($B76>0,club(OFFSET(Entries!$I$2,Results!$N76,0)),\"\"))","v":"Unattached"},{"$f":"nLocal(OFFSET(Entries!$C$2,Results!$N76,5),H76)","v":"MB"},{"$f":"PROPER(OFFSET(Entries!$C$2,Results!$N76,0))","v":"Zayne Bukhari"},"M",null,{"$f":"MATCH($B76,Entries!$A$3:$A$1001,0)","v":98},0,{"$f":"IF(ISERROR(OFFSET(Results!$B$3,MATCH(Entries!A75,Results!B$4:B373,0),0)),Entries!A75,0)","v":0},null,"-",1000,{"$f":"IF(ISERROR(MATCH(R76,R$3:R75,0)),R76,\"-\")","v":"-"},{"$f":"IF(ISERROR(MATCH(S76,S$3:S75,0)),S76,\"-\")","v":"-"},99999,"-",1000,{"$f":"IF(ISERROR(MATCH(W76,W$3:W75,0)),W76,\"-\")","v":"-"},99999,null,null,null,null,{"$f":"COUNTIF($I$3:L$500,AF76)","v":0},{"$f":"Entries!Z64","v":"-"},1000,0,null,null,null,0,{"$f":"SMALL(IF(($I$4:$I$500=$AH76),Results!$A$4:$A$500),COLUMN(A61))","v":0},{"$f":"SMALL(IF(($I$4:$I$500=$AH76),Results!$A$4:$A$500),COLUMN(B61))","v":0},{"$f":"SMALL(IF(($I$4:$I$500=$AH76),Results!$A$4:$A$500),COLUMN(C61))","v":0},{"$f":"SMALL(IF(($I$4:$I$500=$AH76),Results!$A$4:$A$500),COLUMN(D61))","v":0},12046.013999999999]
[74,22,0,36,52,"Alexander Arblaster","",{"$f":"IF($B77>0,OFFSET(Entries!$C$2,Results!$N77,7),\"\")","v":"MS"},{"$f":"PROPER(IF($B77>0,club(OFFSET(Entries!$I$2,Results!$N77,0)),\"\"))","v":"Steel City Striders"},{"$f":"nLocal(OFFSET(Entries!$C$2,Results!$N77,5),H77)","v":""},{"$f":"PROPER(OFFSET(Entries!$C$2,Results!$N77,0))","v":"Alexander Arblaster"},"M",null,{"$f":"MATCH($B77,Entries!$A$3:$A$1001,0)","v":23},0,{"$f":"IF(ISERROR(OFFSET(Results!$B$3,MATCH(Entries!A76,Results!B$4:B374,0),0)),Entries!A76,0)","v":0},null,"-",1000,{"$f":"IF(ISERROR(MATCH(R77,R$3:R76,0)),R77,\"-\")","v":"-"},{"$f":"IF(ISERROR(MATCH(S77,S$3:S76,0)),S77,\"-\")","v":"-"},99999,"-",1000,{"$f":"IF(ISERROR(MATCH(W77,W$3:W76,0)),W77,\"-\")","v":"-"},99999,null,null,null,null,{"$f":"COUNTIF($I$3:L$500,AF77)","v":0},{"$f":"Entries!Z65","v":"-"},1000,0,null,null,null,0,{"$f":"SMALL(IF(($I$4:$I$500=$AH77),Results!$A$4:$A$500),COLUMN(A62))","v":0},{"$f":"SMALL(IF(($I$4:$I$500=$AH77),Results!$A$4:$A$500),COLUMN(B62))","v":0},{"$f":"SMALL(IF(($I$4:$I$500=$AH77),Results!$A$4:$A$500),COLUMN(C62))","v":0},{"$f":"SMALL(IF(($I$4:$I$500=$AH77),Results!$A$4:$A$500),COLUMN(D62))","v":0},12046.013999999999]
[75,107,0,36,56,"","Mel Mccart",{"$f":"IF($B78>0,OFFSET(Entries!$C$2,Results!$N78,7),\"\")","v":"MV50"},{"$f":"PROPER(IF($B78>0,club(OFFSET(Entries!$I$2,Results!$N78,0)),\"\"))","v":"Unattached"},{"$f":"nLocal(OFFSET(Entries!$C$2,Results!$N78,5),H78)","v":""},{"$f":"PROPER(OFFSET(Entries!$C$2,Results!$N78,0))","v":"Mel Mccart"},"MVD",null,{"$f":"MATCH($B78,Entries!$A$3:$A$1001,0)","v":108},"50",{"$f":"IF(ISERROR(OFFSET(Results!$B$3,MATCH(Entries!A77,Results!B$4:B375,0),0)),Entries!A77,0)","v":0},null,"Unattached",75,{"$f":"IF(ISERROR(MATCH(R78,R$3:R77,0)),R78,\"-\")","v":"-"},{"$f":"IF(ISERROR(MATCH(S78,S$3:S77,0)),S78,\"-\")","v":75},75,"-",1000,{"$f":"IF(ISERROR(MATCH(W78,W$3:W77,0)),W78,\"-\")","v":"-"},99999,null,null,null,null,{"$f":"COUNTIF($I$3:L$500,AF78)","v":0},{"$f":"Entries!Z66","v":"-"},1000,0,null,null,null,0,{"$f":"SMALL(IF(($I$4:$I$500=$AH78),Results!$A$4:$A$500),COLUMN(A63))","v":0},{"$f":"SMALL(IF(($I$4:$I$500=$AH78),Results!$A$4:$A$500),COLUMN(B63))","v":0},{"$f":"SMALL(IF(($I$4:$I$500=$AH78),Results!$A$4:$A$500),COLUMN(C63))","v":0},{"$f":"SMALL(IF(($I$4:$I$500=$AH78),Results!$A$4:$A$500),COLUMN(D63))","v":0},12046.013999999999]
[76,39,0,37,7,"Helen Davis","",{"$f":"IF($B79>0,OFFSET(Entries!$C$2,Results!$N79,7),\"\")","v":"FS"},{"$f":"PROPER(IF($B79>0,club(OFFSET(Entries!$I$2,Results!$N79,0)),\"\"))","v":"Steel City Striders"},{"$f":"nLocal(OFFSET(Entries!$C$2,Results!$N79,5),H79)","v":""},{"$f":"PROPER(OFFSET(Entries!$C$2,Results!$N79,0))","v":"Helen Davis"},"F",null,{"$f":"MATCH($B79,Entries!$A$3:$A$1001,0)","v":40},0,{"$f":"IF(ISERROR(OFFSET(Results!$B$3,MATCH(Entries!A78,Results!B$4:B376,0),0)),Entries!A78,0)","v":0},null,"-",1000,{"$f":"IF(ISERROR(MATCH(R79,R$3:R78,0)),R79,\"-\")","v":"-"},{"$f":"IF(ISERROR(MATCH(S79,S$3:S78,0)),S79,\"-\")","v":"-"},99999,"Steel City Striders",76,{"$f":"IF(ISERROR(MATCH(W79,W$3:W78,0)),W79,\"-\")","v":"Steel City Striders"},76,null,null,null,null,{"$f":"COUNTIF($I$3:L$500,AF79)","v":0},{"$f":"Entries!Z67","v":"-"},1000,0,null,null,null,0,{"$f":"SMALL(IF(($I$4:$I$500=$AH79),Results!$A$4:$A$500),COLUMN(A64))","v":0},{"$f":"SMALL(IF(($I$4:$I$500=$AH79),Results!$A$4:$A$500),COLUMN(B64))","v":0},{"$f":"SMALL(IF(($I$4:$I$500=$AH79),Results!$A$4:$A$500),COLUMN(C64))","v":0},{"$f":"SMALL(IF(($I$4:$I$500=$AH79),Results!$A$4:$A$500),COLUMN(D64))","v":0},12046.013999999999]
[77,25,0,37,15,"Sophie Quince","",{"$f":"IF($B80>0,OFFSET(Entries!$C$2,Results!$N80,7),\"\")","v":"FS"},{"$f":"PROPER(IF($B80>0,club(OFFSET(Entries!$I$2,Results!$N80,0)),\"\"))","v":"Pennine Fell Racers"},{"$f":"nLocal(OFFSET(Entries!$C$2,Results!$N80,5),H80)","v":""},{"$f":"PROPER(OFFSET(Entries!$C$2,Results!$N80,0))","v":"Sophie Quince"},"F",null,{"$f":"MATCH($B80,Entries!$A$3:$A$1001,0)","v":26},0,{"$f":"IF(ISERROR(OFFSET(Results!$B$3,MATCH(Entries!A79,Results!B$4:B377,0),0)),Entries!A79,0)","v":0},null,"-",1000,{"$f":"IF(ISERROR(MATCH(R80,R$3:R79,0)),R80,\"-\")","v":"-"},{"$f":"IF(ISERROR(MATCH(S80,S$3:S79,0)),S80,\"-\")","v":"-"},99999,"Pennine Fell Racers",77,{"$f":"IF(ISERROR(MATCH(W80,W$3:W79,0)),W80,\"-\")","v":"-"},99999,null,null,null,null,{"$f":"COUNTIF($I$3:L$500,AF80)","v":0},{"$f":"Entries!Z68","v":"-"},1000,0,null,null,null,0,{"$f":"SMALL(IF(($I$4:$I$500=$AH80),Results!$A$4:$A$500),COLUMN(A65))","v":0},{"$f":"SMALL(IF(($I$4:$I$500=$AH80),Results!$A$4:$A$500),COLUMN(B65))","v":0},{"$f":"SMALL(IF(($I$4:$I$500=$AH80),Results!$A$4:$A$500),COLUMN(C65))","v":0},{"$f":"SMALL(IF(($I$4:$I$500=$AH80),Results!$A$4:$A$500),COLUMN(D65))","v":0},12046.013999999999]
[78,96,0,37,39,"Lizzie Rawson","",{"$f":"IF($B81>0,OFFSET(Entries!$C$2,Results!$N81,7),\"\")","v":"FS"},{"$f":"PROPER(IF($B81>0,club(OFFSET(Entries!$I$2,Results!$N81,0)),\"\"))","v":"Fatboys Rc"},{"$f":"nLocal(OFFSET(Entries!$C$2,Results!$N81,5),H81)","v":""},{"$f":"PROPER(OFFSET(Entries!$C$2,Results!$N81,0))","v":"Lizzie Rawson"},"F",null,{"$f":"MATCH($B81,Entries!$A$3:$A$1001,0)","v":97},0,{"$f":"IF(ISERROR(OFFSET(Results!$B$3,MATCH(Entries!A80,Results!B$4:B378,0),0)),Entries!A80,0)","v":0},null,"-",1000,{"$f":"IF(ISERROR(MATCH(R81,R$3:R80,0)),R81,\"-\")","v":"-"},{"$f":"IF(ISERROR(MATCH(S81,S$3:S80,0)),S81,\"-\")","v":"-"},99999,"Fatboys Rc",78,{"$f":"IF(ISERROR(MATCH(W81,W$3:W80,0)),W81,\"-\")","v":"Fatboys Rc"},78,null,null,null,null,{"$f":"COUNTIF($I$3:L$500,AF81)","v":0},{"$f":"Entries!Z69","v":"-"},1000,0,null,null,null,0,{"$f":"SMALL(IF(($I$4:$I$500=$AH81),Results!$A$4:$A$500),COLUMN(A66))","v":0},{"$f":"SMALL(IF(($I$4:$I$500=$AH81),Results!$A$4:$A$500),COLUMN(B66))","v":0},{"$f":"SMALL(IF(($I$4:$I$500=$AH81),Results!$A$4:$A$500),COLUMN(C66))","v":0},{"$f":"SMALL(IF(($I$4:$I$500=$AH81),Results!$A$4:$A$500),COLUMN(D66))","v":0},12046.013999999999]
[79,66,0,37,42,"","David Arundale",{"$f":"IF($B82>0,OFFSET(Entries!$C$2,Results!$N82,7),\"\")","v":"MV60"},{"$f":"PROPER(IF($B82>0,club(OFFSET(Entries!$I$2,Results!$N82,0)),\"\"))","v":"Dark Peak"},{"$f":"nLocal(OFFSET(Entries!$C$2,Results!$N82,5),H82)","v":""},{"$f":"PROPER(OFFSET(Entries!$C$2,Results!$N82,0))","v":"David Arundale"},"MVDEX",null,{"$f":"MATCH($B82,Entries!$A$3:$A$1001,0)","v":67},"60",{"$f":"IF(ISERROR(OFFSET(Results!$B$3,MATCH(Entries!A81,Results!B$4:B379,0),0)),Entries!A81,0)","v":0},null,"Dark Peak",79,{"$f":"IF(ISERROR(MATCH(R82,R$3:R81,0)),R82,\"-\")","v":"-"},{"$f":"IF(ISERROR(MATCH(S82,S$3:S81,0)),S82,\"-\")","v":79},79,"-",1000,{"$f":"IF(ISERROR(MATCH(W82,W$3:W81,0)),W82,\"-\")","v":"-"},99999,null,null,null,null,{"$f":"COUNTIF($I$3:L$500,AF82)","v":0},{"$f":"Entries!Z70","v":"-"},1000,0,null,null,null,0,{"$f":"SMALL(IF(($I$4:$I$500=$AH82),Results!$A$4:$A$500),COLUMN(A67))","v":0},{"$f":"SMALL(IF(($I$4:$I$500=$AH82),Results!$A$4:$A$500),COLUMN(B67))","v":0},{"$f":"SMALL(IF(($I$4:$I$500=$AH82),Results!$A$4:$A$500),COLUMN(C67))","v":0},{"$f":"SMALL(IF(($I$4:$I$500=$AH82),Results!$A$4:$A$500),COLUMN(D67))","v":0},12046.013999999999]
[80,51,0,37,47,"Glen Cropper","",{"$f":"IF($B83>0,OFFSET(Entries!$C$2,Results!$N83,7),\"\")","v":"MS"},{"$f":"PROPER(IF($B83>0,club(OFFSET(Entries!$I$2,Results!$N83,0)),\"\"))","v":"Tideswell Rc"},{"$f":"nLocal(OFFSET(Entries!$C$2,Results!$N83,5),H83)","v":""},{"$f":"PROPER(OFFSET(Entries!$C$2,Results!$N83,0))","v":"Glen Cropper"},"M",null,{"$f":"MATCH($B83,Entries!$A$3:$A$1001,0)","v":52},0,{"$f":"IF(ISERROR(OFFSET(Results!$B$3,MATCH(Entries!A82,Results!B$4:B380,0),0)),Entries!A82,0)","v":0},null,"-",1000,{"$f":"IF(ISERROR(MATCH(R83,R$3:R82,0)),R83,\"-\")","v":"-"},{"$f":"IF(ISERROR(MATCH(S83,S$3:S82,0)),S83,\"-\")","v":"-"},99999,"-",1000,{"$f":"IF(ISERROR(MATCH(W83,W$3:W82,0)),W83,\"-\")","v":"-"},99999,null,null,null,null,{"$f":"COUNTIF($I$3:L$500,AF83)","v":0},{"$f":"Entries!Z71","v":"-"},1000,0,null,null,null,0,{"$f":"SMALL(IF(($I$4:$I$500=$AH83),Results!$A$4:$A$500),COLUMN(A68))","v":0},{"$f":"SMALL(IF(($I$4:$I$500=$AH83),Results!$A$4:$A$500),COLUMN(B68))","v":0},{"$f":"SMALL(IF(($I$4:$I$500=$AH83),Results!$A$4:$A$500),COLUMN(C68))","v":0},{"$f":"SMALL(IF(($I$4:$I$500=$AH83),Results!$A$4:$A$500),COLUMN(D68))","v":0},12046.013999999999]
[81,6,0,37,56,"Roz Massey","",{"$f":"IF($B84>0,OFFSET(Entries!$C$2,Results!$N84,7),\"\")","v":"FS"},{"$f":"PROPER(IF($B84>0,club(OFFSET(Entries!$I$2,Results!$N84,0)),\"\"))","v":"Totley Ac"},{"$f":"nLocal(OFFSET(Entries!$C$2,Results!$N84,5),H84)","v":"F "},{"$f":"PROPER(OFFSET(Entries!$C$2,Results!$N84,0))","v":"Roz Massey"},"F",null,{"$f":"MATCH($B84,Entries!$A$3:$A$1001,0)","v":7},0,{"$f":"IF(ISERROR(OFFSET(Results!$B$3,MATCH(Entries!A83,Results!B$4:B381,0),0)),Entries!A83,0)","v":0},null,"-",1000,{"$f":"IF(ISERROR(MATCH(R84,R$3:R83,0)),R84,\"-\")","v":"-"},{"$f":"IF(ISERROR(MATCH(S84,S$3:S83,0)),S84,\"-\")","v":"-"},99999,"Totley Ac",81,{"$f":"IF(ISERROR(MATCH(W84,W$3:W83,0)),W84,\"-\")","v":"-"},99999,null,null,null,null,{"$f":"COUNTIF($I$3:L$500,AF84)","v":0},{"$f":"Entries!Z72","v":"-"},1000,0,null,null,null,0,{"$f":"SMALL(IF(($I$4:$I$500=$AH84),Results!$A$4:$A$500),COLUMN(A69))","v":0},{"$f":"SMALL(IF(($I$4:$I$500=$AH84),Results!$A$4:$A$500),COLUMN(B69))","v":0},{"$f":"SMALL(IF(($I$4:$I$500=$AH84),Results!$A$4:$A$500),COLUMN(C69))","v":0},{"$f":"SMALL(IF(($I$4:$I$500=$AH84),Results!$A$4:$A$500),COLUMN(D69))","v":0},12046.013999999999]
[82,70,0,38,19,"","Rachel Watson",{"$f":"IF($B85>0,OFFSET(Entries!$C$2,Results!$N85,7),\"\")","v":"FV40"},{"$f":"PROPER(IF($B85>0,club(OFFSET(Entries!$I$2,Results!$N85,0)),\"\"))","v":"Unattached"},{"$f":"nLocal(OFFSET(Entries!$C$2,Results!$N85,5),H85)","v":""},{"$f":"PROPER(OFFSET(Entries!$C$2,Results!$N85,0))","v":"Rachel Watson"},"F",null,{"$f":"MATCH($B85,Entries!$A$3:$A$1001,0)","v":71},"40",{"$f":"IF(ISERROR(OFFSET(Results!$B$3,MATCH(Entries!A84,Results!B$4:B382,0),0)),Entries!A84,0)","v":0},null,"Unattached",82,{"$f":"IF(ISERROR(MATCH(R85,R$3:R84,0)),R85,\"-\")","v":"-"},{"$f":"IF(ISERROR(MATCH(S85,S$3:S84,0)),S85,\"-\")","v":82},82,"Unattached",82,{"$f":"IF(ISERROR(MATCH(W85,W$3:W84,0)),W85,\"-\")","v":"Unattached"},82,null,null,null,null,{"$f":"COUNTIF($I$3:L$500,AF85)","v":0},{"$f":"Entries!Z73","v":"-"},1000,0,null,null,null,0,{"$f":"SMALL(IF(($I$4:$I$500=$AH85),Results!$A$4:$A$500),COLUMN(A70))","v":0},{"$f":"SMALL(IF(($I$4:$I$500=$AH85),Results!$A$4:$A$500),COLUMN(B70))","v":0},{"$f":"SMALL(IF(($I$4:$I$500=$AH85),Results!$A$4:$A$500),COLUMN(C70))","v":0},{"$f":"SMALL(IF(($I$4:$I$500=$AH85),Results!$A$4:$A$500),COLUMN(D70))","v":0},12046.013999999999]
[83,4,0,38,28,"Nathan Hoyland","",{"$f":"IF($B86>0,OFFSET(Entries!$C$2,Results!$N86,7),\"\")","v":"MS"},{"$f":"PROPER(IF($B86>0,club(OFFSET(Entries!$I$2,Results!$N86,0)),\"\"))","v":"Steel City Striders"},{"$f":"nLocal(OFFSET(Entries!$C$2,Results!$N86,5),H86)","v":""},{"$f":"PROPER(OFFSET(Entries!$C$2,Results!$N86,0))","v":"Nathan Hoyland"},"M",null,{"$f":"MATCH($B86,Entries!$A$3:$A$1001,0)","v":5},0,{"$f":"IF(ISERROR(OFFSET(Results!$B$3,MATCH(Entries!A85,Results!B$4:B383,0),0)),Entries!A85,0)","v":0},null,"-",1000,{"$f":"IF(ISERROR(MATCH(R86,R$3:R85,0)),R86,\"-\")","v":"-"},{"$f":"IF(ISERROR(MATCH(S86,S$3:S85,0)),S86,\"-\")","v":"-"},99999,"-",1000,{"$f":"IF(ISERROR(MATCH(W86,W$3:W85,0)),W86,\"-\")","v":"-"},99999,null,null,null,null,{"$f":"COUNTIF($I$3:L$500,AF86)","v":0},{"$f":"Entries!Z74","v":"-"},1000,0,null,null,null,0,{"$f":"SMALL(IF(($I$4:$I$500=$AH86),Results!$A$4:$A$500),COLUMN(A71))","v":0},{"$f":"SMALL(IF(($I$4:$I$500=$AH86),Results!$A$4:$A$500),COLUMN(B71))","v":0},{"$f":"SMALL(IF(($I$4:$I$500=$AH86),Results!$A$4:$A$500),COLUMN(C71))","v":0},{"$f":"SMALL(IF(($I$4:$I$500=$AH86),Results!$A$4:$A$500),COLUMN(D71))","v":0},12046.013999999999]
[84,34,0,38,41,"","Yvonne Twelvetrees",{"$f":"IF($B87>0,OFFSET(Entries!$C$2,Results!$N87,7),\"\")","v":"FV60"},{"$f":"PROPER(IF($B87>0,club(OFFSET(Entries!$I$2,Results!$N87,0)),\"\"))","v":"Totley Ac"},{"$f":"nLocal(OFFSET(Entries!$C$2,Results!$N87,5),H87)","v":""},{"$f":"PROPER(OFFSET(Entries!$C$2,Results!$N87,0))","v":"Yvonne Twelvetrees"},"FVDEX",null,{"$f":"MATCH($B87,Entries!$A$3:$A$1001,0)","v":35},"60",{"$f":"IF(ISERROR(OFFSET(Results!$B$3,MATCH(Entries!A86,Results!B$4:B384,0),0)),Entries!A86,0)","v":0},null,"Totley Ac",84,{"$f":"IF(ISERROR(MATCH(R87,R$3:R86,0)),R87,\"-\")","v":"-"},{"$f":"IF(ISERROR(MATCH(S87,S$3:S86,0)),S87,\"-\")","v":84},84,"Totley Ac",84,{"$f":"IF(ISERROR(MATCH(W87,W$3:W86,0)),W87,\"-\")","v":"-"},99999,null,null,null,null,{"$f":"COUNTIF($I$3:L$500,AF87)","v":0},{"$f":"Entries!Z75","v":"-"},1000,0,null,null,null,0,{"$f":"SMALL(IF(($I$4:$I$500=$AH87),Results!$A$4:$A$500),COLUMN(A72))","v":0},{"$f":"SMALL(IF(($I$4:$I$500=$AH87),Results!$A$4:$A$500),COLUMN(B72))","v":0},{"$f":"SMALL(IF(($I$4:$I$500=$AH87),Results!$A$4:$A$500),COLUMN(C72))","v":0},{"$f":"SMALL(IF(($I$4:$I$500=$AH87),Results!$A$4:$A$500),COLUMN(D72))","v":0},12046.013999999999]
[85,72,0,39,11,"","Andrew Matthews",{"$f":"IF($B88>0,OFFSET(Entries!$C$2,Results!$N88,7),\"\")","v":"MV50"},{"$f":"PROPER(IF($B88>0,club(OFFSET(Entries!$I$2,Results!$N88,0)),\"\"))","v":"Fatboys Rc"},{"$f":"nLocal(OFFSET(Entries!$C$2,Results!$N88,5),H88)","v":""},{"$f":"PROPER(OFFSET(Entries!$C$2,Results!$N88,0))","v":"Andrew Matthews"},"MVD",null,{"$f":"MATCH($B88,Entries!$A$3:$A$1001,0)","v":73},"50",{"$f":"IF(ISERROR(OFFSET(Results!$B$3,MATCH(Entries!A87,Results!B$4:B385,0),0)),Entries!A87,0)","v":0},null,"Fatboys Rc",85,{"$f":"IF(ISERROR(MATCH(R88,R$3:R87,0)),R88,\"-\")","v":"-"},{"$f":"IF(ISERROR(MATCH(S88,S$3:S87,0)),S88,\"-\")","v":85},85,"-",1000,{"$f":"IF(ISERROR(MATCH(W88,W$3:W87,0)),W88,\"-\")","v":"-"},99999,null,null,null,null,{"$f":"COUNTIF($I$3:L$500,AF88)","v":0},{"$f":"Entries!Z76","v":"-"},1000,0,null,null,null,0,{"$f":"SMALL(IF(($I$4:$I$500=$AH88),Results!$A$4:$A$500),COLUMN(A73))","v":0},{"$f":"SMALL(IF(($I$4:$I$500=$AH88),Results!$A$4:$A$500),COLUMN(B73))","v":0},{"$f":"SMALL(IF(($I$4:$I$500=$AH88),Results!$A$4:$A$500),COLUMN(C73))","v":0},{"$f":"SMALL(IF(($I$4:$I$500=$AH88),Results!$A$4:$A$500),COLUMN(D73))","v":0},12046.013999999999]
[86,18,0,39,15,"Karis Hodgkinson","",{"$f":"IF($B89>0,OFFSET(Entries!$C$2,Results!$N89,7),\"\")","v":"FS"},{"$f":"PROPER(IF($B89>0,club(OFFSET(Entries!$I$2,Results!$N89,0)),\"\"))","v":"Taylored Running Group"},{"$f":"nLocal(OFFSET(Entries!$C$2,Results!$N89,5),H89)","v":""},{"$f":"PROPER(OFFSET(Entries!$C$2,Results!$N89,0))","v":"Karis Hodgkinson"},"F",null,{"$f":"MATCH($B89,Entries!$A$3:$A$1001,0)","v":19},0,{"$f":"IF(ISERROR(OFFSET(Results!$B$3,MATCH(Entries!A88,Results!B$4:B386,0),0)),Entries!A88,0)","v":0},null,"-",1000,{"$f":"IF(ISERROR(MATCH(R89,R$3:R88,0)),R89,\"-\")","v":"-"},{"$f":"IF(ISERROR(MATCH(S89,S$3:S88,0)),S89,\"-\")","v":"-"},99999,"Taylored Running Group",86,{"$f":"IF(ISERROR(MATCH(W89,W$3:W88,0)),W89,\"-\")","v":"Taylored Running Group"},86,null,null,null,null,{"$f":"COUNTIF($I$3:L$500,AF89)","v":0},{"$f":"Entries!Z77","v":"-"},1000,0,null,null,null,0,{"$f":"SMALL(IF(($I$4:$I$500=$AH89),Results!$A$4:$A$500),COLUMN(A74))","v":0},{"$f":"SMALL(IF(($I$4:$I$500=$AH89),Results!$A$4:$A$500),COLUMN(B74))","v":0},{"$f":"SMALL(IF(($I$4:$I$500=$AH89),Results!$A$4:$A$500),COLUMN(C74))","v":0},{"$f":"SMALL(IF(($I$4:$I$500=$AH89),Results!$A$4:$A$500),COLUMN(D74))","v":0},12046.013999999999]
[87,64,0,39,33,"","Victoria Hawkins",{"$f":"IF($B90>0,OFFSET(Entries!$C$2,Results!$N90,7),\"\")","v":"FV45"},{"$f":"PROPER(IF($B90>0,club(OFFSET(Entries!$I$2,Results!$N90,0)),\"\"))","v":"Steel City Striders"},{"$f":"nLocal(OFFSET(Entries!$C$2,Results!$N90,5),H90)","v":""},{"$f":"PROPER(OFFSET(Entries!$C$2,Results!$N90,0))","v":"Victoria Hawkins"},"FV",null,{"$f":"MATCH($B90,Entries!$A$3:$A$1001,0)","v":65},"45",{"$f":"IF(ISERROR(OFFSET(Results!$B$3,MATCH(Entries!A89,Results!B$4:B387,0),0)),Entries!A89,0)","v":0},null,"Steel City Striders",87,{"$f":"IF(ISERROR(MATCH(R90,R$3:R89,0)),R90,\"-\")","v":"-"},{"$f":"IF(ISERROR(MATCH(S90,S$3:S89,0)),S90,\"-\")","v":87},87,"Steel City Striders",87,{"$f":"IF(ISERROR(MATCH(W90,W$3:W89,0)),W90,\"-\")","v":"-"},99999,null,null,null,null,{"$f":"COUNTIF($I$3:L$500,AF90)","v":0},{"$f":"Entries!Z78","v":"-"},1000,0,null,null,null,0,{"$f":"SMALL(IF(($I$4:$I$500=$AH90),Results!$A$4:$A$500),COLUMN(A75))","v":0},{"$f":"SMALL(IF(($I$4:$I$500=$AH90),Results!$A$4:$A$500),COLUMN(B75))","v":0},{"$f":"SMALL(IF(($I$4:$I$500=$AH90),Results!$A$4:$A$500),COLUMN(C75))","v":0},{"$f":"SMALL(IF(($I$4:$I$500=$AH90),Results!$A$4:$A$500),COLUMN(D75))","v":0},12046.013999999999]
[88,23,0,39,41,"","Carol Beattie",{"$f":"IF($B91>0,OFFSET(Entries!$C$2,Results!$N91,7),\"\")","v":"FV60"},{"$f":"PROPER(IF($B91>0,club(OFFSET(Entries!$I$2,Results!$N91,0)),\"\"))","v":"Steel City Striders"},{"$f":"nLocal(OFFSET(Entries!$C$2,Results!$N91,5),H91)","v":""},{"$f":"PROPER(OFFSET(Entries!$C$2,Results!$N91,0))","v":"Carol Beattie"},"FVDEX",null,{"$f":"MATCH($B91,Entries!$A$3:$A$1001,0)","v":24},"60",{"$f":"IF(ISERROR(OFFSET(Results!$B$3,MATCH(Entries!A90,Results!B$4:B388,0),0)),Entries!A90,0)","v":0},null,"Steel City Striders",88,{"$f":"IF(ISERROR(MATCH(R91,R$3:R90,0)),R91,\"-\")","v":"-"},{"$f":"IF(ISERROR(MATCH(S91,S$3:S90,0)),S91,\"-\")","v":88},88,"Steel City Striders",88,{"$f":"IF(ISERROR(MATCH(W91,W$3:W90,0)),W91,\"-\")","v":"-"},99999,null,null,null,null,{"$f":"COUNTIF($I$3:L$500,AF91)","v":0},{"$f":"Entries!Z79","v":"-"},1000,0,null,null,null,0,{"$f":"SMALL(IF(($I$4:$I$500=$AH91),Results!$A$4:$A$500),COLUMN(A76))","v":0},{"$f":"SMALL(IF(($I$4:$I$500=$AH91),Results!$A$4:$A$500),COLUMN(B76))","v":0},{"$f":"SMALL(IF(($I$4:$I$500=$AH91),Results!$A$4:$A$500),COLUMN(C76))","v":0},{"$f":"SMALL(IF(($I$4:$I$500=$AH91),Results!$A$4:$A$500),COLUMN(D76))","v":0},12046.013999999999]
[89,26,0,39,57,"Heather Beaumont","",{"$f":"IF($B92>0,OFFSET(Entries!$C$2,Results!$N92,7),\"\")","v":"FS"},{"$f":"PROPER(IF($B92>0,club(OFFSET(Entries!$I$2,Results!$N92,0)),\"\"))","v":"Totley Ac"},{"$f":"nLocal(OFFSET(Entries!$C$2,Results!$N92,5),H92)","v":""},{"$f":"PROPER(OFFSET(Entries!$C$2,Results!$N92,0))","v":"Heather Beaumont"},"F",null,{"$f":"MATCH($B92,Entries!$A$3:$A$1001,0)","v":27},0,{"$f":"IF(ISERROR(OFFSET(Results!$B$3,MATCH(Entries!A91,Results!B$4:B389,0),0)),Entries!A91,0)","v":0},null,"-",1000,{"$f":"IF(ISERROR(MATCH(R92,R$3:R91,0)),R92,\"-\")","v":"-"},{"$f":"IF(ISERROR(MATCH(S92,S$3:S91,0)),S92,\"-\")","v":"-"},99999,"Totley Ac",89,{"$f":"IF(ISERROR(MATCH(W92,W$3:W91,0)),W92,\"-\")","v":"-"},99999,null,null,null,null,{"$f":"COUNTIF($I$3:L$500,AF92)","v":0},{"$f":"Entries!Z80","v":"-"},1000,0,null,null,null,0,{"$f":"SMALL(IF(($I$4:$I$500=$AH92),Results!$A$4:$A$500),COLUMN(A77))","v":0},{"$f":"SMALL(IF(($I$4:$I$500=$AH92),Results!$A$4:$A$500),COLUMN(B77))","v":0},{"$f":"SMALL(IF(($I$4:$I$500=$AH92),Results!$A$4:$A$500),COLUMN(C77))","v":0},{"$f":"SMALL(IF(($I$4:$I$500=$AH92),Results!$A$4:$A$500),COLUMN(D77))","v":0},12046.013999999999]
[90,47,0,40,23,"","Maxine Ison",{"$f":"IF($B93>0,OFFSET(Entries!$C$2,Results!$N93,7),\"\")","v":"FV50"},{"$f":"PROPER(IF($B93>0,club(OFFSET(Entries!$I$2,Results!$N93,0)),\"\"))","v":"Totley Ac"},{"$f":"nLocal(OFFSET(Entries!$C$2,Results!$N93,5),H93)","v":""},{"$f":"PROPER(OFFSET(Entries!$C$2,Results!$N93,0))","v":"Maxine Ison"},"FVD",null,{"$f":"MATCH($B93,Entries!$A$3:$A$1001,0)","v":48},"50",{"$f":"IF(ISERROR(OFFSET(Results!$B$3,MATCH(Entries!A92,Results!B$4:B390,0),0)),Entries!A92,0)","v":0},null,"Totley Ac",90,{"$f":"IF(ISERROR(MATCH(R93,R$3:R92,0)),R93,\"-\")","v":"-"},{"$f":"IF(ISERROR(MATCH(S93,S$3:S92,0)),S93,\"-\")","v":90},90,"Totley Ac",90,{"$f":"IF(ISERROR(MATCH(W93,W$3:W92,0)),W93,\"-\")","v":"-"},99999,null,null,null,null,{"$f":"COUNTIF($I$3:L$500,AF93)","v":0},{"$f":"Entries!Z81","v":"-"},1000,0,null,null,null,0,{"$f":"SMALL(IF(($I$4:$I$500=$AH93),Results!$A$4:$A$500),COLUMN(A78))","v":0},{"$f":"SMALL(IF(($I$4:$I$500=$AH93),Results!$A$4:$A$500),COLUMN(B78))","v":0},{"$f":"SMALL(IF(($I$4:$I$500=$AH93),Results!$A$4:$A$500),COLUMN(C78))","v":0},{"$f":"SMALL(IF(($I$4:$I$500=$AH93),Results!$A$4:$A$500),COLUMN(D78))","v":0},12046.013999999999]
[91,80,0,40,30,"William Brandley","",{"$f":"IF($B94>0,OFFSET(Entries!$C$2,Results!$N94,7),\"\")","v":"MS"},{"$f":"PROPER(IF($B94>0,club(OFFSET(Entries!$I$2,Results!$N94,0)),\"\"))","v":"Tideswell Rc"},{"$f":"nLocal(OFFSET(Entries!$C$2,Results!$N94,5),H94)","v":""},{"$f":"PROPER(OFFSET(Entries!$C$2,Results!$N94,0))","v":"William Brandley"},"M",null,{"$f":"MATCH($B94,Entries!$A$3:$A$1001,0)","v":81},0,{"$f":"IF(ISERROR(OFFSET(Results!$B$3,MATCH(Entries!A93,Results!B$4:B391,0),0)),Entries!A93,0)","v":0},null,"-",1000,{"$f":"IF(ISERROR(MATCH(R94,R$3:R93,0)),R94,\"-\")","v":"-"},{"$f":"IF(ISERROR(MATCH(S94,S$3:S93,0)),S94,\"-\")","v":"-"},99999,"-",1000,{"$f":"IF(ISERROR(MATCH(W94,W$3:W93,0)),W94,\"-\")","v":"-"},99999,null,null,null,null,{"$f":"COUNTIF($I$3:L$500,AF94)","v":0},{"$f":"Entries!Z82","v":"-"},1000,0,null,null,null,0,{"$f":"SMALL(IF(($I$4:$I$500=$AH94),Results!$A$4:$A$500),COLUMN(A79))","v":0},{"$f":"SMALL(IF(($I$4:$I$500=$AH94),Results!$A$4:$A$500),COLUMN(B79))","v":0},{"$f":"SMALL(IF(($I$4:$I$500=$AH94),Results!$A$4:$A$500),COLUMN(C79))","v":0},{"$f":"SMALL(IF(($I$4:$I$500=$AH94),Results!$A$4:$A$500),COLUMN(D79))","v":0},12046.013999999999]
[92,65,0,41,49,"","Jill Davies",{"$f":"IF($B95>0,OFFSET(Entries!$C$2,Results!$N95,7),\"\")","v":"FV55"},{"$f":"PROPER(IF($B95>0,club(OFFSET(Entries!$I$2,Results!$N95,0)),\"\"))","v":"Steel City Striders"},{"$f":"nLocal(OFFSET(Entries!$C$2,Results!$N95,5),H95)","v":""},{"$f":"PROPER(OFFSET(Entries!$C$2,Results!$N95,0))","v":"Jill Davies"},"FVDE",null,{"$f":"MATCH($B95,Entries!$A$3:$A$1001,0)","v":66},"55",{"$f":"IF(ISERROR(OFFSET(Results!$B$3,MATCH(Entries!A94,Results!B$4:B392,0),0)),Entries!A94,0)","v":0},null,"Steel City Striders",92,{"$f":"IF(ISERROR(MATCH(R95,R$3:R94,0)),R95,\"-\")","v":"-"},{"$f":"IF(ISERROR(MATCH(S95,S$3:S94,0)),S95,\"-\")","v":92},92,"Steel City Striders",92,{"$f":"IF(ISERROR(MATCH(W95,W$3:W94,0)),W95,\"-\")","v":"-"},99999,null,null,null,null,{"$f":"COUNTIF($I$3:L$500,AF95)","v":0},{"$f":"Entries!Z83","v":"-"},1000,0,null,null,null,0,{"$f":"SMALL(IF(($I$4:$I$500=$AH95),Results!$A$4:$A$500),COLUMN(A80))","v":0},{"$f":"SMALL(IF(($I$4:$I$500=$AH95),Results!$A$4:$A$500),COLUMN(B80))","v":0},{"$f":"SMALL(IF(($I$4:$I$500=$AH95),Results!$A$4:$A$500),COLUMN(C80))","v":0},{"$f":"SMALL(IF(($I$4:$I$500=$AH95),Results!$A$4:$A$500),COLUMN(D80))","v":0},12046.013999999999]
[93,16,0,41,52,"","Diane Clewes",{"$f":"IF($B96>0,OFFSET(Entries!$C$2,Results!$N96,7),\"\")","v":"FV50"},{"$f":"PROPER(IF($B96>0,club(OFFSET(Entries!$I$2,Results!$N96,0)),\"\"))","v":"Totley Ac"},{"$f":"nLocal(OFFSET(Entries!$C$2,Results!$N96,5),H96)","v":""},{"$f":"PROPER(OFFSET(Entries!$C$2,Results!$N96,0))","v":"Diane Clewes"},"FVD",null,{"$f":"MATCH($B96,Entries!$A$3:$A$1001,0)","v":17},"50",{"$f":"IF(ISERROR(OFFSET(Results!$B$3,MATCH(Entries!A95,Results!B$4:B393,0),0)),Entries!A95,0)","v":0},null,"Totley Ac",93,{"$f":"IF(ISERROR(MATCH(R96,R$3:R95,0)),R96,\"-\")","v":"-"},{"$f":"IF(ISERROR(MATCH(S96,S$3:S95,0)),S96,\"-\")","v":93},93,"Totley Ac",93,{"$f":"IF(ISERROR(MATCH(W96,W$3:W95,0)),W96,\"-\")","v":"-"},99999,null,null,null,null,{"$f":"COUNTIF($I$3:L$500,AF96)","v":0},{"$f":"Entries!Z84","v":"-"},1000,0,null,null,null,0,{"$f":"SMALL(IF(($I$4:$I$500=$AH96),Results!$A$4:$A$500),COLUMN(A81))","v":0},{"$f":"SMALL(IF(($I$4:$I$500=$AH96),Results!$A$4:$A$500),COLUMN(B81))","v":0},{"$f":"SMALL(IF(($I$4:$I$500=$AH96),Results!$A$4:$A$500),COLUMN(C81))","v":0},{"$f":"SMALL(IF(($I$4:$I$500=$AH96),Results!$A$4:$A$500),COLUMN(D81))","v":0},12046.013999999999]
[94,48,0,41,57,"","Joan Waller",{"$f":"IF($B97>0,OFFSET(Entries!$C$2,Results!$N97,7),\"\")","v":"FV55"},{"$f":"PROPER(IF($B97>0,club(OFFSET(Entries!$I$2,Results!$N97,0)),\"\"))","v":"Dark Peak"},{"$f":"nLocal(OFFSET(Entries!$C$2,Results!$N97,5),H97)","v":""},{"$f":"PROPER(OFFSET(Entries!$C$2,Results!$N97,0))","v":"Joan Waller"},"FVDE",null,{"$f":"MATCH($B97,Entries!$A$3:$A$1001,0)","v":49},"55",{"$f":"IF(ISERROR(OFFSET(Results!$B$3,MATCH(Entries!A96,Results!B$4:B394,0),0)),Entries!A96,0)","v":0},null,"Dark Peak",94,{"$f":"IF(ISERROR(MATCH(R97,R$3:R96,0)),R97,\"-\")","v":"-"},{"$f":"IF(ISERROR(MATCH(S97,S$3:S96,0)),S97,\"-\")","v":94},94,"Dark Peak",94,{"$f":"IF(ISERROR(MATCH(W97,W$3:W96,0)),W97,\"-\")","v":"Dark Peak"},94,null,null,null,null,{"$f":"COUNTIF($I$3:L$500,AF97)","v":0},{"$f":"Entries!Z85","v":"-"},1000,0,null,null,null,0,{"$f":"SMALL(IF(($I$4:$I$500=$AH97),Results!$A$4:$A$500),COLUMN(A82))","v":0},{"$f":"SMALL(IF(($I$4:$I$500=$AH97),Results!$A$4:$A$500),COLUMN(B82))","v":0},{"$f":"SMALL(IF(($I$4:$I$500=$AH97),Results!$A$4:$A$500),COLUMN(C82))","v":0},{"$f":"SMALL(IF(($I$4:$I$500=$AH97),Results!$A$4:$A$500),COLUMN(D82))","v":0},12046.013999999999]
[95,30,0,42,7,"Naomi Rabin","",{"$f":"IF($B98>0,OFFSET(Entries!$C$2,Results!$N98,7),\"\")","v":"FS"},{"$f":"PROPER(IF($B98>0,club(OFFSET(Entries!$I$2,Results!$N98,0)),\"\"))","v":"Unattached"},{"$f":"nLocal(OFFSET(Entries!$C$2,Results!$N98,5),H98)","v":""},{"$f":"PROPER(OFFSET(Entries!$C$2,Results!$N98,0))","v":"Naomi Rabin"},"F",null,{"$f":"MATCH($B98,Entries!$A$3:$A$1001,0)","v":31},0,{"$f":"IF(ISERROR(OFFSET(Results!$B$3,MATCH(Entries!A97,Results!B$4:B395,0),0)),Entries!A97,0)","v":0},null,"-",1000,{"$f":"IF(ISERROR(MATCH(R98,R$3:R97,0)),R98,\"-\")","v":"-"},{"$f":"IF(ISERROR(MATCH(S98,S$3:S97,0)),S98,\"-\")","v":"-"},99999,"Unattached",95,{"$f":"IF(ISERROR(MATCH(W98,W$3:W97,0)),W98,\"-\")","v":"-"},99999,null,null,null,null,{"$f":"COUNTIF($I$3:L$500,AF98)","v":0},{"$f":"Entries!Z86","v":"-"},1000,0,null,null,null,0,{"$f":"SMALL(IF(($I$4:$I$500=$AH98),Results!$A$4:$A$500),COLUMN(A83))","v":0},{"$f":"SMALL(IF(($I$4:$I$500=$AH98),Results!$A$4:$A$500),COLUMN(B83))","v":0},{"$f":"SMALL(IF(($I$4:$I$500=$AH98),Results!$A$4:$A$500),COLUMN(C83))","v":0},{"$f":"SMALL(IF(($I$4:$I$500=$AH98),Results!$A$4:$A$500),COLUMN(D83))","v":0},12046.013999999999]
[96,19,0,42,16,"Jennifer Machan","",{"$f":"IF($B99>0,OFFSET(Entries!$C$2,Results!$N99,7),\"\")","v":"FS"},{"$f":"PROPER(IF($B99>0,club(OFFSET(Entries!$I$2,Results!$N99,0)),\"\"))","v":"Taylored Running Group"},{"$f":"nLocal(OFFSET(Entries!$C$2,Results!$N99,5),H99)","v":""},{"$f":"PROPER(OFFSET(Entries!$C$2,Results!$N99,0))","v":"Jennifer Machan"},"F",null,{"$f":"MATCH($B99,Entries!$A$3:$A$1001,0)","v":20},0,{"$f":"IF(ISERROR(OFFSET(Results!$B$3,MATCH(Entries!A98,Results!B$4:B396,0),0)),Entries!A98,0)","v":0},null,"-",1000,{"$f":"IF(ISERROR(MATCH(R99,R$3:R98,0)),R99,\"-\")","v":"-"},{"$f":"IF(ISERROR(MATCH(S99,S$3:S98,0)),S99,\"-\")","v":"-"},99999,"Taylored Running Group",96,{"$f":"IF(ISERROR(MATCH(W99,W$3:W98,0)),W99,\"-\")","v":"-"},99999,null,null,null,null,{"$f":"COUNTIF($I$3:L$500,AF99)","v":0},{"$f":"Entries!Z87","v":"-"},1000,0,null,null,null,0,{"$f":"SMALL(IF(($I$4:$I$500=$AH99),Results!$A$4:$A$500),COLUMN(A84))","v":0},{"$f":"SMALL(IF(($I$4:$I$500=$AH99),Results!$A$4:$A$500),COLUMN(B84))","v":0},{"$f":"SMALL(IF(($I$4:$I$500=$AH99),Results!$A$4:$A$500),COLUMN(C84))","v":0},{"$f":"SMALL(IF(($I$4:$I$500=$AH99),Results!$A$4:$A$500),COLUMN(D84))","v":0},12046.013999999999]
[97,45,0,42,26,"","Heather Marsden",{"$f":"IF($B100>0,OFFSET(Entries!$C$2,Results!$N100,7),\"\")","v":"FV45"},{"$f":"PROPER(IF($B100>0,club(OFFSET(Entries!$I$2,Results!$N100,0)),\"\"))","v":"Tideswell Rc"},{"$f":"nLocal(OFFSET(Entries!$C$2,Results!$N100,5),H100)","v":"FB"},{"$f":"PROPER(OFFSET(Entries!$C$2,Results!$N100,0))","v":"Heather Marsden"},"FV",null,{"$f":"MATCH($B100,Entries!$A$3:$A$1001,0)","v":46},"45",{"$f":"IF(ISERROR(OFFSET(Results!$B$3,MATCH(Entries!A99,Results!B$4:B397,0),0)),Entries!A99,0)","v":0},null,"Tideswell Rc",97,{"$f":"IF(ISERROR(MATCH(R100,R$3:R99,0)),R100,\"-\")","v":"-"},{"$f":"IF(ISERROR(MATCH(S100,S$3:S99,0)),S100,\"-\")","v":97},97,"Tideswell Rc",97,{"$f":"IF(ISERROR(MATCH(W100,W$3:W99,0)),W100,\"-\")","v":"Tideswell Rc"},97,null,null,null,null,{"$f":"COUNTIF($I$3:L$500,AF100)","v":0},{"$f":"Entries!Z88","v":"-"},1000,0,null,null,null,0,{"$f":"SMALL(IF(($I$4:$I$500=$AH100),Results!$A$4:$A$500),COLUMN(A85))","v":0},{"$f":"SMALL(IF(($I$4:$I$500=$AH100),Results!$A$4:$A$500),COLUMN(B85))","v":0},{"$f":"SMALL(IF(($I$4:$I$500=$AH100),Results!$A$4:$A$500),COLUMN(C85))","v":0},{"$f":"SMALL(IF(($I$4:$I$500=$AH100),Results!$A$4:$A$500),COLUMN(D85))","v":0},12046.013999999999]
[98,99,0,43,9,"","Gregory Scott Briggs",{"$f":"IF($B101>0,OFFSET(Entries!$C$2,Results!$N101,7),\"\")","v":"MV45"},{"$f":"PROPER(IF($B101>0,club(OFFSET(Entries!$I$2,Results!$N101,0)),\"\"))","v":"Unattached"},{"$f":"nLocal(OFFSET(Entries!$C$2,Results!$N101,5),H101)","v":""},{"$f":"PROPER(OFFSET(Entries!$C$2,Results!$N101,0))","v":"Gregory Scott Briggs"},"MV",null,{"$f":"MATCH($B101,Entries!$A$3:$A$1001,0)","v":100},"45",{"$f":"IF(ISERROR(OFFSET(Results!$B$3,MATCH(Entries!A100,Results!B$4:B398,0),0)),Entries!A100,0)","v":0},null,"Unattached",98,{"$f":"IF(ISERROR(MATCH(R101,R$3:R100,0)),R101,\"-\")","v":"-"},{"$f":"IF(ISERROR(MATCH(S101,S$3:S100,0)),S101,\"-\")","v":98},98,"-",1000,{"$f":"IF(ISERROR(MATCH(W101,W$3:W100,0)),W101,\"-\")","v":"-"},99999]
[99,55,0,43,11,"Ben Williams","",{"$f":"IF($B102>0,OFFSET(Entries!$C$2,Results!$N102,7),\"\")","v":"MS"},{"$f":"PROPER(IF($B102>0,club(OFFSET(Entries!$I$2,Results!$N102,0)),\"\"))","v":"Unattached"},{"$f":"nLocal(OFFSET(Entries!$C$2,Results!$N102,5),H102)","v":""},{"$f":"PROPER(OFFSET(Entries!$C$2,Results!$N102,0))","v":"Ben Williams"},"M",null,{"$f":"MATCH($B102,Entries!$A$3:$A$1001,0)","v":56},0,{"$f":"IF(ISERROR(OFFSET(Results!$B$3,MATCH(Entries!A101,Results!B$4:B399,0),0)),Entries!A101,0)","v":0},null,"-",1000,{"$f":"IF(ISERROR(MATCH(R102,R$3:R101,0)),R102,\"-\")","v":"-"},{"$f":"IF(ISERROR(MATCH(S102,S$3:S101,0)),S102,\"-\")","v":"-"},99999,"-",1000,{"$f":"IF(ISERROR(MATCH(W102,W$3:W101,0)),W102,\"-\")","v":"-"},99999]
[100,76,0,43,46,"","Janet Leigh",{"$f":"IF($B103>0,OFFSET(Entries!$C$2,Results!$N103,7),\"\")","v":"FV45"},{"$f":"PROPER(IF($B103>0,club(OFFSET(Entries!$I$2,Results!$N103,0)),\"\"))","v":"Goyt Valley Striders"},{"$f":"nLocal(OFFSET(Entries!$C$2,Results!$N103,5),H103)","v":""},{"$f":"PROPER(OFFSET(Entries!$C$2,Results!$N103,0))","v":"Janet Leigh"},"FV",null,{"$f":"MATCH($B103,Entries!$A$3:$A$1001,0)","v":77},"45",{"$f":"IF(ISERROR(OFFSET(Results!$B$3,MATCH(Entries!A102,Results!B$4:B400,0),0)),Entries!A102,0)","v":0},null,"Goyt Valley Striders",100,{"$f":"IF(ISERROR(MATCH(R103,R$3:R102,0)),R103,\"-\")","v":"Goyt Valley Striders"},{"$f":"IF(ISERROR(MATCH(S103,S$3:S102,0)),S103,\"-\")","v":100},100,"Goyt Valley Striders",100,{"$f":"IF(ISERROR(MATCH(W103,W$3:W102,0)),W103,\"-\")","v":"Goyt Valley Striders"},100]
[101,38,0,44,56,"","Colette Holden",{"$f":"IF($B104>0,OFFSET(Entries!$C$2,Results!$N104,7),\"\")","v":"FV40"},{"$f":"PROPER(IF($B104>0,club(OFFSET(Entries!$I$2,Results!$N104,0)),\"\"))","v":"Tideswell Rc"},{"$f":"nLocal(OFFSET(Entries!$C$2,Results!$N104,5),H104)","v":"FB"},{"$f":"PROPER(OFFSET(Entries!$C$2,Results!$N104,0))","v":"Colette Holden"},"F",null,{"$f":"MATCH($B104,Entries!$A$3:$A$1001,0)","v":39},"40",{"$f":"IF(ISERROR(OFFSET(Results!$B$3,MATCH(Entries!A103,Results!B$4:B401,0),0)),Entries!A103,0)","v":0},null,"Tideswell Rc",101,{"$f":"IF(ISERROR(MATCH(R104,R$3:R103,0)),R104,\"-\")","v":"-"},{"$f":"IF(ISERROR(MATCH(S104,S$3:S103,0)),S104,\"-\")","v":101},101,"Tideswell Rc",101,{"$f":"IF(ISERROR(MATCH(W104,W$3:W103,0)),W104,\"-\")","v":"-"},99999]
[102,42,0,45,2,"","Vicky Moss",{"$f":"IF($B105>0,OFFSET(Entries!$C$2,Results!$N105,7),\"\")","v":"FV40"},{"$f":"PROPER(IF($B105>0,club(OFFSET(Entries!$I$2,Results!$N105,0)),\"\"))","v":"Unattached"},{"$f":"nLocal(OFFSET(Entries!$C$2,Results!$N105,5),H105)","v":""},{"$f":"PROPER(OFFSET(Entries!$C$2,Results!$N105,0))","v":"Vicky Moss"},"F",null,{"$f":"MATCH($B105,Entries!$A$3:$A$1001,0)","v":43},"40",{"$f":"IF(ISERROR(OFFSET(Results!$B$3,MATCH(Entries!A104,Results!B$4:B402,0),0)),Entries!A104,0)","v":0},null,"Unattached",102,{"$f":"IF(ISERROR(MATCH(R105,R$3:R104,0)),R105,\"-\")","v":"-"},{"$f":"IF(ISERROR(MATCH(S105,S$3:S104,0)),S105,\"-\")","v":102},102,"Unattached",102,{"$f":"IF(ISERROR(MATCH(W105,W$3:W104,0)),W105,\"-\")","v":"-"},99999]
[103,3,0,45,13,"","Bland Quigley",{"$f":"IF($B106>0,OFFSET(Entries!$C$2,Results!$N106,7),\"\")","v":"MV40"},{"$f":"PROPER(IF($B106>0,club(OFFSET(Entries!$I$2,Results!$N106,0)),\"\"))","v":"Steel City Striders"},{"$f":"nLocal(OFFSET(Entries!$C$2,Results!$N106,5),H106)","v":""},{"$f":"PROPER(OFFSET(Entries!$C$2,Results!$N106,0))","v":"Bland Quigley"},"M",null,{"$f":"MATCH($B106,Entries!$A$3:$A$1001,0)","v":4},"40",{"$f":"IF(ISERROR(OFFSET(Results!$B$3,MATCH(Entries!A105,Results!B$4:B403,0),0)),Entries!A105,0)","v":0},null,"Steel City Striders",103,{"$f":"IF(ISERROR(MATCH(R106,R$3:R105,0)),R106,\"-\")","v":"-"},{"$f":"IF(ISERROR(MATCH(S106,S$3:S105,0)),S106,\"-\")","v":103},103,"-",1000,{"$f":"IF(ISERROR(MATCH(W106,W$3:W105,0)),W106,\"-\")","v":"-"},99999]
[104,21,0,45,27,"Nancy Stuart","",{"$f":"IF($B107>0,OFFSET(Entries!$C$2,Results!$N107,7),\"\")","v":"FS"},{"$f":"PROPER(IF($B107>0,club(OFFSET(Entries!$I$2,Results!$N107,0)),\"\"))","v":"Steel City Striders"},{"$f":"nLocal(OFFSET(Entries!$C$2,Results!$N107,5),H107)","v":""},{"$f":"PROPER(OFFSET(Entries!$C$2,Results!$N107,0))","v":"Nancy Stuart"},"F",null,{"$f":"MATCH($B107,Entries!$A$3:$A$1001,0)","v":22},0,{"$f":"IF(ISERROR(OFFSET(Results!$B$3,MATCH(Entries!A106,Results!B$4:B404,0),0)),Entries!A106,0)","v":0},null,"-",1000,{"$f":"IF(ISERROR(MATCH(R107,R$3:R106,0)),R107,\"-\")","v":"-"},{"$f":"IF(ISERROR(MATCH(S107,S$3:S106,0)),S107,\"-\")","v":"-"},99999,"Steel City Striders",104,{"$f":"IF(ISERROR(MATCH(W107,W$3:W106,0)),W107,\"-\")","v":"-"},99999]
[105,54,0,45,57,"","Mark Wheen",{"$f":"IF($B108>0,OFFSET(Entries!$C$2,Results!$N108,7),\"\")","v":"MV50"},{"$f":"PROPER(IF($B108>0,club(OFFSET(Entries!$I$2,Results!$N108,0)),\"\"))","v":"Unattached"},{"$f":"nLocal(OFFSET(Entries!$C$2,Results!$N108,5),H108)","v":""},{"$f":"PROPER(OFFSET(Entries!$C$2,Results!$N108,0))","v":"Mark Wheen"},"MVD",null,{"$f":"MATCH($B108,Entries!$A$3:$A$1001,0)","v":55},"50",{"$f":"IF(ISERROR(OFFSET(Results!$B$3,MATCH(Entries!A107,Results!B$4:B405,0),0)),Entries!A107,0)","v":0},null,"Unattached",105,{"$f":"IF(ISERROR(MATCH(R108,R$3:R107,0)),R108,\"-\")","v":"-"},{"$f":"IF(ISERROR(MATCH(S108,S$3:S107,0)),S108,\"-\")","v":105},105,"-",1000,{"$f":"IF(ISERROR(MATCH(W108,W$3:W107,0)),W108,\"-\")","v":"-"},99999]
[106,10,0,46,4,"Shane Phillips","",{"$f":"IF($B109>0,OFFSET(Entries!$C$2,Results!$N109,7),\"\")","v":"MS"},{"$f":"PROPER(IF($B109>0,club(OFFSET(Entries!$I$2,Results!$N109,0)),\"\"))","v":"Unattached"},{"$f":"nLocal(OFFSET(Entries!$C$2,Results!$N109,5),H109)","v":""},{"$f":"PROPER(OFFSET(Entries!$C$2,Results!$N109,0))","v":"Shane Phillips"},"M",null,{"$f":"MATCH($B109,Entries!$A$3:$A$1001,0)","v":11},0,{"$f":"IF(ISERROR(OFFSET(Results!$B$3,MATCH(Entries!A108,Results!B$4:B406,0),0)),Entries!A108,0)","v":0},null,"-",1000,{"$f":"IF(ISERROR(MATCH(R109,R$3:R108,0)),R109,\"-\")","v":"-"},{"$f":"IF(ISERROR(MATCH(S109,S$3:S108,0)),S109,\"-\")","v":"-"},99999,"-",1000,{"$f":"IF(ISERROR(MATCH(W109,W$3:W108,0)),W109,\"-\")","v":"-"},99999]
[107,104,0,46,17,"Aisling Spain","",{"$f":"IF($B110>0,OFFSET(Entries!$C$2,Results!$N110,7),\"\")","v":"FS"},{"$f":"PROPER(IF($B110>0,club(OFFSET(Entries!$I$2,Results!$N110,0)),\"\"))","v":"Totley Ac"},{"$f":"nLocal(OFFSET(Entries!$C$2,Results!$N110,5),H110)","v":""},{"$f":"PROPER(OFFSET(Entries!$C$2,Results!$N110,0))","v":"Aisling Spain"},"F",null,{"$f":"MATCH($B110,Entries!$A$3:$A$1001,0)","v":105},0,{"$f":"IF(ISERROR(OFFSET(Results!$B$3,MATCH(Entries!A109,Results!B$4:B407,0),0)),Entries!A109,0)","v":0},null,"-",1000,{"$f":"IF(ISERROR(MATCH(R110,R$3:R109,0)),R110,\"-\")","v":"-"},{"$f":"IF(ISERROR(MATCH(S110,S$3:S109,0)),S110,\"-\")","v":"-"},99999,"Totley Ac",107,{"$f":"IF(ISERROR(MATCH(W110,W$3:W109,0)),W110,\"-\")","v":"-"},99999]
[108,5,0,47,30,"","Phil Gregory",{"$f":"IF($B111>0,OFFSET(Entries!$C$2,Results!$N111,7),\"\")","v":"MV40"},{"$f":"PROPER(IF($B111>0,club(OFFSET(Entries!$I$2,Results!$N111,0)),\"\"))","v":"Tideswell Rc"},{"$f":"nLocal(OFFSET(Entries!$C$2,Results!$N111,5),H111)","v":"M "},{"$f":"PROPER(OFFSET(Entries!$C$2,Results!$N111,0))","v":"Phil Gregory"},"M",null,{"$f":"MATCH($B111,Entries!$A$3:$A$1001,0)","v":6},"40",{"$f":"IF(ISERROR(OFFSET(Results!$B$3,MATCH(Entries!A110,Results!B$4:B408,0),0)),Entries!A110,0)","v":0},null,"Tideswell Rc",108,{"$f":"IF(ISERROR(MATCH(R111,R$3:R110,0)),R111,\"-\")","v":"-"},{"$f":"IF(ISERROR(MATCH(S111,S$3:S110,0)),S111,\"-\")","v":108},108,"-",1000,{"$f":"IF(ISERROR(MATCH(W111,W$3:W110,0)),W111,\"-\")","v":"-"},99999]
[109,77,0,49,22,"","Peter Fotheringham",{"$f":"IF($B112>0,OFFSET(Entries!$C$2,Results!$N112,7),\"\")","v":"MV55"},{"$f":"PROPER(IF($B112>0,club(OFFSET(Entries!$I$2,Results!$N112,0)),\"\"))","v":"Goyt Valley Striders"},{"$f":"nLocal(OFFSET(Entries!$C$2,Results!$N112,5),H112)","v":""},{"$f":"PROPER(OFFSET(Entries!$C$2,Results!$N112,0))","v":"Peter Fotheringham"},"MVDE",null,{"$f":"MATCH($B112,Entries!$A$3:$A$1001,0)","v":78},"55",{"$f":"IF(ISERROR(OFFSET(Results!$B$3,MATCH(Entries!A111,Results!B$4:B409,0),0)),Entries!A111,0)","v":0},null,"Goyt Valley Striders",109,{"$f":"IF(ISERROR(MATCH(R112,R$3:R111,0)),R112,\"-\")","v":"-"},{"$f":"IF(ISERROR(MATCH(S112,S$3:S111,0)),S112,\"-\")","v":109},109,"-",1000,{"$f":"IF(ISERROR(MATCH(W112,W$3:W111,0)),W112,\"-\")","v":"-"},99999]
[110,84,0,51,35,"","Ken Price",{"$f":"IF($B113>0,OFFSET(Entries!$C$2,Results!$N113,7),\"\")","v":"MV60"},{"$f":"PROPER(IF($B113>0,club(OFFSET(Entries!$I$2,Results!$N113,0)),\"\"))","v":"Unattached"},{"$f":"nLocal(OFFSET(Entries!$C$2,Results!$N113,5),H113)","v":""},{"$f":"PROPER(OFFSET(Entries!$C$2,Results!$N113,0))","v":"Ken Price"},"MVDEX",null,{"$f":"MATCH($B113,Entries!$A$3:$A$1001,0)","v":85},"60",{"$f":"IF(ISERROR(OFFSET(Results!$B$3,MATCH(Entries!A112,Results!B$4:B410,0),0)),Entries!A112,0)","v":0},null,"Unattached",110,{"$f":"IF(ISERROR(MATCH(R113,R$3:R112,0)),R113,\"-\")","v":"-"},{"$f":"IF(ISERROR(MATCH(S113,S$3:S112,0)),S113,\"-\")","v":110},110,"-",1000,{"$f":"IF(ISERROR(MATCH(W113,W$3:W112,0)),W113,\"-\")","v":"-"},99999]
[111,9,0,52,null,"Corina Philps","",{"$f":"IF($B114>0,OFFSET(Entries!$C$2,Results!$N114,7),\"\")","v":"FS"},{"$f":"PROPER(IF($B114>0,club(OFFSET(Entries!$I$2,Results!$N114,0)),\"\"))","v":"Unattached"},{"$f":"nLocal(OFFSET(Entries!$C$2,Results!$N114,5),H114)","v":"FB"},{"$f":"PROPER(OFFSET(Entries!$C$2,Results!$N114,0))","v":"Corina Philps"},"F",null,{"$f":"MATCH($B114,Entries!$A$3:$A$1001,0)","v":10},0,{"$f":"IF(ISERROR(OFFSET(Results!$B$3,MATCH(Entries!A113,Results!B$4:B411,0),0)),Entries!A113,0)","v":0},null,"-",1000,{"$f":"IF(ISERROR(MATCH(R114,R$3:R113,0)),R114,\"-\")","v":"-"},{"$f":"IF(ISERROR(MATCH(S114,S$3:S113,0)),S114,\"-\")","v":"-"},99999,"Unattached",111,{"$f":"IF(ISERROR(MATCH(W114,W$3:W113,0)),W114,\"-\")","v":"-"},99999]
[112,null,0,52,null,"","",{"$f":"IF($B115>0,OFFSET(Entries!$C$2,Results!$N115,7),\"\")","v":""},{"$f":"PROPER(IF($B115>0,club(OFFSET(Entries!$I$2,Results!$N115,0)),\"\"))","v":""},{"$f":"nLocal(OFFSET(Entries!$C$2,Results!$N115,5),H115)","v":" "},{"$f":"PROPER(OFFSET(Entries!$C$2,Results!$N115,0))","v":"Finisher  Unidentified!"},"",null,{"$f":"MATCH($B115,Entries!$A$3:$A$1001,0)","v":1},0,{"$f":"IF(ISERROR(OFFSET(Results!$B$3,MATCH(Entries!A114,Results!B$4:B412,0),0)),Entries!A114,0)","v":0},null,"-",1000,{"$f":"IF(ISERROR(MATCH(R115,R$3:R114,0)),R115,\"-\")","v":"-"},{"$f":"IF(ISERROR(MATCH(S115,S$3:S114,0)),S115,\"-\")","v":"-"},99999,"-",1000,{"$f":"IF(ISERROR(MATCH(W115,W$3:W114,0)),W115,\"-\")","v":"-"},99999]
[113,null,0,52,null,"","",{"$f":"IF($B116>0,OFFSET(Entries!$C$2,Results!$N116,7),\"\")","v":""},{"$f":"PROPER(IF($B116>0,club(OFFSET(Entries!$I$2,Results!$N116,0)),\"\"))","v":""},{"$f":"nLocal(OFFSET(Entries!$C$2,Results!$N116,5),H116)","v":" "},{"$f":"PROPER(OFFSET(Entries!$C$2,Results!$N116,0))","v":"Finisher  Unidentified!"},"",null,{"$f":"MATCH($B116,Entries!$A$3:$A$1001,0)","v":1},0,{"$f":"IF(ISERROR(OFFSET(Results!$B$3,MATCH(Entries!A115,Results!B$4:B413,0),0)),Entries!A115,0)","v":0},null,"-",1000,{"$f":"IF(ISERROR(MATCH(R116,R$3:R115,0)),R116,\"-\")","v":"-"},{"$f":"IF(ISERROR(MATCH(S116,S$3:S115,0)),S116,\"-\")","v":"-"},99999,"-",1000,{"$f":"IF(ISERROR(MATCH(W116,W$3:W115,0)),W116,\"-\")","v":"-"},99999]
[114,null,0,52,null,"","",{"$f":"IF($B117>0,OFFSET(Entries!$C$2,Results!$N117,7),\"\")","v":""},{"$f":"PROPER(IF($B117>0,club(OFFSET(Entries!$I$2,Results!$N117,0)),\"\"))","v":""},{"$f":"nLocal(OFFSET(Entries!$C$2,Results!$N117,5),H117)","v":" "},{"$f":"PROPER(OFFSET(Entries!$C$2,Results!$N117,0))","v":"Finisher  Unidentified!"},"",null,{"$f":"MATCH($B117,Entries!$A$3:$A$1001,0)","v":1},0,{"$f":"IF(ISERROR(OFFSET(Results!$B$3,MATCH(Entries!A116,Results!B$4:B414,0),0)),Entries!A116,0)","v":113},null,"-",1000,{"$f":"IF(ISERROR(MATCH(R117,R$3:R116,0)),R117,\"-\")","v":"-"},{"$f":"IF(ISERROR(MATCH(S117,S$3:S116,0)),S117,\"-\")","v":"-"},99999,"-",1000,{"$f":"IF(ISERROR(MATCH(W117,W$3:W116,0)),W117,\"-\")","v":"-"},99999]
[115,null,0,52,null,"","",{"$f":"IF($B118>0,OFFSET(Entries!$C$2,Results!$N118,7),\"\")","v":""},{"$f":"PROPER(IF($B118>0,club(OFFSET(Entries!$I$2,Results!$N118,0)),\"\"))","v":""},{"$f":"nLocal(OFFSET(Entries!$C$2,Results!$N118,5),H118)","v":" "},{"$f":"PROPER(OFFSET(Entries!$C$2,Results!$N118,0))","v":"Finisher  Unidentified!"},"",null,{"$f":"MATCH($B118,Entries!$A$3:$A$1001,0)","v":1},0,{"$f":"IF(ISERROR(OFFSET(Results!$B$3,MATCH(Entries!A117,Results!B$4:B415,0),0)),Entries!A117,0)","v":""},null,"-",1000,{"$f":"IF(ISERROR(MATCH(R118,R$3:R117,0)),R118,\"-\")","v":"-"},{"$f":"IF(ISERROR(MATCH(S118,S$3:S117,0)),S118,\"-\")","v":"-"},99999,"-",1000,{"$f":"IF(ISERROR(MATCH(W118,W$3:W117,0)),W118,\"-\")","v":"-"},99999]
[116,null,0,52,null,"","",{"$f":"IF($B119>0,OFFSET(Entries!$C$2,Results!$N119,7),\"\")","v":""},{"$f":"PROPER(IF($B119>0,club(OFFSET(Entries!$I$2,Results!$N119,0)),\"\"))","v":""},{"$f":"nLocal(OFFSET(Entries!$C$2,Results!$N119,5),H119)","v":" "},{"$f":"PROPER(OFFSET(Entries!$C$2,Results!$N119,0))","v":"Finisher  Unidentified!"},"",null,{"$f":"MATCH($B119,Entries!$A$3:$A$1001,0)","v":1},0,{"$f":"IF(ISERROR(OFFSET(Results!$B$3,MATCH(Entries!A118,Results!B$4:B416,0),0)),Entries!A118,0)","v":""},null,"-",1000,{"$f":"IF(ISERROR(MATCH(R119,R$3:R118,0)),R119,\"-\")","v":"-"},{"$f":"IF(ISERROR(MATCH(S119,S$3:S118,0)),S119,\"-\")","v":"-"},99999,"-",1000,{"$f":"IF(ISERROR(MATCH(W119,W$3:W118,0)),W119,\"-\")","v":"-"},99999]
[117,null,0,52,null,"","",{"$f":"IF($B120>0,OFFSET(Entries!$C$2,Results!$N120,7),\"\")","v":""},{"$f":"PROPER(IF($B120>0,club(OFFSET(Entries!$I$2,Results!$N120,0)),\"\"))","v":""},{"$f":"nLocal(OFFSET(Entries!$C$2,Results!$N120,5),H120)","v":" "},{"$f":"PROPER(OFFSET(Entries!$C$2,Results!$N120,0))","v":"Finisher  Unidentified!"},"",null,{"$f":"MATCH($B120,Entries!$A$3:$A$1001,0)","v":1},0,{"$f":"IF(ISERROR(OFFSET(Results!$B$3,MATCH(Entries!A119,Results!B$4:B417,0),0)),Entries!A119,0)","v":""},null,"-",1000,{"$f":"IF(ISERROR(MATCH(R120,R$3:R119,0)),R120,\"-\")","v":"-"},{"$f":"IF(ISERROR(MATCH(S120,S$3:S119,0)),S120,\"-\")","v":"-"},99999,"-",1000,{"$f":"IF(ISERROR(MATCH(W120,W$3:W119,0)),W120,\"-\")","v":"-"},99999]
[118,null,0,52,null,"","",{"$f":"IF($B121>0,OFFSET(Entries!$C$2,Results!$N121,7),\"\")","v":""},{"$f":"PROPER(IF($B121>0,club(OFFSET(Entries!$I$2,Results!$N121,0)),\"\"))","v":""},{"$f":"nLocal(OFFSET(Entries!$C$2,Results!$N121,5),H121)","v":" "},{"$f":"PROPER(OFFSET(Entries!$C$2,Results!$N121,0))","v":"Finisher  Unidentified!"},"",null,{"$f":"MATCH($B121,Entries!$A$3:$A$1001,0)","v":1},0,{"$f":"IF(ISERROR(OFFSET(Results!$B$3,MATCH(Entries!A120,Results!B$4:B418,0),0)),Entries!A120,0)","v":""},null,"-",1000,{"$f":"IF(ISERROR(MATCH(R121,R$3:R120,0)),R121,\"-\")","v":"-"},{"$f":"IF(ISERROR(MATCH(S121,S$3:S120,0)),S121,\"-\")","v":"-"},99999,"-",1000,{"$f":"IF(ISERROR(MATCH(W121,W$3:W120,0)),W121,\"-\")","v":"-"},99999]
[119,null,0,52,null,"","",{"$f":"IF($B122>0,OFFSET(Entries!$C$2,Results!$N122,7),\"\")","v":""},{"$f":"PROPER(IF($B122>0,club(OFFSET(Entries!$I$2,Results!$N122,0)),\"\"))","v":""},{"$f":"nLocal(OFFSET(Entries!$C$2,Results!$N122,5),H122)","v":" "},{"$f":"PROPER(OFFSET(Entries!$C$2,Results!$N122,0))","v":"Finisher  Unidentified!"},"",null,{"$f":"MATCH($B122,Entries!$A$3:$A$1001,0)","v":1},0,{"$f":"IF(ISERROR(OFFSET(Results!$B$3,MATCH(Entries!A121,Results!B$4:B419,0),0)),Entries!A121,0)","v":""},null,"-",1000,{"$f":"IF(ISERROR(MATCH(R122,R$3:R121,0)),R122,\"-\")","v":"-"},{"$f":"IF(ISERROR(MATCH(S122,S$3:S121,0)),S122,\"-\")","v":"-"},99999,"-",1000,{"$f":"IF(ISERROR(MATCH(W122,W$3:W121,0)),W122,\"-\")","v":"-"},99999]
[120,null,0,52,null,"","",{"$f":"IF($B123>0,OFFSET(Entries!$C$2,Results!$N123,7),\"\")","v":""},{"$f":"PROPER(IF($B123>0,club(OFFSET(Entries!$I$2,Results!$N123,0)),\"\"))","v":""},{"$f":"nLocal(OFFSET(Entries!$C$2,Results!$N123,5),H123)","v":" "},{"$f":"PROPER(OFFSET(Entries!$C$2,Results!$N123,0))","v":"Finisher  Unidentified!"},"",null,{"$f":"MATCH($B123,Entries!$A$3:$A$1001,0)","v":1},0,{"$f":"IF(ISERROR(OFFSET(Results!$B$3,MATCH(Entries!A122,Results!B$4:B420,0),0)),Entries!A122,0)","v":""},null,"-",1000,{"$f":"IF(ISERROR(MATCH(R123,R$3:R122,0)),R123,\"-\")","v":"-"},{"$f":"IF(ISERROR(MATCH(S123,S$3:S122,0)),S123,\"-\")","v":"-"},99999,"-",1000,{"$f":"IF(ISERROR(MATCH(W123,W$3:W122,0)),W123,\"-\")","v":"-"},99999]
[121,null,0,52,null,"","",{"$f":"IF($B124>0,OFFSET(Entries!$C$2,Results!$N124,7),\"\")","v":""},{"$f":"PROPER(IF($B124>0,club(OFFSET(Entries!$I$2,Results!$N124,0)),\"\"))","v":""},{"$f":"nLocal(OFFSET(Entries!$C$2,Results!$N124,5),H124)","v":" "},{"$f":"PROPER(OFFSET(Entries!$C$2,Results!$N124,0))","v":"Finisher  Unidentified!"},"",null,{"$f":"MATCH($B124,Entries!$A$3:$A$1001,0)","v":1},0,{"$f":"IF(ISERROR(OFFSET(Results!$B$3,MATCH(Entries!A123,Results!B$4:B421,0),0)),Entries!A123,0)","v":""},null,"-",1000,{"$f":"IF(ISERROR(MATCH(R124,R$3:R123,0)),R124,\"-\")","v":"-"},{"$f":"IF(ISERROR(MATCH(S124,S$3:S123,0)),S124,\"-\")","v":"-"},99999,"-",1000,{"$f":"IF(ISERROR(MATCH(W124,W$3:W123,0)),W124,\"-\")","v":"-"},99999]
[122,null,0,52,null,"","",{"$f":"IF($B125>0,OFFSET(Entries!$C$2,Results!$N125,7),\"\")","v":""},{"$f":"PROPER(IF($B125>0,club(OFFSET(Entries!$I$2,Results!$N125,0)),\"\"))","v":""},{"$f":"nLocal(OFFSET(Entries!$C$2,Results!$N125,5),H125)","v":" "},{"$f":"PROPER(OFFSET(Entries!$C$2,Results!$N125,0))","v":"Finisher  Unidentified!"},"",null,{"$f":"MATCH($B125,Entries!$A$3:$A$1001,0)","v":1},0,{"$f":"IF(ISERROR(OFFSET(Results!$B$3,MATCH(Entries!A124,Results!B$4:B422,0),0)),Entries!A124,0)","v":""},null,"-",1000,{"$f":"IF(ISERROR(MATCH(R125,R$3:R124,0)),R125,\"-\")","v":"-"},{"$f":"IF(ISERROR(MATCH(S125,S$3:S124,0)),S125,\"-\")","v":"-"},99999,"-",1000,{"$f":"IF(ISERROR(MATCH(W125,W$3:W124,0)),W125,\"-\")","v":"-"},99999]
[123,null,0,52,null,"","",{"$f":"IF($B126>0,OFFSET(Entries!$C$2,Results!$N126,7),\"\")","v":""},{"$f":"PROPER(IF($B126>0,club(OFFSET(Entries!$I$2,Results!$N126,0)),\"\"))","v":""},{"$f":"nLocal(OFFSET(Entries!$C$2,Results!$N126,5),H126)","v":" "},{"$f":"PROPER(OFFSET(Entries!$C$2,Results!$N126,0))","v":"Finisher  Unidentified!"},"",null,{"$f":"MATCH($B126,Entries!$A$3:$A$1001,0)","v":1},0,{"$f":"IF(ISERROR(OFFSET(Results!$B$3,MATCH(Entries!A125,Results!B$4:B423,0),0)),Entries!A125,0)","v":""},null,"-",1000,{"$f":"IF(ISERROR(MATCH(R126,R$3:R125,0)),R126,\"-\")","v":"-"},{"$f":"IF(ISERROR(MATCH(S126,S$3:S125,0)),S126,\"-\")","v":"-"},99999,"-",1000,{"$f":"IF(ISERROR(MATCH(W126,W$3:W125,0)),W126,\"-\")","v":"-"},99999]
[124,null,0,52,null,"","",{"$f":"IF($B127>0,OFFSET(Entries!$C$2,Results!$N127,7),\"\")","v":""},{"$f":"PROPER(IF($B127>0,club(OFFSET(Entries!$I$2,Results!$N127,0)),\"\"))","v":""},{"$f":"nLocal(OFFSET(Entries!$C$2,Results!$N127,5),H127)","v":" "},{"$f":"PROPER(OFFSET(Entries!$C$2,Results!$N127,0))","v":"Finisher  Unidentified!"},"",null,{"$f":"MATCH($B127,Entries!$A$3:$A$1001,0)","v":1},0,{"$f":"IF(ISERROR(OFFSET(Results!$B$3,MATCH(Entries!A126,Results!B$4:B424,0),0)),Entries!A126,0)","v":""},null,"-",1000,{"$f":"IF(ISERROR(MATCH(R127,R$3:R126,0)),R127,\"-\")","v":"-"},{"$f":"IF(ISERROR(MATCH(S127,S$3:S126,0)),S127,\"-\")","v":"-"},99999,"-",1000,{"$f":"IF(ISERROR(MATCH(W127,W$3:W126,0)),W127,\"-\")","v":"-"},99999]
[125,null,0,52,null,"","",{"$f":"IF($B128>0,OFFSET(Entries!$C$2,Results!$N128,7),\"\")","v":""},{"$f":"PROPER(IF($B128>0,club(OFFSET(Entries!$I$2,Results!$N128,0)),\"\"))","v":""},{"$f":"nLocal(OFFSET(Entries!$C$2,Results!$N128,5),H128)","v":" "},{"$f":"PROPER(OFFSET(Entries!$C$2,Results!$N128,0))","v":"Finisher  Unidentified!"},"",null,{"$f":"MATCH($B128,Entries!$A$3:$A$1001,0)","v":1},0,{"$f":"IF(ISERROR(OFFSET(Results!$B$3,MATCH(Entries!A127,Results!B$4:B425,0),0)),Entries!A127,0)","v":""},null,"-",1000,{"$f":"IF(ISERROR(MATCH(R128,R$3:R127,0)),R128,\"-\")","v":"-"},{"$f":"IF(ISERROR(MATCH(S128,S$3:S127,0)),S128,\"-\")","v":"-"},99999,"-",1000,{"$f":"IF(ISERROR(MATCH(W128,W$3:W127,0)),W128,\"-\")","v":"-"},99999]
[126,null,0,52,null,"","",{"$f":"IF($B129>0,OFFSET(Entries!$C$2,Results!$N129,7),\"\")","v":""},{"$f":"PROPER(IF($B129>0,club(OFFSET(Entries!$I$2,Results!$N129,0)),\"\"))","v":""},{"$f":"nLocal(OFFSET(Entries!$C$2,Results!$N129,5),H129)","v":" "},{"$f":"PROPER(OFFSET(Entries!$C$2,Results!$N129,0))","v":"Finisher  Unidentified!"},"",null,{"$f":"MATCH($B129,Entries!$A$3:$A$1001,0)","v":1},0,{"$f":"IF(ISERROR(OFFSET(Results!$B$3,MATCH(Entries!A128,Results!B$4:B426,0),0)),Entries!A128,0)","v":""},null,"-",1000,{"$f":"IF(ISERROR(MATCH(R129,R$3:R128,0)),R129,\"-\")","v":"-"},{"$f":"IF(ISERROR(MATCH(S129,S$3:S128,0)),S129,\"-\")","v":"-"},99999,"-",1000,{"$f":"IF(ISERROR(MATCH(W129,W$3:W128,0)),W129,\"-\")","v":"-"},99999]
[127,null,0,52,null,"","",{"$f":"IF($B130>0,OFFSET(Entries!$C$2,Results!$N130,7),\"\")","v":""},{"$f":"PROPER(IF($B130>0,club(OFFSET(Entries!$I$2,Results!$N130,0)),\"\"))","v":""},{"$f":"nLocal(OFFSET(Entries!$C$2,Results!$N130,5),H130)","v":" "},{"$f":"PROPER(OFFSET(Entries!$C$2,Results!$N130,0))","v":"Finisher  Unidentified!"},"",null,{"$f":"MATCH($B130,Entries!$A$3:$A$1001,0)","v":1},0,{"$f":"IF(ISERROR(OFFSET(Results!$B$3,MATCH(Entries!A129,Results!B$4:B427,0),0)),Entries!A129,0)","v":""},null,"-",1000,{"$f":"IF(ISERROR(MATCH(R130,R$3:R129,0)),R130,\"-\")","v":"-"},{"$f":"IF(ISERROR(MATCH(S130,S$3:S129,0)),S130,\"-\")","v":"-"},99999,"-",1000,{"$f":"IF(ISERROR(MATCH(W130,W$3:W129,0)),W130,\"-\")","v":"-"},99999]
[128,null,0,52,null,"","",{"$f":"IF($B131>0,OFFSET(Entries!$C$2,Results!$N131,7),\"\")","v":""},{"$f":"PROPER(IF($B131>0,club(OFFSET(Entries!$I$2,Results!$N131,0)),\"\"))","v":""},{"$f":"nLocal(OFFSET(Entries!$C$2,Results!$N131,5),H131)","v":" "},{"$f":"PROPER(OFFSET(Entries!$C$2,Results!$N131,0))","v":"Finisher  Unidentified!"},"",null,{"$f":"MATCH($B131,Entries!$A$3:$A$1001,0)","v":1},0,{"$f":"IF(ISERROR(OFFSET(Results!$B$3,MATCH(Entries!A130,Results!B$4:B428,0),0)),Entries!A130,0)","v":""},null,"-",1000,{"$f":"IF(ISERROR(MATCH(R131,R$3:R130,0)),R131,\"-\")","v":"-"},{"$f":"IF(ISERROR(MATCH(S131,S$3:S130,0)),S131,\"-\")","v":"-"},99999,"-",1000,{"$f":"IF(ISERROR(MATCH(W131,W$3:W130,0)),W131,\"-\")","v":"-"},99999]
[129,null,0,52,null,"","",{"$f":"IF($B132>0,OFFSET(Entries!$C$2,Results!$N132,7),\"\")","v":""},{"$f":"PROPER(IF($B132>0,club(OFFSET(Entries!$I$2,Results!$N132,0)),\"\"))","v":""},{"$f":"nLocal(OFFSET(Entries!$C$2,Results!$N132,5),H132)","v":" "},{"$f":"PROPER(OFFSET(Entries!$C$2,Results!$N132,0))","v":"Finisher  Unidentified!"},"",null,{"$f":"MATCH($B132,Entries!$A$3:$A$1001,0)","v":1},0,{"$f":"IF(ISERROR(OFFSET(Results!$B$3,MATCH(Entries!A131,Results!B$4:B429,0),0)),Entries!A131,0)","v":""},null,"-",1000,{"$f":"IF(ISERROR(MATCH(R132,R$3:R131,0)),R132,\"-\")","v":"-"},{"$f":"IF(ISERROR(MATCH(S132,S$3:S131,0)),S132,\"-\")","v":"-"},99999,"-",1000,{"$f":"IF(ISERROR(MATCH(W132,W$3:W131,0)),W132,\"-\")","v":"-"},99999]
[130,null,0,52,null,"","",{"$f":"IF($B133>0,OFFSET(Entries!$C$2,Results!$N133,7),\"\")","v":""},{"$f":"PROPER(IF($B133>0,club(OFFSET(Entries!$I$2,Results!$N133,0)),\"\"))","v":""},{"$f":"nLocal(OFFSET(Entries!$C$2,Results!$N133,5),H133)","v":" "},{"$f":"PROPER(OFFSET(Entries!$C$2,Results!$N133,0))","v":"Finisher  Unidentified!"},"",null,{"$f":"MATCH($B133,Entries!$A$3:$A$1001,0)","v":1},0,{"$f":"IF(ISERROR(OFFSET(Results!$B$3,MATCH(Entries!A132,Results!B$4:B430,0),0)),Entries!A132,0)","v":""},null,"-",1000,{"$f":"IF(ISERROR(MATCH(R133,R$3:R132,0)),R133,\"-\")","v":"-"},{"$f":"IF(ISERROR(MATCH(S133,S$3:S132,0)),S133,\"-\")","v":"-"},99999,"-",1000,{"$f":"IF(ISERROR(MATCH(W133,W$3:W132,0)),W133,\"-\")","v":"-"},99999]
[{"$f":"A133+1","v":131},null,0,52,null,"","",{"$f":"IF($B134>0,OFFSET(Entries!$C$2,Results!$N134,7),\"\")","v":""},{"$f":"PROPER(IF($B134>0,club(OFFSET(Entries!$I$2,Results!$N134,0)),\"\"))","v":""},{"$f":"nLocal(OFFSET(Entries!$C$2,Results!$N134,5),H134)","v":" "},{"$f":"PROPER(OFFSET(Entries!$C$2,Results!$N134,0))","v":"Finisher  Unidentified!"},"",null,{"$f":"MATCH($B134,Entries!$A$3:$A$1001,0)","v":1},{"$f":"IF(LEN(H134)>2,RIGHT(H134,2),0)","v":0},{"$f":"IF(ISERROR(OFFSET(Results!$B$3,MATCH(Entries!A133,Results!B$4:B431,0),0)),Entries!A133,0)","v":""},null,"-",1000,{"$f":"IF(ISERROR(MATCH(R134,R$3:R133,0)),R134,\"-\")","v":"-"},{"$f":"IF(ISERROR(MATCH(S134,S$3:S133,0)),S134,\"-\")","v":"-"},99999,"-",1000,{"$f":"IF(ISERROR(MATCH(W134,W$3:W133,0)),W134,\"-\")","v":"-"},99999]
[132,null,0,52,null,"","",{"$f":"IF($B135>0,OFFSET(Entries!$C$2,Results!$N135,7),\"\")","v":""},{"$f":"PROPER(IF($B135>0,club(OFFSET(Entries!$I$2,Results!$N135,0)),\"\"))","v":""},{"$f":"nLocal(OFFSET(Entries!$C$2,Results!$N135,5),H135)","v":" "},{"$f":"PROPER(OFFSET(Entries!$C$2,Results!$N135,0))","v":"Finisher  Unidentified!"},"",null,{"$f":"MATCH($B135,Entries!$A$3:$A$1001,0)","v":1},0,{"$f":"IF(ISERROR(OFFSET(Results!$B$3,MATCH(Entries!A134,Results!B$4:B432,0),0)),Entries!A134,0)","v":""},null,"-",1000,{"$f":"IF(ISERROR(MATCH(R135,R$3:R134,0)),R135,\"-\")","v":"-"},{"$f":"IF(ISERROR(MATCH(S135,S$3:S134,0)),S135,\"-\")","v":"-"},99999,"-",1000,{"$f":"IF(ISERROR(MATCH(W135,W$3:W134,0)),W135,\"-\")","v":"-"},99999]
[133,null,0,52,null,"","",{"$f":"IF($B136>0,OFFSET(Entries!$C$2,Results!$N136,7),\"\")","v":""},{"$f":"PROPER(IF($B136>0,club(OFFSET(Entries!$I$2,Results!$N136,0)),\"\"))","v":""},{"$f":"nLocal(OFFSET(Entries!$C$2,Results!$N136,5),H136)","v":" "},{"$f":"PROPER(OFFSET(Entries!$C$2,Results!$N136,0))","v":"Finisher  Unidentified!"},"",null,{"$f":"MATCH($B136,Entries!$A$3:$A$1001,0)","v":1},0,{"$f":"IF(ISERROR(OFFSET(Results!$B$3,MATCH(Entries!A135,Results!B$4:B433,0),0)),Entries!A135,0)","v":""},null,"-",1000,{"$f":"IF(ISERROR(MATCH(R136,R$3:R135,0)),R136,\"-\")","v":"-"},{"$f":"IF(ISERROR(MATCH(S136,S$3:S135,0)),S136,\"-\")","v":"-"},99999,"-",1000,{"$f":"IF(ISERROR(MATCH(W136,W$3:W135,0)),W136,\"-\")","v":"-"},99999]
[134,null,0,52,null,"","",{"$f":"IF($B137>0,OFFSET(Entries!$C$2,Results!$N137,7),\"\")","v":""},{"$f":"PROPER(IF($B137>0,club(OFFSET(Entries!$I$2,Results!$N137,0)),\"\"))","v":""},{"$f":"nLocal(OFFSET(Entries!$C$2,Results!$N137,5),H137)","v":" "},{"$f":"PROPER(OFFSET(Entries!$C$2,Results!$N137,0))","v":"Finisher  Unidentified!"},"",null,{"$f":"MATCH($B137,Entries!$A$3:$A$1001,0)","v":1},0,{"$f":"IF(ISERROR(OFFSET(Results!$B$3,MATCH(Entries!A136,Results!B$4:B434,0),0)),Entries!A136,0)","v":""},null,{"$f":"IF(LEN(H137)>2,I137,\"-\")","v":"-"},{"$f":"IF(R137<>\"-\",ROW()-3,1000)","v":1000},{"$f":"IF(ISERROR(MATCH(R137,R$3:R136,0)),R137,\"-\")","v":"-"},{"$f":"IF(ISERROR(MATCH(S137,S$3:S136,0)),S137,\"-\")","v":"-"},{"$f":"IF(U137<>\"-\",(ROW()-3)*1,99999)","v":99999},"-",1000,{"$f":"IF(ISERROR(MATCH(W137,W$3:W136,0)),W137,\"-\")","v":"-"},99999]
[135,null,0,52,null,"","",{"$f":"IF($B138>0,OFFSET(Entries!$C$2,Results!$N138,7),\"\")","v":""},{"$f":"PROPER(IF($B138>0,club(OFFSET(Entries!$I$2,Results!$N138,0)),\"\"))","v":""},{"$f":"nLocal(OFFSET(Entries!$C$2,Results!$N138,5),H138)","v":" "},{"$f":"PROPER(OFFSET(Entries!$C$2,Results!$N138,0))","v":"Finisher  Unidentified!"},"",null,{"$f":"MATCH($B138,Entries!$A$3:$A$1001,0)","v":1},0,{"$f":"IF(ISERROR(OFFSET(Results!$B$3,MATCH(Entries!A137,Results!B$4:B435,0),0)),Entries!A137,0)","v":""},null,"-",1000,{"$f":"IF(ISERROR(MATCH(R138,R$3:R137,0)),R138,\"-\")","v":"-"},{"$f":"IF(ISERROR(MATCH(S138,S$3:S137,0)),S138,\"-\")","v":"-"},99999,"-",1000,{"$f":"IF(ISERROR(MATCH(W138,W$3:W137,0)),W138,\"-\")","v":"-"},99999]
[136,null,{"$f":"IF(D139>=D138,C138,C138+1)","v":0},{"$f":"IF(E139>=E138,D138,D138+1)","v":52},null,{"$f":"IF(AND($B139>=0,LEN(H139)=2),K139,\"\")","v":""},{"$f":"IF(AND($B139>=0,MID(H139,2,1)=\"V\"),K139,\"\")","v":""},{"$f":"IF($B139>0,OFFSET(Entries!$C$2,Results!$N139,7),\"\")","v":""},{"$f":"PROPER(IF($B139>0,club(OFFSET(Entries!$I$2,Results!$N139,0)),\"\"))","v":""},{"$f":"nLocal(OFFSET(Entries!$C$2,Results!$N139,5),H139)","v":" "},{"$f":"PROPER(OFFSET(Entries!$C$2,Results!$N139,0))","v":"Finisher  Unidentified!"},{"$f":"LEFT(H139,1)&VetCat5(H139)","v":""},null,{"$f":"MATCH($B139,Entries!$A$3:$A$1001,0)","v":1},0,{"$f":"IF(ISERROR(OFFSET(Results!$B$3,MATCH(Entries!A138,Results!B$4:B436,0),0)),Entries!A138,0)","v":""},null,"-",1000,{"$f":"IF(ISERROR(MATCH(R139,R$3:R138,0)),R139,\"-\")","v":"-"},{"$f":"IF(ISERROR(MATCH(S139,S$3:S138,0)),S139,\"-\")","v":"-"},99999,{"$f":"IF(LEFT(H139,1)=\"F\",I139,\"-\")","v":"-"},{"$f":"IF(W139<>\"-\",ROW()-3,1000)","v":1000},{"$f":"IF(ISERROR(MATCH(W139,W$3:W138,0)),W139,\"-\")","v":"-"},{"$f":"IF(Y139<>\"-\",(ROW()-3)*1,99999)","v":99999}]
[137,null,0,52,null,"","",{"$f":"IF($B140>0,OFFSET(Entries!$C$2,Results!$N140,7),\"\")","v":""},{"$f":"PROPER(IF($B140>0,club(OFFSET(Entries!$I$2,Results!$N140,0)),\"\"))","v":""},{"$f":"nLocal(OFFSET(Entries!$C$2,Results!$N140,5),H140)","v":" "},{"$f":"PROPER(OFFSET(Entries!$C$2,Results!$N140,0))","v":"Finisher  Unidentified!"},"",null,{"$f":"MATCH($B140,Entries!$A$3:$A$1001,0)","v":1},0,{"$f":"IF(ISERROR(OFFSET(Results!$B$3,MATCH(Entries!A139,Results!B$4:B437,0),0)),Entries!A139,0)","v":""},null,"-",1000,{"$f":"IF(ISERROR(MATCH(R140,R$3:R139,0)),R140,\"-\")","v":"-"},{"$f":"IF(ISERROR(MATCH(S140,S$3:S139,0)),S140,\"-\")","v":"-"},99999,"-",1000,{"$f":"IF(ISERROR(MATCH(W140,W$3:W139,0)),W140,\"-\")","v":"-"},99999]
[138,null,0,52,null,"","",{"$f":"IF($B141>0,OFFSET(Entries!$C$2,Results!$N141,7),\"\")","v":""},{"$f":"PROPER(IF($B141>0,club(OFFSET(Entries!$I$2,Results!$N141,0)),\"\"))","v":""},{"$f":"nLocal(OFFSET(Entries!$C$2,Results!$N141,5),H141)","v":" "},{"$f":"PROPER(OFFSET(Entries!$C$2,Results!$N141,0))","v":"Finisher  Unidentified!"},"",null,{"$f":"MATCH($B141,Entries!$A$3:$A$1001,0)","v":1},0,{"$f":"IF(ISERROR(OFFSET(Results!$B$3,MATCH(Entries!A140,Results!B$4:B438,0),0)),Entries!A140,0)","v":""},null,"-",1000,{"$f":"IF(ISERROR(MATCH(R141,R$3:R140,0)),R141,\"-\")","v":"-"},{"$f":"IF(ISERROR(MATCH(S141,S$3:S140,0)),S141,\"-\")","v":"-"},99999,"-",1000,{"$f":"IF(ISERROR(MATCH(W141,W$3:W140,0)),W141,\"-\")","v":"-"},99999]
[139,null,0,52,null,"","",{"$f":"IF($B142>0,OFFSET(Entries!$C$2,Results!$N142,7),\"\")","v":""},{"$f":"PROPER(IF($B142>0,club(OFFSET(Entries!$I$2,Results!$N142,0)),\"\"))","v":""},{"$f":"nLocal(OFFSET(Entries!$C$2,Results!$N142,5),H142)","v":" "},{"$f":"PROPER(OFFSET(Entries!$C$2,Results!$N142,0))","v":"Finisher  Unidentified!"},"",null,{"$f":"MATCH($B142,Entries!$A$3:$A$1001,0)","v":1},0,{"$f":"IF(ISERROR(OFFSET(Results!$B$3,MATCH(Entries!A141,Results!B$4:B439,0),0)),Entries!A141,0)","v":""},null,"-",1000,{"$f":"IF(ISERROR(MATCH(R142,R$3:R141,0)),R142,\"-\")","v":"-"},{"$f":"IF(ISERROR(MATCH(S142,S$3:S141,0)),S142,\"-\")","v":"-"},99999,"-",1000,{"$f":"IF(ISERROR(MATCH(W142,W$3:W141,0)),W142,\"-\")","v":"-"},99999]
[140,null,0,52,null,"","",{"$f":"IF($B143>0,OFFSET(Entries!$C$2,Results!$N143,7),\"\")","v":""},{"$f":"PROPER(IF($B143>0,club(OFFSET(Entries!$I$2,Results!$N143,0)),\"\"))","v":""},{"$f":"nLocal(OFFSET(Entries!$C$2,Results!$N143,5),H143)","v":" "},{"$f":"PROPER(OFFSET(Entries!$C$2,Results!$N143,0))","v":"Finisher  Unidentified!"},"",null,{"$f":"MATCH($B143,Entries!$A$3:$A$1001,0)","v":1},0,{"$f":"IF(ISERROR(OFFSET(Results!$B$3,MATCH(Entries!A142,Results!B$4:B440,0),0)),Entries!A142,0)","v":""},null,"-",1000,{"$f":"IF(ISERROR(MATCH(R143,R$3:R142,0)),R143,\"-\")","v":"-"},{"$f":"IF(ISERROR(MATCH(S143,S$3:S142,0)),S143,\"-\")","v":"-"},99999,"-",1000,{"$f":"IF(ISERROR(MATCH(W143,W$3:W142,0)),W143,\"-\")","v":"-"},99999]
[141,null,0,52,null,"","",{"$f":"IF($B144>0,OFFSET(Entries!$C$2,Results!$N144,7),\"\")","v":""},{"$f":"PROPER(IF($B144>0,club(OFFSET(Entries!$I$2,Results!$N144,0)),\"\"))","v":""},{"$f":"nLocal(OFFSET(Entries!$C$2,Results!$N144,5),H144)","v":" "},{"$f":"PROPER(OFFSET(Entries!$C$2,Results!$N144,0))","v":"Finisher  Unidentified!"},"",null,{"$f":"MATCH($B144,Entries!$A$3:$A$1001,0)","v":1},0,{"$f":"IF(ISERROR(OFFSET(Results!$B$3,MATCH(Entries!A143,Results!B$4:B441,0),0)),Entries!A143,0)","v":""},null,"-",1000,{"$f":"IF(ISERROR(MATCH(R144,R$3:R143,0)),R144,\"-\")","v":"-"},{"$f":"IF(ISERROR(MATCH(S144,S$3:S143,0)),S144,\"-\")","v":"-"},99999,"-",1000,{"$f":"IF(ISERROR(MATCH(W144,W$3:W143,0)),W144,\"-\")","v":"-"},99999]
[142,null,0,52,null,"","",{"$f":"IF($B145>0,OFFSET(Entries!$C$2,Results!$N145,7),\"\")","v":""},{"$f":"PROPER(IF($B145>0,club(OFFSET(Entries!$I$2,Results!$N145,0)),\"\"))","v":""},{"$f":"nLocal(OFFSET(Entries!$C$2,Results!$N145,5),H145)","v":" "},{"$f":"PROPER(OFFSET(Entries!$C$2,Results!$N145,0))","v":"Finisher  Unidentified!"},"",null,{"$f":"MATCH($B145,Entries!$A$3:$A$1001,0)","v":1},0,{"$f":"IF(ISERROR(OFFSET(Results!$B$3,MATCH(Entries!A144,Results!B$4:B442,0),0)),Entries!A144,0)","v":""},null,"-",1000,{"$f":"IF(ISERROR(MATCH(R145,R$3:R144,0)),R145,\"-\")","v":"-"},{"$f":"IF(ISERROR(MATCH(S145,S$3:S144,0)),S145,\"-\")","v":"-"},99999,"-",1000,{"$f":"IF(ISERROR(MATCH(W145,W$3:W144,0)),W145,\"-\")","v":"-"},99999]
[143,null,0,52,null,"","",{"$f":"IF($B146>0,OFFSET(Entries!$C$2,Results!$N146,7),\"\")","v":""},{"$f":"PROPER(IF($B146>0,club(OFFSET(Entries!$I$2,Results!$N146,0)),\"\"))","v":""},{"$f":"nLocal(OFFSET(Entries!$C$2,Results!$N146,5),H146)","v":" "},{"$f":"PROPER(OFFSET(Entries!$C$2,Results!$N146,0))","v":"Finisher  Unidentified!"},"",null,{"$f":"MATCH($B146,Entries!$A$3:$A$1001,0)","v":1},0,{"$f":"IF(ISERROR(OFFSET(Results!$B$3,MATCH(Entries!A145,Results!B$4:B443,0),0)),Entries!A145,0)","v":""},null,"-",1000,{"$f":"IF(ISERROR(MATCH(R146,R$3:R145,0)),R146,\"-\")","v":"-"},{"$f":"IF(ISERROR(MATCH(S146,S$3:S145,0)),S146,\"-\")","v":"-"},99999,"-",1000,{"$f":"IF(ISERROR(MATCH(W146,W$3:W145,0)),W146,\"-\")","v":"-"},99999]
[144,null,0,52,null,"","",{"$f":"IF($B147>0,OFFSET(Entries!$C$2,Results!$N147,7),\"\")","v":""},{"$f":"PROPER(IF($B147>0,club(OFFSET(Entries!$I$2,Results!$N147,0)),\"\"))","v":""},{"$f":"nLocal(OFFSET(Entries!$C$2,Results!$N147,5),H147)","v":" "},{"$f":"PROPER(OFFSET(Entries!$C$2,Results!$N147,0))","v":"Finisher  Unidentified!"},"",null,{"$f":"MATCH($B147,Entries!$A$3:$A$1001,0)","v":1},0,{"$f":"IF(ISERROR(OFFSET(Results!$B$3,MATCH(Entries!A146,Results!B$4:B444,0),0)),Entries!A146,0)","v":""},null,"-",1000,{"$f":"IF(ISERROR(MATCH(R147,R$3:R146,0)),R147,\"-\")","v":"-"},{"$f":"IF(ISERROR(MATCH(S147,S$3:S146,0)),S147,\"-\")","v":"-"},99999,"-",1000,{"$f":"IF(ISERROR(MATCH(W147,W$3:W146,0)),W147,\"-\")","v":"-"},99999]
[145,null,0,52,null,"","",{"$f":"IF($B148>0,OFFSET(Entries!$C$2,Results!$N148,7),\"\")","v":""},{"$f":"PROPER(IF($B148>0,club(OFFSET(Entries!$I$2,Results!$N148,0)),\"\"))","v":""},{"$f":"nLocal(OFFSET(Entries!$C$2,Results!$N148,5),H148)","v":" "},{"$f":"PROPER(OFFSET(Entries!$C$2,Results!$N148,0))","v":"Finisher  Unidentified!"},"",null,{"$f":"MATCH($B148,Entries!$A$3:$A$1001,0)","v":1},0,{"$f":"IF(ISERROR(OFFSET(Results!$B$3,MATCH(Entries!A147,Results!B$4:B445,0),0)),Entries!A147,0)","v":""},null,"-",1000,{"$f":"IF(ISERROR(MATCH(R148,R$3:R147,0)),R148,\"-\")","v":"-"},{"$f":"IF(ISERROR(MATCH(S148,S$3:S147,0)),S148,\"-\")","v":"-"},99999,"-",1000,{"$f":"IF(ISERROR(MATCH(W148,W$3:W147,0)),W148,\"-\")","v":"-"},99999]
[146,null,0,52,null,"","",{"$f":"IF($B149>0,OFFSET(Entries!$C$2,Results!$N149,7),\"\")","v":""},{"$f":"PROPER(IF($B149>0,club(OFFSET(Entries!$I$2,Results!$N149,0)),\"\"))","v":""},{"$f":"nLocal(OFFSET(Entries!$C$2,Results!$N149,5),H149)","v":" "},{"$f":"PROPER(OFFSET(Entries!$C$2,Results!$N149,0))","v":"Finisher  Unidentified!"},"",null,{"$f":"MATCH($B149,Entries!$A$3:$A$1001,0)","v":1},0,{"$f":"IF(ISERROR(OFFSET(Results!$B$3,MATCH(Entries!A148,Results!B$4:B446,0),0)),Entries!A148,0)","v":""},null,"-",1000,{"$f":"IF(ISERROR(MATCH(R149,R$3:R148,0)),R149,\"-\")","v":"-"},{"$f":"IF(ISERROR(MATCH(S149,S$3:S148,0)),S149,\"-\")","v":"-"},99999,"-",1000,{"$f":"IF(ISERROR(MATCH(W149,W$3:W148,0)),W149,\"-\")","v":"-"},99999]
[147,null,0,52,null,"","",{"$f":"IF($B150>0,OFFSET(Entries!$C$2,Results!$N150,7),\"\")","v":""},{"$f":"PROPER(IF($B150>0,club(OFFSET(Entries!$I$2,Results!$N150,0)),\"\"))","v":""},{"$f":"nLocal(OFFSET(Entries!$C$2,Results!$N150,5),H150)","v":" "},{"$f":"PROPER(OFFSET(Entries!$C$2,Results!$N150,0))","v":"Finisher  Unidentified!"},"",null,{"$f":"MATCH($B150,Entries!$A$3:$A$1001,0)","v":1},0,{"$f":"IF(ISERROR(OFFSET(Results!$B$3,MATCH(Entries!A149,Results!B$4:B447,0),0)),Entries!A149,0)","v":""},null,"-",1000,{"$f":"IF(ISERROR(MATCH(R150,R$3:R149,0)),R150,\"-\")","v":"-"},{"$f":"IF(ISERROR(MATCH(S150,S$3:S149,0)),S150,\"-\")","v":"-"},99999,"-",1000,{"$f":"IF(ISERROR(MATCH(W150,W$3:W149,0)),W150,\"-\")","v":"-"},99999]
[148,null,0,52,null,"","",{"$f":"IF($B151>0,OFFSET(Entries!$C$2,Results!$N151,7),\"\")","v":""},{"$f":"PROPER(IF($B151>0,club(OFFSET(Entries!$I$2,Results!$N151,0)),\"\"))","v":""},{"$f":"nLocal(OFFSET(Entries!$C$2,Results!$N151,5),H151)","v":" "},{"$f":"PROPER(OFFSET(Entries!$C$2,Results!$N151,0))","v":"Finisher  Unidentified!"},"",null,{"$f":"MATCH($B151,Entries!$A$3:$A$1001,0)","v":1},0,{"$f":"IF(ISERROR(OFFSET(Results!$B$3,MATCH(Entries!A150,Results!B$4:B448,0),0)),Entries!A150,0)","v":""},null,"-",1000,{"$f":"IF(ISERROR(MATCH(R151,R$3:R150,0)),R151,\"-\")","v":"-"},{"$f":"IF(ISERROR(MATCH(S151,S$3:S150,0)),S151,\"-\")","v":"-"},99999,"-",1000,{"$f":"IF(ISERROR(MATCH(W151,W$3:W150,0)),W151,\"-\")","v":"-"},99999]
[149,null,0,52,null,"","",{"$f":"IF($B152>0,OFFSET(Entries!$C$2,Results!$N152,7),\"\")","v":""},{"$f":"PROPER(IF($B152>0,club(OFFSET(Entries!$I$2,Results!$N152,0)),\"\"))","v":""},{"$f":"nLocal(OFFSET(Entries!$C$2,Results!$N152,5),H152)","v":" "},{"$f":"PROPER(OFFSET(Entries!$C$2,Results!$N152,0))","v":"Finisher  Unidentified!"},"",null,{"$f":"MATCH($B152,Entries!$A$3:$A$1001,0)","v":1},0,{"$f":"IF(ISERROR(OFFSET(Results!$B$3,MATCH(Entries!A151,Results!B$4:B449,0),0)),Entries!A151,0)","v":""},null,"-",1000,{"$f":"IF(ISERROR(MATCH(R152,R$3:R151,0)),R152,\"-\")","v":"-"},{"$f":"IF(ISERROR(MATCH(S152,S$3:S151,0)),S152,\"-\")","v":"-"},99999,"-",1000,{"$f":"IF(ISERROR(MATCH(W152,W$3:W151,0)),W152,\"-\")","v":"-"},99999]
[150,null,0,52,null,"","",{"$f":"IF($B153>0,OFFSET(Entries!$C$2,Results!$N153,7),\"\")","v":""},{"$f":"PROPER(IF($B153>0,club(OFFSET(Entries!$I$2,Results!$N153,0)),\"\"))","v":""},{"$f":"nLocal(OFFSET(Entries!$C$2,Results!$N153,5),H153)","v":" "},{"$f":"PROPER(OFFSET(Entries!$C$2,Results!$N153,0))","v":"Finisher  Unidentified!"},"",null,{"$f":"MATCH($B153,Entries!$A$3:$A$1001,0)","v":1},0,{"$f":"IF(ISERROR(OFFSET(Results!$B$3,MATCH(Entries!A152,Results!B$4:B450,0),0)),Entries!A152,0)","v":""},null,"-",1000,{"$f":"IF(ISERROR(MATCH(R153,R$3:R152,0)),R153,\"-\")","v":"-"},{"$f":"IF(ISERROR(MATCH(S153,S$3:S152,0)),S153,\"-\")","v":"-"},99999,"-",1000,{"$f":"IF(ISERROR(MATCH(W153,W$3:W152,0)),W153,\"-\")","v":"-"},99999]
[151,null,0,52,null,"","",{"$f":"IF($B154>0,OFFSET(Entries!$C$2,Results!$N154,7),\"\")","v":""},{"$f":"PROPER(IF($B154>0,club(OFFSET(Entries!$I$2,Results!$N154,0)),\"\"))","v":""},{"$f":"nLocal(OFFSET(Entries!$C$2,Results!$N154,5),H154)","v":" "},{"$f":"PROPER(OFFSET(Entries!$C$2,Results!$N154,0))","v":"Finisher  Unidentified!"},"",null,{"$f":"MATCH($B154,Entries!$A$3:$A$1001,0)","v":1},0,{"$f":"IF(ISERROR(OFFSET(Results!$B$3,MATCH(Entries!A153,Results!B$4:B451,0),0)),Entries!A153,0)","v":""},null,"-",1000,{"$f":"IF(ISERROR(MATCH(R154,R$3:R153,0)),R154,\"-\")","v":"-"},{"$f":"IF(ISERROR(MATCH(S154,S$3:S153,0)),S154,\"-\")","v":"-"},99999,"-",1000,{"$f":"IF(ISERROR(MATCH(W154,W$3:W153,0)),W154,\"-\")","v":"-"},99999]
[152,null,0,52,null,"","",{"$f":"IF($B155>0,OFFSET(Entries!$C$2,Results!$N155,7),\"\")","v":""},{"$f":"PROPER(IF($B155>0,club(OFFSET(Entries!$I$2,Results!$N155,0)),\"\"))","v":""},{"$f":"nLocal(OFFSET(Entries!$C$2,Results!$N155,5),H155)","v":" "},{"$f":"PROPER(OFFSET(Entries!$C$2,Results!$N155,0))","v":"Finisher  Unidentified!"},"",null,{"$f":"MATCH($B155,Entries!$A$3:$A$1001,0)","v":1},0,{"$f":"IF(ISERROR(OFFSET(Results!$B$3,MATCH(Entries!A154,Results!B$4:B452,0),0)),Entries!A154,0)","v":""},null,"-",1000,{"$f":"IF(ISERROR(MATCH(R155,R$3:R154,0)),R155,\"-\")","v":"-"},{"$f":"IF(ISERROR(MATCH(S155,S$3:S154,0)),S155,\"-\")","v":"-"},99999,"-",1000,{"$f":"IF(ISERROR(MATCH(W155,W$3:W154,0)),W155,\"-\")","v":"-"},99999]
[153,null,0,52,null,"","",{"$f":"IF($B156>0,OFFSET(Entries!$C$2,Results!$N156,7),\"\")","v":""},{"$f":"PROPER(IF($B156>0,club(OFFSET(Entries!$I$2,Results!$N156,0)),\"\"))","v":""},{"$f":"nLocal(OFFSET(Entries!$C$2,Results!$N156,5),H156)","v":" "},{"$f":"PROPER(OFFSET(Entries!$C$2,Results!$N156,0))","v":"Finisher  Unidentified!"},"",null,{"$f":"MATCH($B156,Entries!$A$3:$A$1001,0)","v":1},0,{"$f":"IF(ISERROR(OFFSET(Results!$B$3,MATCH(Entries!A155,Results!B$4:B453,0),0)),Entries!A155,0)","v":""},null,"-",1000,{"$f":"IF(ISERROR(MATCH(R156,R$3:R155,0)),R156,\"-\")","v":"-"},{"$f":"IF(ISERROR(MATCH(S156,S$3:S155,0)),S156,\"-\")","v":"-"},99999,"-",1000,{"$f":"IF(ISERROR(MATCH(W156,W$3:W155,0)),W156,\"-\")","v":"-"},99999]
[154,null,0,52,null,"","",{"$f":"IF($B157>0,OFFSET(Entries!$C$2,Results!$N157,7),\"\")","v":""},{"$f":"PROPER(IF($B157>0,club(OFFSET(Entries!$I$2,Results!$N157,0)),\"\"))","v":""},{"$f":"nLocal(OFFSET(Entries!$C$2,Results!$N157,5),H157)","v":" "},{"$f":"PROPER(OFFSET(Entries!$C$2,Results!$N157,0))","v":"Finisher  Unidentified!"},"",null,{"$f":"MATCH($B157,Entries!$A$3:$A$1001,0)","v":1},0,{"$f":"IF(ISERROR(OFFSET(Results!$B$3,MATCH(Entries!A156,Results!B$4:B454,0),0)),Entries!A156,0)","v":""},null,"-",1000,{"$f":"IF(ISERROR(MATCH(R157,R$3:R156,0)),R157,\"-\")","v":"-"},{"$f":"IF(ISERROR(MATCH(S157,S$3:S156,0)),S157,\"-\")","v":"-"},99999,"-",1000,{"$f":"IF(ISERROR(MATCH(W157,W$3:W156,0)),W157,\"-\")","v":"-"},99999]
[155,null,0,52,null,"","",{"$f":"IF($B158>0,OFFSET(Entries!$C$2,Results!$N158,7),\"\")","v":""},{"$f":"PROPER(IF($B158>0,club(OFFSET(Entries!$I$2,Results!$N158,0)),\"\"))","v":""},{"$f":"nLocal(OFFSET(Entries!$C$2,Results!$N158,5),H158)","v":" "},{"$f":"PROPER(OFFSET(Entries!$C$2,Results!$N158,0))","v":"Finisher  Unidentified!"},"",null,{"$f":"MATCH($B158,Entries!$A$3:$A$1001,0)","v":1},0,{"$f":"IF(ISERROR(OFFSET(Results!$B$3,MATCH(Entries!A157,Results!B$4:B455,0),0)),Entries!A157,0)","v":""},null,"-",1000,{"$f":"IF(ISERROR(MATCH(R158,R$3:R157,0)),R158,\"-\")","v":"-"},{"$f":"IF(ISERROR(MATCH(S158,S$3:S157,0)),S158,\"-\")","v":"-"},99999,"-",1000,{"$f":"IF(ISERROR(MATCH(W158,W$3:W157,0)),W158,\"-\")","v":"-"},99999]
[156,null,0,52,null,"","",{"$f":"IF($B159>0,OFFSET(Entries!$C$2,Results!$N159,7),\"\")","v":""},{"$f":"PROPER(IF($B159>0,club(OFFSET(Entries!$I$2,Results!$N159,0)),\"\"))","v":""},{"$f":"nLocal(OFFSET(Entries!$C$2,Results!$N159,5),H159)","v":" "},{"$f":"PROPER(OFFSET(Entries!$C$2,Results!$N159,0))","v":"Finisher  Unidentified!"},"",null,{"$f":"MATCH($B159,Entries!$A$3:$A$1001,0)","v":1},0,{"$f":"IF(ISERROR(OFFSET(Results!$B$3,MATCH(Entries!A158,Results!B$4:B456,0),0)),Entries!A158,0)","v":""},null,"-",1000,{"$f":"IF(ISERROR(MATCH(R159,R$3:R158,0)),R159,\"-\")","v":"-"},{"$f":"IF(ISERROR(MATCH(S159,S$3:S158,0)),S159,\"-\")","v":"-"},99999,"-",1000,{"$f":"IF(ISERROR(MATCH(W159,W$3:W158,0)),W159,\"-\")","v":"-"},99999]
[157,null,0,52,null,"","",{"$f":"IF($B160>0,OFFSET(Entries!$C$2,Results!$N160,7),\"\")","v":""},{"$f":"PROPER(IF($B160>0,club(OFFSET(Entries!$I$2,Results!$N160,0)),\"\"))","v":""},{"$f":"nLocal(OFFSET(Entries!$C$2,Results!$N160,5),H160)","v":" "},{"$f":"PROPER(OFFSET(Entries!$C$2,Results!$N160,0))","v":"Finisher  Unidentified!"},"",null,{"$f":"MATCH($B160,Entries!$A$3:$A$1001,0)","v":1},0,{"$f":"IF(ISERROR(OFFSET(Results!$B$3,MATCH(Entries!A159,Results!B$4:B457,0),0)),Entries!A159,0)","v":""},null,"-",1000,{"$f":"IF(ISERROR(MATCH(R160,R$3:R159,0)),R160,\"-\")","v":"-"},{"$f":"IF(ISERROR(MATCH(S160,S$3:S159,0)),S160,\"-\")","v":"-"},99999,"-",1000,{"$f":"IF(ISERROR(MATCH(W160,W$3:W159,0)),W160,\"-\")","v":"-"},99999]
[158,null,0,52,null,"","",{"$f":"IF($B161>0,OFFSET(Entries!$C$2,Results!$N161,7),\"\")","v":""},{"$f":"PROPER(IF($B161>0,club(OFFSET(Entries!$I$2,Results!$N161,0)),\"\"))","v":""},{"$f":"nLocal(OFFSET(Entries!$C$2,Results!$N161,5),H161)","v":" "},{"$f":"PROPER(OFFSET(Entries!$C$2,Results!$N161,0))","v":"Finisher  Unidentified!"},"",null,{"$f":"MATCH($B161,Entries!$A$3:$A$1001,0)","v":1},0,{"$f":"IF(ISERROR(OFFSET(Results!$B$3,MATCH(Entries!A160,Results!B$4:B458,0),0)),Entries!A160,0)","v":""},null,"-",1000,{"$f":"IF(ISERROR(MATCH(R161,R$3:R160,0)),R161,\"-\")","v":"-"},{"$f":"IF(ISERROR(MATCH(S161,S$3:S160,0)),S161,\"-\")","v":"-"},99999,"-",1000,{"$f":"IF(ISERROR(MATCH(W161,W$3:W160,0)),W161,\"-\")","v":"-"},99999]
[159,null,0,52,null,"","",{"$f":"IF($B162>0,OFFSET(Entries!$C$2,Results!$N162,7),\"\")","v":""},{"$f":"PROPER(IF($B162>0,club(OFFSET(Entries!$I$2,Results!$N162,0)),\"\"))","v":""},{"$f":"nLocal(OFFSET(Entries!$C$2,Results!$N162,5),H162)","v":" "},{"$f":"PROPER(OFFSET(Entries!$C$2,Results!$N162,0))","v":"Finisher  Unidentified!"},"",null,{"$f":"MATCH($B162,Entries!$A$3:$A$1001,0)","v":1},0,{"$f":"IF(ISERROR(OFFSET(Results!$B$3,MATCH(Entries!A161,Results!B$4:B459,0),0)),Entries!A161,0)","v":""},null,"-",1000,{"$f":"IF(ISERROR(MATCH(R162,R$3:R161,0)),R162,\"-\")","v":"-"},{"$f":"IF(ISERROR(MATCH(S162,S$3:S161,0)),S162,\"-\")","v":"-"},99999,"-",1000,{"$f":"IF(ISERROR(MATCH(W162,W$3:W161,0)),W162,\"-\")","v":"-"},99999]
[160,null,0,52,null,"","",{"$f":"IF($B163>0,OFFSET(Entries!$C$2,Results!$N163,7),\"\")","v":""},{"$f":"PROPER(IF($B163>0,club(OFFSET(Entries!$I$2,Results!$N163,0)),\"\"))","v":""},{"$f":"nLocal(OFFSET(Entries!$C$2,Results!$N163,5),H163)","v":" "},{"$f":"PROPER(OFFSET(Entries!$C$2,Results!$N163,0))","v":"Finisher  Unidentified!"},"",null,{"$f":"MATCH($B163,Entries!$A$3:$A$1001,0)","v":1},0,{"$f":"IF(ISERROR(OFFSET(Results!$B$3,MATCH(Entries!A162,Results!B$4:B460,0),0)),Entries!A162,0)","v":""},null,"-",1000,{"$f":"IF(ISERROR(MATCH(R163,R$3:R162,0)),R163,\"-\")","v":"-"},{"$f":"IF(ISERROR(MATCH(S163,S$3:S162,0)),S163,\"-\")","v":"-"},99999,"-",1000,{"$f":"IF(ISERROR(MATCH(W163,W$3:W162,0)),W163,\"-\")","v":"-"},99999]
[161,null,0,52,null,"","",{"$f":"IF($B164>0,OFFSET(Entries!$C$2,Results!$N164,7),\"\")","v":""},{"$f":"PROPER(IF($B164>0,club(OFFSET(Entries!$I$2,Results!$N164,0)),\"\"))","v":""},{"$f":"nLocal(OFFSET(Entries!$C$2,Results!$N164,5),H164)","v":" "},{"$f":"PROPER(OFFSET(Entries!$C$2,Results!$N164,0))","v":"Finisher  Unidentified!"},"",null,{"$f":"MATCH($B164,Entries!$A$3:$A$1001,0)","v":1},0,{"$f":"IF(ISERROR(OFFSET(Results!$B$3,MATCH(Entries!A163,Results!B$4:B461,0),0)),Entries!A163,0)","v":""},null,"-",1000,{"$f":"IF(ISERROR(MATCH(R164,R$3:R163,0)),R164,\"-\")","v":"-"},{"$f":"IF(ISERROR(MATCH(S164,S$3:S163,0)),S164,\"-\")","v":"-"},99999,"-",1000,{"$f":"IF(ISERROR(MATCH(W164,W$3:W163,0)),W164,\"-\")","v":"-"},99999]
[162,null,0,52,null,"","",{"$f":"IF($B165>0,OFFSET(Entries!$C$2,Results!$N165,7),\"\")","v":""},{"$f":"PROPER(IF($B165>0,club(OFFSET(Entries!$I$2,Results!$N165,0)),\"\"))","v":""},{"$f":"nLocal(OFFSET(Entries!$C$2,Results!$N165,5),H165)","v":" "},{"$f":"PROPER(OFFSET(Entries!$C$2,Results!$N165,0))","v":"Finisher  Unidentified!"},"",null,{"$f":"MATCH($B165,Entries!$A$3:$A$1001,0)","v":1},0,{"$f":"IF(ISERROR(OFFSET(Results!$B$3,MATCH(Entries!A164,Results!B$4:B462,0),0)),Entries!A164,0)","v":""},null,"-",1000,{"$f":"IF(ISERROR(MATCH(R165,R$3:R164,0)),R165,\"-\")","v":"-"},{"$f":"IF(ISERROR(MATCH(S165,S$3:S164,0)),S165,\"-\")","v":"-"},99999,"-",1000,{"$f":"IF(ISERROR(MATCH(W165,W$3:W164,0)),W165,\"-\")","v":"-"},99999]
[163,null,0,52,null,"","",{"$f":"IF($B166>0,OFFSET(Entries!$C$2,Results!$N166,7),\"\")","v":""},{"$f":"PROPER(IF($B166>0,club(OFFSET(Entries!$I$2,Results!$N166,0)),\"\"))","v":""},{"$f":"nLocal(OFFSET(Entries!$C$2,Results!$N166,5),H166)","v":" "},{"$f":"PROPER(OFFSET(Entries!$C$2,Results!$N166,0))","v":"Finisher  Unidentified!"},"",null,{"$f":"MATCH($B166,Entries!$A$3:$A$1001,0)","v":1},0,{"$f":"IF(ISERROR(OFFSET(Results!$B$3,MATCH(Entries!A165,Results!B$4:B463,0),0)),Entries!A165,0)","v":""},null,"-",1000,{"$f":"IF(ISERROR(MATCH(R166,R$3:R165,0)),R166,\"-\")","v":"-"},{"$f":"IF(ISERROR(MATCH(S166,S$3:S165,0)),S166,\"-\")","v":"-"},99999,"-",1000,{"$f":"IF(ISERROR(MATCH(W166,W$3:W165,0)),W166,\"-\")","v":"-"},99999]
[164,null,0,52,null,"","",{"$f":"IF($B167>0,OFFSET(Entries!$C$2,Results!$N167,7),\"\")","v":""},{"$f":"PROPER(IF($B167>0,club(OFFSET(Entries!$I$2,Results!$N167,0)),\"\"))","v":""},{"$f":"nLocal(OFFSET(Entries!$C$2,Results!$N167,5),H167)","v":" "},{"$f":"PROPER(OFFSET(Entries!$C$2,Results!$N167,0))","v":"Finisher  Unidentified!"},"",null,{"$f":"MATCH($B167,Entries!$A$3:$A$1001,0)","v":1},0,{"$f":"IF(ISERROR(OFFSET(Results!$B$3,MATCH(Entries!A166,Results!B$4:B464,0),0)),Entries!A166,0)","v":""},null,"-",1000,{"$f":"IF(ISERROR(MATCH(R167,R$3:R166,0)),R167,\"-\")","v":"-"},{"$f":"IF(ISERROR(MATCH(S167,S$3:S166,0)),S167,\"-\")","v":"-"},99999,"-",1000,{"$f":"IF(ISERROR(MATCH(W167,W$3:W166,0)),W167,\"-\")","v":"-"},99999]
[165,null,0,52,null,"","",{"$f":"IF($B168>0,OFFSET(Entries!$C$2,Results!$N168,7),\"\")","v":""},{"$f":"PROPER(IF($B168>0,club(OFFSET(Entries!$I$2,Results!$N168,0)),\"\"))","v":""},{"$f":"nLocal(OFFSET(Entries!$C$2,Results!$N168,5),H168)","v":" "},{"$f":"PROPER(OFFSET(Entries!$C$2,Results!$N168,0))","v":"Finisher  Unidentified!"},"",null,{"$f":"MATCH($B168,Entries!$A$3:$A$1001,0)","v":1},0,{"$f":"IF(ISERROR(OFFSET(Results!$B$3,MATCH(Entries!A167,Results!B$4:B465,0),0)),Entries!A167,0)","v":""},null,"-",1000,{"$f":"IF(ISERROR(MATCH(R168,R$3:R167,0)),R168,\"-\")","v":"-"},{"$f":"IF(ISERROR(MATCH(S168,S$3:S167,0)),S168,\"-\")","v":"-"},99999,"-",1000,{"$f":"IF(ISERROR(MATCH(W168,W$3:W167,0)),W168,\"-\")","v":"-"},99999]
[166,null,0,52,null,"","",{"$f":"IF($B169>0,OFFSET(Entries!$C$2,Results!$N169,7),\"\")","v":""},{"$f":"PROPER(IF($B169>0,club(OFFSET(Entries!$I$2,Results!$N169,0)),\"\"))","v":""},{"$f":"nLocal(OFFSET(Entries!$C$2,Results!$N169,5),H169)","v":" "},{"$f":"PROPER(OFFSET(Entries!$C$2,Results!$N169,0))","v":"Finisher  Unidentified!"},"",null,{"$f":"MATCH($B169,Entries!$A$3:$A$1001,0)","v":1},0,{"$f":"IF(ISERROR(OFFSET(Results!$B$3,MATCH(Entries!A168,Results!B$4:B466,0),0)),Entries!A168,0)","v":""},null,"-",1000,{"$f":"IF(ISERROR(MATCH(R169,R$3:R168,0)),R169,\"-\")","v":"-"},{"$f":"IF(ISERROR(MATCH(S169,S$3:S168,0)),S169,\"-\")","v":"-"},99999,"-",1000,{"$f":"IF(ISERROR(MATCH(W169,W$3:W168,0)),W169,\"-\")","v":"-"},99999]
[167,null,0,52,null,"","",{"$f":"IF($B170>0,OFFSET(Entries!$C$2,Results!$N170,7),\"\")","v":""},{"$f":"PROPER(IF($B170>0,club(OFFSET(Entries!$I$2,Results!$N170,0)),\"\"))","v":""},{"$f":"nLocal(OFFSET(Entries!$C$2,Results!$N170,5),H170)","v":" "},{"$f":"PROPER(OFFSET(Entries!$C$2,Results!$N170,0))","v":"Finisher  Unidentified!"},"",null,{"$f":"MATCH($B170,Entries!$A$3:$A$1001,0)","v":1},0,{"$f":"IF(ISERROR(OFFSET(Results!$B$3,MATCH(Entries!A169,Results!B$4:B467,0),0)),Entries!A169,0)","v":""},null,"-",1000,{"$f":"IF(ISERROR(MATCH(R170,R$3:R169,0)),R170,\"-\")","v":"-"},{"$f":"IF(ISERROR(MATCH(S170,S$3:S169,0)),S170,\"-\")","v":"-"},99999,"-",1000,{"$f":"IF(ISERROR(MATCH(W170,W$3:W169,0)),W170,\"-\")","v":"-"},99999]
[168,null,0,52,null,"","",{"$f":"IF($B171>0,OFFSET(Entries!$C$2,Results!$N171,7),\"\")","v":""},{"$f":"PROPER(IF($B171>0,club(OFFSET(Entries!$I$2,Results!$N171,0)),\"\"))","v":""},{"$f":"nLocal(OFFSET(Entries!$C$2,Results!$N171,5),H171)","v":" "},{"$f":"PROPER(OFFSET(Entries!$C$2,Results!$N171,0))","v":"Finisher  Unidentified!"},"",null,{"$f":"MATCH($B171,Entries!$A$3:$A$1001,0)","v":1},0,{"$f":"IF(ISERROR(OFFSET(Results!$B$3,MATCH(Entries!A170,Results!B$4:B468,0),0)),Entries!A170,0)","v":""},null,"-",1000,{"$f":"IF(ISERROR(MATCH(R171,R$3:R170,0)),R171,\"-\")","v":"-"},{"$f":"IF(ISERROR(MATCH(S171,S$3:S170,0)),S171,\"-\")","v":"-"},99999,"-",1000,{"$f":"IF(ISERROR(MATCH(W171,W$3:W170,0)),W171,\"-\")","v":"-"},99999]
[169,null,0,52,null,"","",{"$f":"IF($B172>0,OFFSET(Entries!$C$2,Results!$N172,7),\"\")","v":""},{"$f":"PROPER(IF($B172>0,club(OFFSET(Entries!$I$2,Results!$N172,0)),\"\"))","v":""},{"$f":"nLocal(OFFSET(Entries!$C$2,Results!$N172,5),H172)","v":" "},{"$f":"PROPER(OFFSET(Entries!$C$2,Results!$N172,0))","v":"Finisher  Unidentified!"},"",null,{"$f":"MATCH($B172,Entries!$A$3:$A$1001,0)","v":1},0,{"$f":"IF(ISERROR(OFFSET(Results!$B$3,MATCH(Entries!A171,Results!B$4:B469,0),0)),Entries!A171,0)","v":""},null,"-",1000,{"$f":"IF(ISERROR(MATCH(R172,R$3:R171,0)),R172,\"-\")","v":"-"},{"$f":"IF(ISERROR(MATCH(S172,S$3:S171,0)),S172,\"-\")","v":"-"},99999,"-",1000,{"$f":"IF(ISERROR(MATCH(W172,W$3:W171,0)),W172,\"-\")","v":"-"},99999]
[170,null,0,52,null,"","",{"$f":"IF($B173>0,OFFSET(Entries!$C$2,Results!$N173,7),\"\")","v":""},{"$f":"PROPER(IF($B173>0,club(OFFSET(Entries!$I$2,Results!$N173,0)),\"\"))","v":""},{"$f":"nLocal(OFFSET(Entries!$C$2,Results!$N173,5),H173)","v":" "},{"$f":"PROPER(OFFSET(Entries!$C$2,Results!$N173,0))","v":"Finisher  Unidentified!"},"",null,{"$f":"MATCH($B173,Entries!$A$3:$A$1001,0)","v":1},0,{"$f":"IF(ISERROR(OFFSET(Results!$B$3,MATCH(Entries!A172,Results!B$4:B470,0),0)),Entries!A172,0)","v":""},null,"-",1000,{"$f":"IF(ISERROR(MATCH(R173,R$3:R172,0)),R173,\"-\")","v":"-"},{"$f":"IF(ISERROR(MATCH(S173,S$3:S172,0)),S173,\"-\")","v":"-"},99999,"-",1000,{"$f":"IF(ISERROR(MATCH(W173,W$3:W172,0)),W173,\"-\")","v":"-"},99999]
[171,null,0,52,null,"","",{"$f":"IF($B174>0,OFFSET(Entries!$C$2,Results!$N174,7),\"\")","v":""},{"$f":"PROPER(IF($B174>0,club(OFFSET(Entries!$I$2,Results!$N174,0)),\"\"))","v":""},{"$f":"nLocal(OFFSET(Entries!$C$2,Results!$N174,5),H174)","v":" "},{"$f":"PROPER(OFFSET(Entries!$C$2,Results!$N174,0))","v":"Finisher  Unidentified!"},"",null,{"$f":"MATCH($B174,Entries!$A$3:$A$1001,0)","v":1},0,{"$f":"IF(ISERROR(OFFSET(Results!$B$3,MATCH(Entries!A173,Results!B$4:B471,0),0)),Entries!A173,0)","v":""},null,"-",1000,{"$f":"IF(ISERROR(MATCH(R174,R$3:R173,0)),R174,\"-\")","v":"-"},{"$f":"IF(ISERROR(MATCH(S174,S$3:S173,0)),S174,\"-\")","v":"-"},99999,"-",1000,{"$f":"IF(ISERROR(MATCH(W174,W$3:W173,0)),W174,\"-\")","v":"-"},99999]
[172,null,0,52,null,"","",{"$f":"IF($B175>0,OFFSET(Entries!$C$2,Results!$N175,7),\"\")","v":""},{"$f":"PROPER(IF($B175>0,club(OFFSET(Entries!$I$2,Results!$N175,0)),\"\"))","v":""},{"$f":"nLocal(OFFSET(Entries!$C$2,Results!$N175,5),H175)","v":" "},{"$f":"PROPER(OFFSET(Entries!$C$2,Results!$N175,0))","v":"Finisher  Unidentified!"},"",null,{"$f":"MATCH($B175,Entries!$A$3:$A$1001,0)","v":1},0,{"$f":"IF(ISERROR(OFFSET(Results!$B$3,MATCH(Entries!A174,Results!B$4:B472,0),0)),Entries!A174,0)","v":""},null,"-",1000,{"$f":"IF(ISERROR(MATCH(R175,R$3:R174,0)),R175,\"-\")","v":"-"},{"$f":"IF(ISERROR(MATCH(S175,S$3:S174,0)),S175,\"-\")","v":"-"},99999,"-",1000,{"$f":"IF(ISERROR(MATCH(W175,W$3:W174,0)),W175,\"-\")","v":"-"},99999]
[173,null,0,52,null,"","",{"$f":"IF($B176>0,OFFSET(Entries!$C$2,Results!$N176,7),\"\")","v":""},{"$f":"PROPER(IF($B176>0,club(OFFSET(Entries!$I$2,Results!$N176,0)),\"\"))","v":""},{"$f":"nLocal(OFFSET(Entries!$C$2,Results!$N176,5),H176)","v":" "},{"$f":"PROPER(OFFSET(Entries!$C$2,Results!$N176,0))","v":"Finisher  Unidentified!"},"",null,{"$f":"MATCH($B176,Entries!$A$3:$A$1001,0)","v":1},0,{"$f":"IF(ISERROR(OFFSET(Results!$B$3,MATCH(Entries!A175,Results!B$4:B473,0),0)),Entries!A175,0)","v":""},null,"-",1000,{"$f":"IF(ISERROR(MATCH(R176,R$3:R175,0)),R176,\"-\")","v":"-"},{"$f":"IF(ISERROR(MATCH(S176,S$3:S175,0)),S176,\"-\")","v":"-"},99999,"-",1000,{"$f":"IF(ISERROR(MATCH(W176,W$3:W175,0)),W176,\"-\")","v":"-"},99999]
[174,null,0,52,null,"","",{"$f":"IF($B177>0,OFFSET(Entries!$C$2,Results!$N177,7),\"\")","v":""},{"$f":"PROPER(IF($B177>0,club(OFFSET(Entries!$I$2,Results!$N177,0)),\"\"))","v":""},{"$f":"nLocal(OFFSET(Entries!$C$2,Results!$N177,5),H177)","v":" "},{"$f":"PROPER(OFFSET(Entries!$C$2,Results!$N177,0))","v":"Finisher  Unidentified!"},"",null,{"$f":"MATCH($B177,Entries!$A$3:$A$1001,0)","v":1},0,{"$f":"IF(ISERROR(OFFSET(Results!$B$3,MATCH(Entries!A176,Results!B$4:B474,0),0)),Entries!A176,0)","v":""},null,"-",1000,{"$f":"IF(ISERROR(MATCH(R177,R$3:R176,0)),R177,\"-\")","v":"-"},{"$f":"IF(ISERROR(MATCH(S177,S$3:S176,0)),S177,\"-\")","v":"-"},99999,"-",1000,{"$f":"IF(ISERROR(MATCH(W177,W$3:W176,0)),W177,\"-\")","v":"-"},99999]
[175,null,0,52,null,"","",{"$f":"IF($B178>0,OFFSET(Entries!$C$2,Results!$N178,7),\"\")","v":""},{"$f":"PROPER(IF($B178>0,club(OFFSET(Entries!$I$2,Results!$N178,0)),\"\"))","v":""},{"$f":"nLocal(OFFSET(Entries!$C$2,Results!$N178,5),H178)","v":" "},{"$f":"PROPER(OFFSET(Entries!$C$2,Results!$N178,0))","v":"Finisher  Unidentified!"},"",null,{"$f":"MATCH($B178,Entries!$A$3:$A$1001,0)","v":1},0,{"$f":"IF(ISERROR(OFFSET(Results!$B$3,MATCH(Entries!A177,Results!B$4:B475,0),0)),Entries!A177,0)","v":""},null,"-",1000,{"$f":"IF(ISERROR(MATCH(R178,R$3:R177,0)),R178,\"-\")","v":"-"},{"$f":"IF(ISERROR(MATCH(S178,S$3:S177,0)),S178,\"-\")","v":"-"},99999,"-",1000,{"$f":"IF(ISERROR(MATCH(W178,W$3:W177,0)),W178,\"-\")","v":"-"},99999]
[176,null,0,52,null,"","",{"$f":"IF($B179>0,OFFSET(Entries!$C$2,Results!$N179,7),\"\")","v":""},{"$f":"PROPER(IF($B179>0,club(OFFSET(Entries!$I$2,Results!$N179,0)),\"\"))","v":""},{"$f":"nLocal(OFFSET(Entries!$C$2,Results!$N179,5),H179)","v":" "},{"$f":"PROPER(OFFSET(Entries!$C$2,Results!$N179,0))","v":"Finisher  Unidentified!"},"",null,{"$f":"MATCH($B179,Entries!$A$3:$A$1001,0)","v":1},0,{"$f":"IF(ISERROR(OFFSET(Results!$B$3,MATCH(Entries!A178,Results!B$4:B476,0),0)),Entries!A178,0)","v":""},null,"-",1000,{"$f":"IF(ISERROR(MATCH(R179,R$3:R178,0)),R179,\"-\")","v":"-"},{"$f":"IF(ISERROR(MATCH(S179,S$3:S178,0)),S179,\"-\")","v":"-"},99999,"-",1000,{"$f":"IF(ISERROR(MATCH(W179,W$3:W178,0)),W179,\"-\")","v":"-"},99999]
[177,null,0,52,null,"","",{"$f":"IF($B180>0,OFFSET(Entries!$C$2,Results!$N180,7),\"\")","v":""},{"$f":"PROPER(IF($B180>0,club(OFFSET(Entries!$I$2,Results!$N180,0)),\"\"))","v":""},{"$f":"nLocal(OFFSET(Entries!$C$2,Results!$N180,5),H180)","v":" "},{"$f":"PROPER(OFFSET(Entries!$C$2,Results!$N180,0))","v":"Finisher  Unidentified!"},"",null,{"$f":"MATCH($B180,Entries!$A$3:$A$1001,0)","v":1},0,{"$f":"IF(ISERROR(OFFSET(Results!$B$3,MATCH(Entries!A179,Results!B$4:B477,0),0)),Entries!A179,0)","v":""},null,"-",1000,{"$f":"IF(ISERROR(MATCH(R180,R$3:R179,0)),R180,\"-\")","v":"-"},{"$f":"IF(ISERROR(MATCH(S180,S$3:S179,0)),S180,\"-\")","v":"-"},99999,"-",1000,{"$f":"IF(ISERROR(MATCH(W180,W$3:W179,0)),W180,\"-\")","v":"-"},99999]
[178,null,0,52,null,"","",{"$f":"IF($B181>0,OFFSET(Entries!$C$2,Results!$N181,7),\"\")","v":""},{"$f":"PROPER(IF($B181>0,club(OFFSET(Entries!$I$2,Results!$N181,0)),\"\"))","v":""},{"$f":"nLocal(OFFSET(Entries!$C$2,Results!$N181,5),H181)","v":" "},{"$f":"PROPER(OFFSET(Entries!$C$2,Results!$N181,0))","v":"Finisher  Unidentified!"},"",null,{"$f":"MATCH($B181,Entries!$A$3:$A$1001,0)","v":1},0,{"$f":"IF(ISERROR(OFFSET(Results!$B$3,MATCH(Entries!A180,Results!B$4:B478,0),0)),Entries!A180,0)","v":""},null,"-",1000,{"$f":"IF(ISERROR(MATCH(R181,R$3:R180,0)),R181,\"-\")","v":"-"},{"$f":"IF(ISERROR(MATCH(S181,S$3:S180,0)),S181,\"-\")","v":"-"},99999,"-",1000,{"$f":"IF(ISERROR(MATCH(W181,W$3:W180,0)),W181,\"-\")","v":"-"},99999]
[179,null,0,52,null,"","",{"$f":"IF($B182>0,OFFSET(Entries!$C$2,Results!$N182,7),\"\")","v":""},{"$f":"PROPER(IF($B182>0,club(OFFSET(Entries!$I$2,Results!$N182,0)),\"\"))","v":""},{"$f":"nLocal(OFFSET(Entries!$C$2,Results!$N182,5),H182)","v":" "},{"$f":"PROPER(OFFSET(Entries!$C$2,Results!$N182,0))","v":"Finisher  Unidentified!"},"",null,{"$f":"MATCH($B182,Entries!$A$3:$A$1001,0)","v":1},0,{"$f":"IF(ISERROR(OFFSET(Results!$B$3,MATCH(Entries!A181,Results!B$4:B479,0),0)),Entries!A181,0)","v":""},null,"-",1000,{"$f":"IF(ISERROR(MATCH(R182,R$3:R181,0)),R182,\"-\")","v":"-"},{"$f":"IF(ISERROR(MATCH(S182,S$3:S181,0)),S182,\"-\")","v":"-"},99999,"-",1000,{"$f":"IF(ISERROR(MATCH(W182,W$3:W181,0)),W182,\"-\")","v":"-"},99999]
[180,null,0,52,null,"","",{"$f":"IF($B183>0,OFFSET(Entries!$C$2,Results!$N183,7),\"\")","v":""},{"$f":"PROPER(IF($B183>0,club(OFFSET(Entries!$I$2,Results!$N183,0)),\"\"))","v":""},{"$f":"nLocal(OFFSET(Entries!$C$2,Results!$N183,5),H183)","v":" "},{"$f":"PROPER(OFFSET(Entries!$C$2,Results!$N183,0))","v":"Finisher  Unidentified!"},"",null,{"$f":"MATCH($B183,Entries!$A$3:$A$1001,0)","v":1},0,{"$f":"IF(ISERROR(OFFSET(Results!$B$3,MATCH(Entries!A182,Results!B$4:B480,0),0)),Entries!A182,0)","v":""},null,"-",1000,{"$f":"IF(ISERROR(MATCH(R183,R$3:R182,0)),R183,\"-\")","v":"-"},{"$f":"IF(ISERROR(MATCH(S183,S$3:S182,0)),S183,\"-\")","v":"-"},99999,"-",1000,{"$f":"IF(ISERROR(MATCH(W183,W$3:W182,0)),W183,\"-\")","v":"-"},99999]
[181,null,0,52,null,"","",{"$f":"IF($B184>0,OFFSET(Entries!$C$2,Results!$N184,7),\"\")","v":""},{"$f":"PROPER(IF($B184>0,club(OFFSET(Entries!$I$2,Results!$N184,0)),\"\"))","v":""},{"$f":"nLocal(OFFSET(Entries!$C$2,Results!$N184,5),H184)","v":" "},{"$f":"PROPER(OFFSET(Entries!$C$2,Results!$N184,0))","v":"Finisher  Unidentified!"},"",null,{"$f":"MATCH($B184,Entries!$A$3:$A$1001,0)","v":1},0,{"$f":"IF(ISERROR(OFFSET(Results!$B$3,MATCH(Entries!A183,Results!B$4:B481,0),0)),Entries!A183,0)","v":""},null,"-",1000,{"$f":"IF(ISERROR(MATCH(R184,R$3:R183,0)),R184,\"-\")","v":"-"},{"$f":"IF(ISERROR(MATCH(S184,S$3:S183,0)),S184,\"-\")","v":"-"},99999,"-",1000,{"$f":"IF(ISERROR(MATCH(W184,W$3:W183,0)),W184,\"-\")","v":"-"},99999]
[182,null,0,52,null,"","",{"$f":"IF($B185>0,OFFSET(Entries!$C$2,Results!$N185,7),\"\")","v":""},{"$f":"PROPER(IF($B185>0,club(OFFSET(Entries!$I$2,Results!$N185,0)),\"\"))","v":""},{"$f":"nLocal(OFFSET(Entries!$C$2,Results!$N185,5),H185)","v":" "},{"$f":"PROPER(OFFSET(Entries!$C$2,Results!$N185,0))","v":"Finisher  Unidentified!"},"",null,{"$f":"MATCH($B185,Entries!$A$3:$A$1001,0)","v":1},0,{"$f":"IF(ISERROR(OFFSET(Results!$B$3,MATCH(Entries!A184,Results!B$4:B482,0),0)),Entries!A184,0)","v":""},null,"-",1000,{"$f":"IF(ISERROR(MATCH(R185,R$3:R184,0)),R185,\"-\")","v":"-"},{"$f":"IF(ISERROR(MATCH(S185,S$3:S184,0)),S185,\"-\")","v":"-"},99999,"-",1000,{"$f":"IF(ISERROR(MATCH(W185,W$3:W184,0)),W185,\"-\")","v":"-"},99999]
[183,null,0,52,null,"","",{"$f":"IF($B186>0,OFFSET(Entries!$C$2,Results!$N186,7),\"\")","v":""},{"$f":"PROPER(IF($B186>0,club(OFFSET(Entries!$I$2,Results!$N186,0)),\"\"))","v":""},{"$f":"nLocal(OFFSET(Entries!$C$2,Results!$N186,5),H186)","v":" "},{"$f":"PROPER(OFFSET(Entries!$C$2,Results!$N186,0))","v":"Finisher  Unidentified!"},"",null,{"$f":"MATCH($B186,Entries!$A$3:$A$1001,0)","v":1},0,{"$f":"IF(ISERROR(OFFSET(Results!$B$3,MATCH(Entries!A185,Results!B$4:B483,0),0)),Entries!A185,0)","v":""},null,"-",1000,{"$f":"IF(ISERROR(MATCH(R186,R$3:R185,0)),R186,\"-\")","v":"-"},{"$f":"IF(ISERROR(MATCH(S186,S$3:S185,0)),S186,\"-\")","v":"-"},99999,"-",1000,{"$f":"IF(ISERROR(MATCH(W186,W$3:W185,0)),W186,\"-\")","v":"-"},99999]
[184,null,0,52,null,"","",{"$f":"IF($B187>0,OFFSET(Entries!$C$2,Results!$N187,7),\"\")","v":""},{"$f":"PROPER(IF($B187>0,club(OFFSET(Entries!$I$2,Results!$N187,0)),\"\"))","v":""},{"$f":"nLocal(OFFSET(Entries!$C$2,Results!$N187,5),H187)","v":" "},{"$f":"PROPER(OFFSET(Entries!$C$2,Results!$N187,0))","v":"Finisher  Unidentified!"},"",null,{"$f":"MATCH($B187,Entries!$A$3:$A$1001,0)","v":1},0,{"$f":"IF(ISERROR(OFFSET(Results!$B$3,MATCH(Entries!A186,Results!B$4:B484,0),0)),Entries!A186,0)","v":""},null,"-",1000,{"$f":"IF(ISERROR(MATCH(R187,R$3:R186,0)),R187,\"-\")","v":"-"},{"$f":"IF(ISERROR(MATCH(S187,S$3:S186,0)),S187,\"-\")","v":"-"},99999,"-",1000,{"$f":"IF(ISERROR(MATCH(W187,W$3:W186,0)),W187,\"-\")","v":"-"},99999]
[185,null,0,52,null,"","",{"$f":"IF($B188>0,OFFSET(Entries!$C$2,Results!$N188,7),\"\")","v":""},{"$f":"PROPER(IF($B188>0,club(OFFSET(Entries!$I$2,Results!$N188,0)),\"\"))","v":""},{"$f":"nLocal(OFFSET(Entries!$C$2,Results!$N188,5),H188)","v":" "},{"$f":"PROPER(OFFSET(Entries!$C$2,Results!$N188,0))","v":"Finisher  Unidentified!"},"",null,{"$f":"MATCH($B188,Entries!$A$3:$A$1001,0)","v":1},0,{"$f":"IF(ISERROR(OFFSET(Results!$B$3,MATCH(Entries!A187,Results!B$4:B485,0),0)),Entries!A187,0)","v":""},null,"-",1000,{"$f":"IF(ISERROR(MATCH(R188,R$3:R187,0)),R188,\"-\")","v":"-"},{"$f":"IF(ISERROR(MATCH(S188,S$3:S187,0)),S188,\"-\")","v":"-"},99999,"-",1000,{"$f":"IF(ISERROR(MATCH(W188,W$3:W187,0)),W188,\"-\")","v":"-"},99999]
[186,null,0,52,null,"","",{"$f":"IF($B189>0,OFFSET(Entries!$C$2,Results!$N189,7),\"\")","v":""},{"$f":"PROPER(IF($B189>0,club(OFFSET(Entries!$I$2,Results!$N189,0)),\"\"))","v":""},{"$f":"nLocal(OFFSET(Entries!$C$2,Results!$N189,5),H189)","v":" "},{"$f":"PROPER(OFFSET(Entries!$C$2,Results!$N189,0))","v":"Finisher  Unidentified!"},"",null,{"$f":"MATCH($B189,Entries!$A$3:$A$1001,0)","v":1},0,{"$f":"IF(ISERROR(OFFSET(Results!$B$3,MATCH(Entries!A188,Results!B$4:B486,0),0)),Entries!A188,0)","v":""},null,"-",1000,{"$f":"IF(ISERROR(MATCH(R189,R$3:R188,0)),R189,\"-\")","v":"-"},{"$f":"IF(ISERROR(MATCH(S189,S$3:S188,0)),S189,\"-\")","v":"-"},99999,"-",1000,{"$f":"IF(ISERROR(MATCH(W189,W$3:W188,0)),W189,\"-\")","v":"-"},99999]
[187,null,0,52,null,"","",{"$f":"IF($B190>0,OFFSET(Entries!$C$2,Results!$N190,7),\"\")","v":""},{"$f":"PROPER(IF($B190>0,club(OFFSET(Entries!$I$2,Results!$N190,0)),\"\"))","v":""},{"$f":"nLocal(OFFSET(Entries!$C$2,Results!$N190,5),H190)","v":" "},{"$f":"PROPER(OFFSET(Entries!$C$2,Results!$N190,0))","v":"Finisher  Unidentified!"},"",null,{"$f":"MATCH($B190,Entries!$A$3:$A$1001,0)","v":1},0,{"$f":"IF(ISERROR(OFFSET(Results!$B$3,MATCH(Entries!A189,Results!B$4:B487,0),0)),Entries!A189,0)","v":""},null,"-",1000,{"$f":"IF(ISERROR(MATCH(R190,R$3:R189,0)),R190,\"-\")","v":"-"},{"$f":"IF(ISERROR(MATCH(S190,S$3:S189,0)),S190,\"-\")","v":"-"},99999,"-",1000,{"$f":"IF(ISERROR(MATCH(W190,W$3:W189,0)),W190,\"-\")","v":"-"},99999]
[188,null,0,52,null,"","",{"$f":"IF($B191>0,OFFSET(Entries!$C$2,Results!$N191,7),\"\")","v":""},{"$f":"PROPER(IF($B191>0,club(OFFSET(Entries!$I$2,Results!$N191,0)),\"\"))","v":""},{"$f":"nLocal(OFFSET(Entries!$C$2,Results!$N191,5),H191)","v":" "},{"$f":"PROPER(OFFSET(Entries!$C$2,Results!$N191,0))","v":"Finisher  Unidentified!"},"",null,{"$f":"MATCH($B191,Entries!$A$3:$A$1001,0)","v":1},0,{"$f":"IF(ISERROR(OFFSET(Results!$B$3,MATCH(Entries!A190,Results!B$4:B488,0),0)),Entries!A190,0)","v":""},null,"-",1000,{"$f":"IF(ISERROR(MATCH(R191,R$3:R190,0)),R191,\"-\")","v":"-"},{"$f":"IF(ISERROR(MATCH(S191,S$3:S190,0)),S191,\"-\")","v":"-"},99999,"-",1000,{"$f":"IF(ISERROR(MATCH(W191,W$3:W190,0)),W191,\"-\")","v":"-"},99999]
[189,null,0,52,null,"","",{"$f":"IF($B192>0,OFFSET(Entries!$C$2,Results!$N192,7),\"\")","v":""},{"$f":"PROPER(IF($B192>0,club(OFFSET(Entries!$I$2,Results!$N192,0)),\"\"))","v":""},{"$f":"nLocal(OFFSET(Entries!$C$2,Results!$N192,5),H192)","v":" "},{"$f":"PROPER(OFFSET(Entries!$C$2,Results!$N192,0))","v":"Finisher  Unidentified!"},"",null,{"$f":"MATCH($B192,Entries!$A$3:$A$1001,0)","v":1},0,{"$f":"IF(ISERROR(OFFSET(Results!$B$3,MATCH(Entries!A191,Results!B$4:B489,0),0)),Entries!A191,0)","v":""},null,"-",1000,{"$f":"IF(ISERROR(MATCH(R192,R$3:R191,0)),R192,\"-\")","v":"-"},{"$f":"IF(ISERROR(MATCH(S192,S$3:S191,0)),S192,\"-\")","v":"-"},99999,"-",1000,{"$f":"IF(ISERROR(MATCH(W192,W$3:W191,0)),W192,\"-\")","v":"-"},99999]
[190,null,0,52,null,"","",{"$f":"IF($B193>0,OFFSET(Entries!$C$2,Results!$N193,7),\"\")","v":""},{"$f":"PROPER(IF($B193>0,club(OFFSET(Entries!$I$2,Results!$N193,0)),\"\"))","v":""},{"$f":"nLocal(OFFSET(Entries!$C$2,Results!$N193,5),H193)","v":" "},{"$f":"PROPER(OFFSET(Entries!$C$2,Results!$N193,0))","v":"Finisher  Unidentified!"},"",null,{"$f":"MATCH($B193,Entries!$A$3:$A$1001,0)","v":1},0,{"$f":"IF(ISERROR(OFFSET(Results!$B$3,MATCH(Entries!A192,Results!B$4:B490,0),0)),Entries!A192,0)","v":""},null,"-",1000,{"$f":"IF(ISERROR(MATCH(R193,R$3:R192,0)),R193,\"-\")","v":"-"},{"$f":"IF(ISERROR(MATCH(S193,S$3:S192,0)),S193,\"-\")","v":"-"},99999,"-",1000,{"$f":"IF(ISERROR(MATCH(W193,W$3:W192,0)),W193,\"-\")","v":"-"},99999]
[191,null,0,52,null,"","",{"$f":"IF($B194>0,OFFSET(Entries!$C$2,Results!$N194,7),\"\")","v":""},{"$f":"PROPER(IF($B194>0,club(OFFSET(Entries!$I$2,Results!$N194,0)),\"\"))","v":""},{"$f":"nLocal(OFFSET(Entries!$C$2,Results!$N194,5),H194)","v":" "},{"$f":"PROPER(OFFSET(Entries!$C$2,Results!$N194,0))","v":"Finisher  Unidentified!"},"",null,{"$f":"MATCH($B194,Entries!$A$3:$A$1001,0)","v":1},0,{"$f":"IF(ISERROR(OFFSET(Results!$B$3,MATCH(Entries!A193,Results!B$4:B491,0),0)),Entries!A193,0)","v":""},null,"-",1000,{"$f":"IF(ISERROR(MATCH(R194,R$3:R193,0)),R194,\"-\")","v":"-"},{"$f":"IF(ISERROR(MATCH(S194,S$3:S193,0)),S194,\"-\")","v":"-"},99999,"-",1000,{"$f":"IF(ISERROR(MATCH(W194,W$3:W193,0)),W194,\"-\")","v":"-"},99999]
[192,null,0,52,null,"","",{"$f":"IF($B195>0,OFFSET(Entries!$C$2,Results!$N195,7),\"\")","v":""},{"$f":"PROPER(IF($B195>0,club(OFFSET(Entries!$I$2,Results!$N195,0)),\"\"))","v":""},{"$f":"nLocal(OFFSET(Entries!$C$2,Results!$N195,5),H195)","v":" "},{"$f":"PROPER(OFFSET(Entries!$C$2,Results!$N195,0))","v":"Finisher  Unidentified!"},"",null,{"$f":"MATCH($B195,Entries!$A$3:$A$1001,0)","v":1},0,{"$f":"IF(ISERROR(OFFSET(Results!$B$3,MATCH(Entries!A194,Results!B$4:B492,0),0)),Entries!A194,0)","v":""},null,"-",1000,{"$f":"IF(ISERROR(MATCH(R195,R$3:R194,0)),R195,\"-\")","v":"-"},{"$f":"IF(ISERROR(MATCH(S195,S$3:S194,0)),S195,\"-\")","v":"-"},99999,"-",1000,{"$f":"IF(ISERROR(MATCH(W195,W$3:W194,0)),W195,\"-\")","v":"-"},99999]
[193,null,0,52,null,"","",{"$f":"IF($B196>0,OFFSET(Entries!$C$2,Results!$N196,7),\"\")","v":""},{"$f":"PROPER(IF($B196>0,club(OFFSET(Entries!$I$2,Results!$N196,0)),\"\"))","v":""},{"$f":"nLocal(OFFSET(Entries!$C$2,Results!$N196,5),H196)","v":" "},{"$f":"PROPER(OFFSET(Entries!$C$2,Results!$N196,0))","v":"Finisher  Unidentified!"},"",null,{"$f":"MATCH($B196,Entries!$A$3:$A$1001,0)","v":1},0,{"$f":"IF(ISERROR(OFFSET(Results!$B$3,MATCH(Entries!A195,Results!B$4:B493,0),0)),Entries!A195,0)","v":""},null,"-",1000,{"$f":"IF(ISERROR(MATCH(R196,R$3:R195,0)),R196,\"-\")","v":"-"},{"$f":"IF(ISERROR(MATCH(S196,S$3:S195,0)),S196,\"-\")","v":"-"},99999,"-",1000,{"$f":"IF(ISERROR(MATCH(W196,W$3:W195,0)),W196,\"-\")","v":"-"},99999]
[194,null,0,52,null,"","",{"$f":"IF($B197>0,OFFSET(Entries!$C$2,Results!$N197,7),\"\")","v":""},{"$f":"PROPER(IF($B197>0,club(OFFSET(Entries!$I$2,Results!$N197,0)),\"\"))","v":""},{"$f":"nLocal(OFFSET(Entries!$C$2,Results!$N197,5),H197)","v":" "},{"$f":"PROPER(OFFSET(Entries!$C$2,Results!$N197,0))","v":"Finisher  Unidentified!"},"",null,{"$f":"MATCH($B197,Entries!$A$3:$A$1001,0)","v":1},0,{"$f":"IF(ISERROR(OFFSET(Results!$B$3,MATCH(Entries!A196,Results!B$4:B494,0),0)),Entries!A196,0)","v":""},null,"-",1000,{"$f":"IF(ISERROR(MATCH(R197,R$3:R196,0)),R197,\"-\")","v":"-"},{"$f":"IF(ISERROR(MATCH(S197,S$3:S196,0)),S197,\"-\")","v":"-"},99999,"-",1000,{"$f":"IF(ISERROR(MATCH(W197,W$3:W196,0)),W197,\"-\")","v":"-"},99999]
[{"$f":"A197+1","v":195},null,0,52,null,"","",{"$f":"IF($B198>0,OFFSET(Entries!$C$2,Results!$N198,7),\"\")","v":""},{"$f":"PROPER(IF($B198>0,club(OFFSET(Entries!$I$2,Results!$N198,0)),\"\"))","v":""},{"$f":"nLocal(OFFSET(Entries!$C$2,Results!$N198,5),H198)","v":" "},{"$f":"PROPER(OFFSET(Entries!$C$2,Results!$N198,0))","v":"Finisher  Unidentified!"},"",null,{"$f":"MATCH($B198,Entries!$A$3:$A$1001,0)","v":1},{"$f":"IF(LEN(H198)>2,RIGHT(H198,2),0)","v":0},{"$f":"IF(ISERROR(OFFSET(Results!$B$3,MATCH(Entries!A197,Results!B$4:B495,0),0)),Entries!A197,0)","v":""},null,"-",1000,{"$f":"IF(ISERROR(MATCH(R198,R$3:R197,0)),R198,\"-\")","v":"-"},{"$f":"IF(ISERROR(MATCH(S198,S$3:S197,0)),S198,\"-\")","v":"-"},99999,"-",1000,{"$f":"IF(ISERROR(MATCH(W198,W$3:W197,0)),W198,\"-\")","v":"-"},99999]
[196,null,0,52,null,"","",{"$f":"IF($B199>0,OFFSET(Entries!$C$2,Results!$N199,7),\"\")","v":""},{"$f":"PROPER(IF($B199>0,club(OFFSET(Entries!$I$2,Results!$N199,0)),\"\"))","v":""},{"$f":"nLocal(OFFSET(Entries!$C$2,Results!$N199,5),H199)","v":" "},{"$f":"PROPER(OFFSET(Entries!$C$2,Results!$N199,0))","v":"Finisher  Unidentified!"},"",null,{"$f":"MATCH($B199,Entries!$A$3:$A$1001,0)","v":1},0,{"$f":"IF(ISERROR(OFFSET(Results!$B$3,MATCH(Entries!A198,Results!B$4:B496,0),0)),Entries!A198,0)","v":""},null,"-",1000,{"$f":"IF(ISERROR(MATCH(R199,R$3:R198,0)),R199,\"-\")","v":"-"},{"$f":"IF(ISERROR(MATCH(S199,S$3:S198,0)),S199,\"-\")","v":"-"},99999,"-",1000,{"$f":"IF(ISERROR(MATCH(W199,W$3:W198,0)),W199,\"-\")","v":"-"},99999]
[197,null,0,52,null,"","",{"$f":"IF($B200>0,OFFSET(Entries!$C$2,Results!$N200,7),\"\")","v":""},{"$f":"PROPER(IF($B200>0,club(OFFSET(Entries!$I$2,Results!$N200,0)),\"\"))","v":""},{"$f":"nLocal(OFFSET(Entries!$C$2,Results!$N200,5),H200)","v":" "},{"$f":"PROPER(OFFSET(Entries!$C$2,Results!$N200,0))","v":"Finisher  Unidentified!"},"",null,{"$f":"MATCH($B200,Entries!$A$3:$A$1001,0)","v":1},0,{"$f":"IF(ISERROR(OFFSET(Results!$B$3,MATCH(Entries!A199,Results!B$4:B497,0),0)),Entries!A199,0)","v":""},null,"-",1000,{"$f":"IF(ISERROR(MATCH(R200,R$3:R199,0)),R200,\"-\")","v":"-"},{"$f":"IF(ISERROR(MATCH(S200,S$3:S199,0)),S200,\"-\")","v":"-"},99999,"-",1000,{"$f":"IF(ISERROR(MATCH(W200,W$3:W199,0)),W200,\"-\")","v":"-"},99999]
[198,null,0,52,null,"","",{"$f":"IF($B201>0,OFFSET(Entries!$C$2,Results!$N201,7),\"\")","v":""},{"$f":"PROPER(IF($B201>0,club(OFFSET(Entries!$I$2,Results!$N201,0)),\"\"))","v":""},{"$f":"nLocal(OFFSET(Entries!$C$2,Results!$N201,5),H201)","v":" "},{"$f":"PROPER(OFFSET(Entries!$C$2,Results!$N201,0))","v":"Finisher  Unidentified!"},"",null,{"$f":"MATCH($B201,Entries!$A$3:$A$1001,0)","v":1},0,{"$f":"IF(ISERROR(OFFSET(Results!$B$3,MATCH(Entries!A200,Results!B$4:B498,0),0)),Entries!A200,0)","v":""},null,{"$f":"IF(LEN(H201)>2,I201,\"-\")","v":"-"},{"$f":"IF(R201<>\"-\",ROW()-3,1000)","v":1000},{"$f":"IF(ISERROR(MATCH(R201,R$3:R200,0)),R201,\"-\")","v":"-"},{"$f":"IF(ISERROR(MATCH(S201,S$3:S200,0)),S201,\"-\")","v":"-"},{"$f":"IF(U201<>\"-\",(ROW()-3)*1,99999)","v":99999},"-",1000,{"$f":"IF(ISERROR(MATCH(W201,W$3:W200,0)),W201,\"-\")","v":"-"},99999]
[199,null,0,52,null,"","",{"$f":"IF($B202>0,OFFSET(Entries!$C$2,Results!$N202,7),\"\")","v":""},{"$f":"PROPER(IF($B202>0,club(OFFSET(Entries!$I$2,Results!$N202,0)),\"\"))","v":""},{"$f":"nLocal(OFFSET(Entries!$C$2,Results!$N202,5),H202)","v":" "},{"$f":"PROPER(OFFSET(Entries!$C$2,Results!$N202,0))","v":"Finisher  Unidentified!"},"",null,{"$f":"MATCH($B202,Entries!$A$3:$A$1001,0)","v":1},0,{"$f":"IF(ISERROR(OFFSET(Results!$B$3,MATCH(Entries!A201,Results!B$4:B499,0),0)),Entries!A201,0)","v":""},null,"-",1000,{"$f":"IF(ISERROR(MATCH(R202,R$3:R201,0)),R202,\"-\")","v":"-"},{"$f":"IF(ISERROR(MATCH(S202,S$3:S201,0)),S202,\"-\")","v":"-"},99999,"-",1000,{"$f":"IF(ISERROR(MATCH(W202,W$3:W201,0)),W202,\"-\")","v":"-"},99999]
[200,null,{"$f":"IF(D203>=D202,C202,C202+1)","v":0},{"$f":"IF(E203>=E202,D202,D202+1)","v":52},null,{"$f":"IF(AND($B203>=0,LEN(H203)=2),K203,\"\")","v":""},{"$f":"IF(AND($B203>=0,MID(H203,2,1)=\"V\"),K203,\"\")","v":""},{"$f":"IF($B203>0,OFFSET(Entries!$C$2,Results!$N203,7),\"\")","v":""},{"$f":"PROPER(IF($B203>0,club(OFFSET(Entries!$I$2,Results!$N203,0)),\"\"))","v":""},{"$f":"nLocal(OFFSET(Entries!$C$2,Results!$N203,5),H203)","v":" "},{"$f":"PROPER(OFFSET(Entries!$C$2,Results!$N203,0))","v":"Finisher  Unidentified!"},{"$f":"LEFT(H203,1)&VetCat5(H203)","v":""},null,{"$f":"MATCH($B203,Entries!$A$3:$A$1001,0)","v":1},0,{"$f":"IF(ISERROR(OFFSET(Results!$B$3,MATCH(Entries!A202,Results!B$4:B500,0),0)),Entries!A202,0)","v":""},null,"-",1000,{"$f":"IF(ISERROR(MATCH(R203,R$3:R202,0)),R203,\"-\")","v":"-"},{"$f":"IF(ISERROR(MATCH(S203,S$3:S202,0)),S203,\"-\")","v":"-"},99999,{"$f":"IF(LEFT(H203,1)=\"F\",I203,\"-\")","v":"-"},{"$f":"IF(W203<>\"-\",ROW()-3,1000)","v":1000},{"$f":"IF(ISERROR(MATCH(W203,W$3:W202,0)),W203,\"-\")","v":"-"},{"$f":"IF(Y203<>\"-\",(ROW()-3)*1,99999)","v":99999}]
[201,null,0,52,null,"","",{"$f":"IF($B204>0,OFFSET(Entries!$C$2,Results!$N204,7),\"\")","v":""},{"$f":"PROPER(IF($B204>0,club(OFFSET(Entries!$I$2,Results!$N204,0)),\"\"))","v":""},{"$f":"nLocal(OFFSET(Entries!$C$2,Results!$N204,5),H204)","v":" "},{"$f":"PROPER(OFFSET(Entries!$C$2,Results!$N204,0))","v":"Finisher  Unidentified!"},"",null,{"$f":"MATCH($B204,Entries!$A$3:$A$1001,0)","v":1},0,{"$f":"IF(ISERROR(OFFSET(Results!$B$3,MATCH(Entries!A203,Results!B$4:B501,0),0)),Entries!A203,0)","v":""},null,"-",1000,{"$f":"IF(ISERROR(MATCH(R204,R$3:R203,0)),R204,\"-\")","v":"-"},{"$f":"IF(ISERROR(MATCH(S204,S$3:S203,0)),S204,\"-\")","v":"-"},99999,"-",1000,{"$f":"IF(ISERROR(MATCH(W204,W$3:W203,0)),W204,\"-\")","v":"-"},99999]
[202,null,0,52,null,"","",{"$f":"IF($B205>0,OFFSET(Entries!$C$2,Results!$N205,7),\"\")","v":""},{"$f":"PROPER(IF($B205>0,club(OFFSET(Entries!$I$2,Results!$N205,0)),\"\"))","v":""},{"$f":"nLocal(OFFSET(Entries!$C$2,Results!$N205,5),H205)","v":" "},{"$f":"PROPER(OFFSET(Entries!$C$2,Results!$N205,0))","v":"Finisher  Unidentified!"},"",null,{"$f":"MATCH($B205,Entries!$A$3:$A$1001,0)","v":1},0,{"$f":"IF(ISERROR(OFFSET(Results!$B$3,MATCH(Entries!A204,Results!B$4:B502,0),0)),Entries!A204,0)","v":""},null,"-",1000,{"$f":"IF(ISERROR(MATCH(R205,R$3:R204,0)),R205,\"-\")","v":"-"},{"$f":"IF(ISERROR(MATCH(S205,S$3:S204,0)),S205,\"-\")","v":"-"},99999,"-",1000,{"$f":"IF(ISERROR(MATCH(W205,W$3:W204,0)),W205,\"-\")","v":"-"},99999]
[203,null,0,52,null,"","",{"$f":"IF($B206>0,OFFSET(Entries!$C$2,Results!$N206,7),\"\")","v":""},{"$f":"PROPER(IF($B206>0,club(OFFSET(Entries!$I$2,Results!$N206,0)),\"\"))","v":""},{"$f":"nLocal(OFFSET(Entries!$C$2,Results!$N206,5),H206)","v":" "},{"$f":"PROPER(OFFSET(Entries!$C$2,Results!$N206,0))","v":"Finisher  Unidentified!"},"",null,{"$f":"MATCH($B206,Entries!$A$3:$A$1001,0)","v":1},0,{"$f":"IF(ISERROR(OFFSET(Results!$B$3,MATCH(Entries!A205,Results!B$4:B503,0),0)),Entries!A205,0)","v":""},null,"-",1000,{"$f":"IF(ISERROR(MATCH(R206,R$3:R205,0)),R206,\"-\")","v":"-"},{"$f":"IF(ISERROR(MATCH(S206,S$3:S205,0)),S206,\"-\")","v":"-"},99999,"-",1000,{"$f":"IF(ISERROR(MATCH(W206,W$3:W205,0)),W206,\"-\")","v":"-"},99999]
[204,null,0,52,null,"","",{"$f":"IF($B207>0,OFFSET(Entries!$C$2,Results!$N207,7),\"\")","v":""},{"$f":"PROPER(IF($B207>0,club(OFFSET(Entries!$I$2,Results!$N207,0)),\"\"))","v":""},{"$f":"nLocal(OFFSET(Entries!$C$2,Results!$N207,5),H207)","v":" "},{"$f":"PROPER(OFFSET(Entries!$C$2,Results!$N207,0))","v":"Finisher  Unidentified!"},"",null,{"$f":"MATCH($B207,Entries!$A$3:$A$1001,0)","v":1},0,{"$f":"IF(ISERROR(OFFSET(Results!$B$3,MATCH(Entries!A206,Results!B$4:B504,0),0)),Entries!A206,0)","v":""},null,"-",1000,{"$f":"IF(ISERROR(MATCH(R207,R$3:R206,0)),R207,\"-\")","v":"-"},{"$f":"IF(ISERROR(MATCH(S207,S$3:S206,0)),S207,\"-\")","v":"-"},99999,"-",1000,{"$f":"IF(ISERROR(MATCH(W207,W$3:W206,0)),W207,\"-\")","v":"-"},99999]
[205,null,0,52,null,"","",{"$f":"IF($B208>0,OFFSET(Entries!$C$2,Results!$N208,7),\"\")","v":""},{"$f":"PROPER(IF($B208>0,club(OFFSET(Entries!$I$2,Results!$N208,0)),\"\"))","v":""},{"$f":"nLocal(OFFSET(Entries!$C$2,Results!$N208,5),H208)","v":" "},{"$f":"PROPER(OFFSET(Entries!$C$2,Results!$N208,0))","v":"Finisher  Unidentified!"},"",null,{"$f":"MATCH($B208,Entries!$A$3:$A$1001,0)","v":1},0,{"$f":"IF(ISERROR(OFFSET(Results!$B$3,MATCH(Entries!A207,Results!B$4:B505,0),0)),Entries!A207,0)","v":""},null,"-",1000,{"$f":"IF(ISERROR(MATCH(R208,R$3:R207,0)),R208,\"-\")","v":"-"},{"$f":"IF(ISERROR(MATCH(S208,S$3:S207,0)),S208,\"-\")","v":"-"},99999,"-",1000,{"$f":"IF(ISERROR(MATCH(W208,W$3:W207,0)),W208,\"-\")","v":"-"},99999]
[206,null,0,52,null,"","",{"$f":"IF($B209>0,OFFSET(Entries!$C$2,Results!$N209,7),\"\")","v":""},{"$f":"PROPER(IF($B209>0,club(OFFSET(Entries!$I$2,Results!$N209,0)),\"\"))","v":""},{"$f":"nLocal(OFFSET(Entries!$C$2,Results!$N209,5),H209)","v":" "},{"$f":"PROPER(OFFSET(Entries!$C$2,Results!$N209,0))","v":"Finisher  Unidentified!"},"",null,{"$f":"MATCH($B209,Entries!$A$3:$A$1001,0)","v":1},0,{"$f":"IF(ISERROR(OFFSET(Results!$B$3,MATCH(Entries!A208,Results!B$4:B506,0),0)),Entries!A208,0)","v":""},null,"-",1000,{"$f":"IF(ISERROR(MATCH(R209,R$3:R208,0)),R209,\"-\")","v":"-"},{"$f":"IF(ISERROR(MATCH(S209,S$3:S208,0)),S209,\"-\")","v":"-"},99999,"-",1000,{"$f":"IF(ISERROR(MATCH(W209,W$3:W208,0)),W209,\"-\")","v":"-"},99999]
[207,null,0,52,null,"","",{"$f":"IF($B210>0,OFFSET(Entries!$C$2,Results!$N210,7),\"\")","v":""},{"$f":"PROPER(IF($B210>0,club(OFFSET(Entries!$I$2,Results!$N210,0)),\"\"))","v":""},{"$f":"nLocal(OFFSET(Entries!$C$2,Results!$N210,5),H210)","v":" "},{"$f":"PROPER(OFFSET(Entries!$C$2,Results!$N210,0))","v":"Finisher  Unidentified!"},"",null,{"$f":"MATCH($B210,Entries!$A$3:$A$1001,0)","v":1},0,{"$f":"IF(ISERROR(OFFSET(Results!$B$3,MATCH(Entries!A209,Results!B$4:B507,0),0)),Entries!A209,0)","v":""},null,"-",1000,{"$f":"IF(ISERROR(MATCH(R210,R$3:R209,0)),R210,\"-\")","v":"-"},{"$f":"IF(ISERROR(MATCH(S210,S$3:S209,0)),S210,\"-\")","v":"-"},99999,"-",1000,{"$f":"IF(ISERROR(MATCH(W210,W$3:W209,0)),W210,\"-\")","v":"-"},99999]
[208,null,0,52,null,"","",{"$f":"IF($B211>0,OFFSET(Entries!$C$2,Results!$N211,7),\"\")","v":""},{"$f":"PROPER(IF($B211>0,club(OFFSET(Entries!$I$2,Results!$N211,0)),\"\"))","v":""},{"$f":"nLocal(OFFSET(Entries!$C$2,Results!$N211,5),H211)","v":" "},{"$f":"PROPER(OFFSET(Entries!$C$2,Results!$N211,0))","v":"Finisher  Unidentified!"},"",null,{"$f":"MATCH($B211,Entries!$A$3:$A$1001,0)","v":1},0,{"$f":"IF(ISERROR(OFFSET(Results!$B$3,MATCH(Entries!A210,Results!B$4:B508,0),0)),Entries!A210,0)","v":""},null,"-",1000,{"$f":"IF(ISERROR(MATCH(R211,R$3:R210,0)),R211,\"-\")","v":"-"},{"$f":"IF(ISERROR(MATCH(S211,S$3:S210,0)),S211,\"-\")","v":"-"},99999,"-",1000,{"$f":"IF(ISERROR(MATCH(W211,W$3:W210,0)),W211,\"-\")","v":"-"},99999]
[209,null,0,52,null,"","",{"$f":"IF($B212>0,OFFSET(Entries!$C$2,Results!$N212,7),\"\")","v":""},{"$f":"PROPER(IF($B212>0,club(OFFSET(Entries!$I$2,Results!$N212,0)),\"\"))","v":""},{"$f":"nLocal(OFFSET(Entries!$C$2,Results!$N212,5),H212)","v":" "},{"$f":"PROPER(OFFSET(Entries!$C$2,Results!$N212,0))","v":"Finisher  Unidentified!"},"",null,{"$f":"MATCH($B212,Entries!$A$3:$A$1001,0)","v":1},0,{"$f":"IF(ISERROR(OFFSET(Results!$B$3,MATCH(Entries!A211,Results!B$4:B509,0),0)),Entries!A211,0)","v":""},null,"-",1000,{"$f":"IF(ISERROR(MATCH(R212,R$3:R211,0)),R212,\"-\")","v":"-"},{"$f":"IF(ISERROR(MATCH(S212,S$3:S211,0)),S212,\"-\")","v":"-"},99999,"-",1000,{"$f":"IF(ISERROR(MATCH(W212,W$3:W211,0)),W212,\"-\")","v":"-"},99999]
[210,null,0,52,null,"","",{"$f":"IF($B213>0,OFFSET(Entries!$C$2,Results!$N213,7),\"\")","v":""},{"$f":"PROPER(IF($B213>0,club(OFFSET(Entries!$I$2,Results!$N213,0)),\"\"))","v":""},{"$f":"nLocal(OFFSET(Entries!$C$2,Results!$N213,5),H213)","v":" "},{"$f":"PROPER(OFFSET(Entries!$C$2,Results!$N213,0))","v":"Finisher  Unidentified!"},"",null,{"$f":"MATCH($B213,Entries!$A$3:$A$1001,0)","v":1},0,{"$f":"IF(ISERROR(OFFSET(Results!$B$3,MATCH(Entries!A212,Results!B$4:B510,0),0)),Entries!A212,0)","v":""},null,"-",1000,{"$f":"IF(ISERROR(MATCH(R213,R$3:R212,0)),R213,\"-\")","v":"-"},{"$f":"IF(ISERROR(MATCH(S213,S$3:S212,0)),S213,\"-\")","v":"-"},99999,"-",1000,{"$f":"IF(ISERROR(MATCH(W213,W$3:W212,0)),W213,\"-\")","v":"-"},99999]
[211,null,0,52,null,"","",{"$f":"IF($B214>0,OFFSET(Entries!$C$2,Results!$N214,7),\"\")","v":""},{"$f":"PROPER(IF($B214>0,club(OFFSET(Entries!$I$2,Results!$N214,0)),\"\"))","v":""},{"$f":"nLocal(OFFSET(Entries!$C$2,Results!$N214,5),H214)","v":" "},{"$f":"PROPER(OFFSET(Entries!$C$2,Results!$N214,0))","v":"Finisher  Unidentified!"},"",null,{"$f":"MATCH($B214,Entries!$A$3:$A$1001,0)","v":1},0,{"$f":"IF(ISERROR(OFFSET(Results!$B$3,MATCH(Entries!A213,Results!B$4:B511,0),0)),Entries!A213,0)","v":""},null,"-",1000,{"$f":"IF(ISERROR(MATCH(R214,R$3:R213,0)),R214,\"-\")","v":"-"},{"$f":"IF(ISERROR(MATCH(S214,S$3:S213,0)),S214,\"-\")","v":"-"},99999,"-",1000,{"$f":"IF(ISERROR(MATCH(W214,W$3:W213,0)),W214,\"-\")","v":"-"},99999]
[212,null,0,52,null,"","",{"$f":"IF($B215>0,OFFSET(Entries!$C$2,Results!$N215,7),\"\")","v":""},{"$f":"PROPER(IF($B215>0,club(OFFSET(Entries!$I$2,Results!$N215,0)),\"\"))","v":""},{"$f":"nLocal(OFFSET(Entries!$C$2,Results!$N215,5),H215)","v":" "},{"$f":"PROPER(OFFSET(Entries!$C$2,Results!$N215,0))","v":"Finisher  Unidentified!"},"",null,{"$f":"MATCH($B215,Entries!$A$3:$A$1001,0)","v":1},0,{"$f":"IF(ISERROR(OFFSET(Results!$B$3,MATCH(Entries!A214,Results!B$4:B512,0),0)),Entries!A214,0)","v":""},null,"-",1000,{"$f":"IF(ISERROR(MATCH(R215,R$3:R214,0)),R215,\"-\")","v":"-"},{"$f":"IF(ISERROR(MATCH(S215,S$3:S214,0)),S215,\"-\")","v":"-"},99999,"-",1000,{"$f":"IF(ISERROR(MATCH(W215,W$3:W214,0)),W215,\"-\")","v":"-"},99999]
[213,null,0,52,null,"","",{"$f":"IF($B216>0,OFFSET(Entries!$C$2,Results!$N216,7),\"\")","v":""},{"$f":"PROPER(IF($B216>0,club(OFFSET(Entries!$I$2,Results!$N216,0)),\"\"))","v":""},{"$f":"nLocal(OFFSET(Entries!$C$2,Results!$N216,5),H216)","v":" "},{"$f":"PROPER(OFFSET(Entries!$C$2,Results!$N216,0))","v":"Finisher  Unidentified!"},"",null,{"$f":"MATCH($B216,Entries!$A$3:$A$1001,0)","v":1},0,{"$f":"IF(ISERROR(OFFSET(Results!$B$3,MATCH(Entries!A215,Results!B$4:B513,0),0)),Entries!A215,0)","v":""},null,"-",1000,{"$f":"IF(ISERROR(MATCH(R216,R$3:R215,0)),R216,\"-\")","v":"-"},{"$f":"IF(ISERROR(MATCH(S216,S$3:S215,0)),S216,\"-\")","v":"-"},99999,"-",1000,{"$f":"IF(ISERROR(MATCH(W216,W$3:W215,0)),W216,\"-\")","v":"-"},99999]
[214,null,0,52,null,"","",{"$f":"IF($B217>0,OFFSET(Entries!$C$2,Results!$N217,7),\"\")","v":""},{"$f":"PROPER(IF($B217>0,club(OFFSET(Entries!$I$2,Results!$N217,0)),\"\"))","v":""},{"$f":"nLocal(OFFSET(Entries!$C$2,Results!$N217,5),H217)","v":" "},{"$f":"PROPER(OFFSET(Entries!$C$2,Results!$N217,0))","v":"Finisher  Unidentified!"},"",null,{"$f":"MATCH($B217,Entries!$A$3:$A$1001,0)","v":1},0,{"$f":"IF(ISERROR(OFFSET(Results!$B$3,MATCH(Entries!A216,Results!B$4:B514,0),0)),Entries!A216,0)","v":""},null,"-",1000,{"$f":"IF(ISERROR(MATCH(R217,R$3:R216,0)),R217,\"-\")","v":"-"},{"$f":"IF(ISERROR(MATCH(S217,S$3:S216,0)),S217,\"-\")","v":"-"},99999,"-",1000,{"$f":"IF(ISERROR(MATCH(W217,W$3:W216,0)),W217,\"-\")","v":"-"},99999]
[215,null,0,52,null,"","",{"$f":"IF($B218>0,OFFSET(Entries!$C$2,Results!$N218,7),\"\")","v":""},{"$f":"PROPER(IF($B218>0,club(OFFSET(Entries!$I$2,Results!$N218,0)),\"\"))","v":""},{"$f":"nLocal(OFFSET(Entries!$C$2,Results!$N218,5),H218)","v":" "},{"$f":"PROPER(OFFSET(Entries!$C$2,Results!$N218,0))","v":"Finisher  Unidentified!"},"",null,{"$f":"MATCH($B218,Entries!$A$3:$A$1001,0)","v":1},0,{"$f":"IF(ISERROR(OFFSET(Results!$B$3,MATCH(Entries!A217,Results!B$4:B515,0),0)),Entries!A217,0)","v":""},null,"-",1000,{"$f":"IF(ISERROR(MATCH(R218,R$3:R217,0)),R218,\"-\")","v":"-"},{"$f":"IF(ISERROR(MATCH(S218,S$3:S217,0)),S218,\"-\")","v":"-"},99999,"-",1000,{"$f":"IF(ISERROR(MATCH(W218,W$3:W217,0)),W218,\"-\")","v":"-"},99999]
[216,null,0,52,null,"","",{"$f":"IF($B219>0,OFFSET(Entries!$C$2,Results!$N219,7),\"\")","v":""},{"$f":"PROPER(IF($B219>0,club(OFFSET(Entries!$I$2,Results!$N219,0)),\"\"))","v":""},{"$f":"nLocal(OFFSET(Entries!$C$2,Results!$N219,5),H219)","v":" "},{"$f":"PROPER(OFFSET(Entries!$C$2,Results!$N219,0))","v":"Finisher  Unidentified!"},"",null,{"$f":"MATCH($B219,Entries!$A$3:$A$1001,0)","v":1},0,{"$f":"IF(ISERROR(OFFSET(Results!$B$3,MATCH(Entries!A218,Results!B$4:B516,0),0)),Entries!A218,0)","v":""},null,"-",1000,{"$f":"IF(ISERROR(MATCH(R219,R$3:R218,0)),R219,\"-\")","v":"-"},{"$f":"IF(ISERROR(MATCH(S219,S$3:S218,0)),S219,\"-\")","v":"-"},99999,"-",1000,{"$f":"IF(ISERROR(MATCH(W219,W$3:W218,0)),W219,\"-\")","v":"-"},99999]
[217,null,0,52,null,"","",{"$f":"IF($B220>0,OFFSET(Entries!$C$2,Results!$N220,7),\"\")","v":""},{"$f":"PROPER(IF($B220>0,club(OFFSET(Entries!$I$2,Results!$N220,0)),\"\"))","v":""},{"$f":"nLocal(OFFSET(Entries!$C$2,Results!$N220,5),H220)","v":" "},{"$f":"PROPER(OFFSET(Entries!$C$2,Results!$N220,0))","v":"Finisher  Unidentified!"},"",null,{"$f":"MATCH($B220,Entries!$A$3:$A$1001,0)","v":1},0,{"$f":"IF(ISERROR(OFFSET(Results!$B$3,MATCH(Entries!A219,Results!B$4:B517,0),0)),Entries!A219,0)","v":""},null,"-",1000,{"$f":"IF(ISERROR(MATCH(R220,R$3:R219,0)),R220,\"-\")","v":"-"},{"$f":"IF(ISERROR(MATCH(S220,S$3:S219,0)),S220,\"-\")","v":"-"},99999,"-",1000,{"$f":"IF(ISERROR(MATCH(W220,W$3:W219,0)),W220,\"-\")","v":"-"},99999]
[218,null,0,52,null,"","",{"$f":"IF($B221>0,OFFSET(Entries!$C$2,Results!$N221,7),\"\")","v":""},{"$f":"PROPER(IF($B221>0,club(OFFSET(Entries!$I$2,Results!$N221,0)),\"\"))","v":""},{"$f":"nLocal(OFFSET(Entries!$C$2,Results!$N221,5),H221)","v":" "},{"$f":"PROPER(OFFSET(Entries!$C$2,Results!$N221,0))","v":"Finisher  Unidentified!"},"",null,{"$f":"MATCH($B221,Entries!$A$3:$A$1001,0)","v":1},0,{"$f":"IF(ISERROR(OFFSET(Results!$B$3,MATCH(Entries!A220,Results!B$4:B518,0),0)),Entries!A220,0)","v":""},null,"-",1000,{"$f":"IF(ISERROR(MATCH(R221,R$3:R220,0)),R221,\"-\")","v":"-"},{"$f":"IF(ISERROR(MATCH(S221,S$3:S220,0)),S221,\"-\")","v":"-"},99999,"-",1000,{"$f":"IF(ISERROR(MATCH(W221,W$3:W220,0)),W221,\"-\")","v":"-"},99999]
[219,null,0,52,null,"","",{"$f":"IF($B222>0,OFFSET(Entries!$C$2,Results!$N222,7),\"\")","v":""},{"$f":"PROPER(IF($B222>0,club(OFFSET(Entries!$I$2,Results!$N222,0)),\"\"))","v":""},{"$f":"nLocal(OFFSET(Entries!$C$2,Results!$N222,5),H222)","v":" "},{"$f":"PROPER(OFFSET(Entries!$C$2,Results!$N222,0))","v":"Finisher  Unidentified!"},"",null,{"$f":"MATCH($B222,Entries!$A$3:$A$1001,0)","v":1},0,{"$f":"IF(ISERROR(OFFSET(Results!$B$3,MATCH(Entries!A221,Results!B$4:B519,0),0)),Entries!A221,0)","v":""},null,"-",1000,{"$f":"IF(ISERROR(MATCH(R222,R$3:R221,0)),R222,\"-\")","v":"-"},{"$f":"IF(ISERROR(MATCH(S222,S$3:S221,0)),S222,\"-\")","v":"-"},99999,"-",1000,{"$f":"IF(ISERROR(MATCH(W222,W$3:W221,0)),W222,\"-\")","v":"-"},99999]
[220,null,0,52,null,"","",{"$f":"IF($B223>0,OFFSET(Entries!$C$2,Results!$N223,7),\"\")","v":""},{"$f":"PROPER(IF($B223>0,club(OFFSET(Entries!$I$2,Results!$N223,0)),\"\"))","v":""},{"$f":"nLocal(OFFSET(Entries!$C$2,Results!$N223,5),H223)","v":" "},{"$f":"PROPER(OFFSET(Entries!$C$2,Results!$N223,0))","v":"Finisher  Unidentified!"},"",null,{"$f":"MATCH($B223,Entries!$A$3:$A$1001,0)","v":1},0,{"$f":"IF(ISERROR(OFFSET(Results!$B$3,MATCH(Entries!A222,Results!B$4:B520,0),0)),Entries!A222,0)","v":""},null,"-",1000,{"$f":"IF(ISERROR(MATCH(R223,R$3:R222,0)),R223,\"-\")","v":"-"},{"$f":"IF(ISERROR(MATCH(S223,S$3:S222,0)),S223,\"-\")","v":"-"},99999,"-",1000,{"$f":"IF(ISERROR(MATCH(W223,W$3:W222,0)),W223,\"-\")","v":"-"},99999]
[221,null,0,52,null,"","",{"$f":"IF($B224>0,OFFSET(Entries!$C$2,Results!$N224,7),\"\")","v":""},{"$f":"PROPER(IF($B224>0,club(OFFSET(Entries!$I$2,Results!$N224,0)),\"\"))","v":""},{"$f":"nLocal(OFFSET(Entries!$C$2,Results!$N224,5),H224)","v":" "},{"$f":"PROPER(OFFSET(Entries!$C$2,Results!$N224,0))","v":"Finisher  Unidentified!"},"",null,{"$f":"MATCH($B224,Entries!$A$3:$A$1001,0)","v":1},0,{"$f":"IF(ISERROR(OFFSET(Results!$B$3,MATCH(Entries!A223,Results!B$4:B521,0),0)),Entries!A223,0)","v":""},null,"-",1000,{"$f":"IF(ISERROR(MATCH(R224,R$3:R223,0)),R224,\"-\")","v":"-"},{"$f":"IF(ISERROR(MATCH(S224,S$3:S223,0)),S224,\"-\")","v":"-"},99999,"-",1000,{"$f":"IF(ISERROR(MATCH(W224,W$3:W223,0)),W224,\"-\")","v":"-"},99999]
[222,null,0,52,null,"","",{"$f":"IF($B225>0,OFFSET(Entries!$C$2,Results!$N225,7),\"\")","v":""},{"$f":"PROPER(IF($B225>0,club(OFFSET(Entries!$I$2,Results!$N225,0)),\"\"))","v":""},{"$f":"nLocal(OFFSET(Entries!$C$2,Results!$N225,5),H225)","v":" "},{"$f":"PROPER(OFFSET(Entries!$C$2,Results!$N225,0))","v":"Finisher  Unidentified!"},"",null,{"$f":"MATCH($B225,Entries!$A$3:$A$1001,0)","v":1},0,{"$f":"IF(ISERROR(OFFSET(Results!$B$3,MATCH(Entries!A224,Results!B$4:B522,0),0)),Entries!A224,0)","v":""},null,"-",1000,{"$f":"IF(ISERROR(MATCH(R225,R$3:R224,0)),R225,\"-\")","v":"-"},{"$f":"IF(ISERROR(MATCH(S225,S$3:S224,0)),S225,\"-\")","v":"-"},99999,"-",1000,{"$f":"IF(ISERROR(MATCH(W225,W$3:W224,0)),W225,\"-\")","v":"-"},99999]
[223,null,0,52,null,"","",{"$f":"IF($B226>0,OFFSET(Entries!$C$2,Results!$N226,7),\"\")","v":""},{"$f":"PROPER(IF($B226>0,club(OFFSET(Entries!$I$2,Results!$N226,0)),\"\"))","v":""},{"$f":"nLocal(OFFSET(Entries!$C$2,Results!$N226,5),H226)","v":" "},{"$f":"PROPER(OFFSET(Entries!$C$2,Results!$N226,0))","v":"Finisher  Unidentified!"},"",null,{"$f":"MATCH($B226,Entries!$A$3:$A$1001,0)","v":1},0,{"$f":"IF(ISERROR(OFFSET(Results!$B$3,MATCH(Entries!A225,Results!B$4:B523,0),0)),Entries!A225,0)","v":""},null,"-",1000,{"$f":"IF(ISERROR(MATCH(R226,R$3:R225,0)),R226,\"-\")","v":"-"},{"$f":"IF(ISERROR(MATCH(S226,S$3:S225,0)),S226,\"-\")","v":"-"},99999,"-",1000,{"$f":"IF(ISERROR(MATCH(W226,W$3:W225,0)),W226,\"-\")","v":"-"},99999]
[224,null,0,52,null,"","",{"$f":"IF($B227>0,OFFSET(Entries!$C$2,Results!$N227,7),\"\")","v":""},{"$f":"PROPER(IF($B227>0,club(OFFSET(Entries!$I$2,Results!$N227,0)),\"\"))","v":""},{"$f":"nLocal(OFFSET(Entries!$C$2,Results!$N227,5),H227)","v":" "},{"$f":"PROPER(OFFSET(Entries!$C$2,Results!$N227,0))","v":"Finisher  Unidentified!"},"",null,{"$f":"MATCH($B227,Entries!$A$3:$A$1001,0)","v":1},0,{"$f":"IF(ISERROR(OFFSET(Results!$B$3,MATCH(Entries!A226,Results!B$4:B524,0),0)),Entries!A226,0)","v":""},null,"-",1000,{"$f":"IF(ISERROR(MATCH(R227,R$3:R226,0)),R227,\"-\")","v":"-"},{"$f":"IF(ISERROR(MATCH(S227,S$3:S226,0)),S227,\"-\")","v":"-"},99999,"-",1000,{"$f":"IF(ISERROR(MATCH(W227,W$3:W226,0)),W227,\"-\")","v":"-"},99999]
[225,null,0,52,null,"","",{"$f":"IF($B228>0,OFFSET(Entries!$C$2,Results!$N228,7),\"\")","v":""},{"$f":"PROPER(IF($B228>0,club(OFFSET(Entries!$I$2,Results!$N228,0)),\"\"))","v":""},{"$f":"nLocal(OFFSET(Entries!$C$2,Results!$N228,5),H228)","v":" "},{"$f":"PROPER(OFFSET(Entries!$C$2,Results!$N228,0))","v":"Finisher  Unidentified!"},"",null,{"$f":"MATCH($B228,Entries!$A$3:$A$1001,0)","v":1},0,{"$f":"IF(ISERROR(OFFSET(Results!$B$3,MATCH(Entries!A227,Results!B$4:B525,0),0)),Entries!A227,0)","v":""},null,"-",1000,{"$f":"IF(ISERROR(MATCH(R228,R$3:R227,0)),R228,\"-\")","v":"-"},{"$f":"IF(ISERROR(MATCH(S228,S$3:S227,0)),S228,\"-\")","v":"-"},99999,"-",1000,{"$f":"IF(ISERROR(MATCH(W228,W$3:W227,0)),W228,\"-\")","v":"-"},99999]
[226,null,0,52,null,"","",{"$f":"IF($B229>0,OFFSET(Entries!$C$2,Results!$N229,7),\"\")","v":""},{"$f":"PROPER(IF($B229>0,club(OFFSET(Entries!$I$2,Results!$N229,0)),\"\"))","v":""},{"$f":"nLocal(OFFSET(Entries!$C$2,Results!$N229,5),H229)","v":" "},{"$f":"PROPER(OFFSET(Entries!$C$2,Results!$N229,0))","v":"Finisher  Unidentified!"},"",null,{"$f":"MATCH($B229,Entries!$A$3:$A$1001,0)","v":1},0,{"$f":"IF(ISERROR(OFFSET(Results!$B$3,MATCH(Entries!A228,Results!B$4:B526,0),0)),Entries!A228,0)","v":""},null,"-",1000,{"$f":"IF(ISERROR(MATCH(R229,R$3:R228,0)),R229,\"-\")","v":"-"},{"$f":"IF(ISERROR(MATCH(S229,S$3:S228,0)),S229,\"-\")","v":"-"},99999,"-",1000,{"$f":"IF(ISERROR(MATCH(W229,W$3:W228,0)),W229,\"-\")","v":"-"},99999]
[227,null,0,52,null,"","",{"$f":"IF($B230>0,OFFSET(Entries!$C$2,Results!$N230,7),\"\")","v":""},{"$f":"PROPER(IF($B230>0,club(OFFSET(Entries!$I$2,Results!$N230,0)),\"\"))","v":""},{"$f":"nLocal(OFFSET(Entries!$C$2,Results!$N230,5),H230)","v":" "},{"$f":"PROPER(OFFSET(Entries!$C$2,Results!$N230,0))","v":"Finisher  Unidentified!"},"",null,{"$f":"MATCH($B230,Entries!$A$3:$A$1001,0)","v":1},0,{"$f":"IF(ISERROR(OFFSET(Results!$B$3,MATCH(Entries!A229,Results!B$4:B527,0),0)),Entries!A229,0)","v":""},null,"-",1000,{"$f":"IF(ISERROR(MATCH(R230,R$3:R229,0)),R230,\"-\")","v":"-"},{"$f":"IF(ISERROR(MATCH(S230,S$3:S229,0)),S230,\"-\")","v":"-"},99999,"-",1000,{"$f":"IF(ISERROR(MATCH(W230,W$3:W229,0)),W230,\"-\")","v":"-"},99999]
[228,null,0,52,null,"","",{"$f":"IF($B231>0,OFFSET(Entries!$C$2,Results!$N231,7),\"\")","v":""},{"$f":"PROPER(IF($B231>0,club(OFFSET(Entries!$I$2,Results!$N231,0)),\"\"))","v":""},{"$f":"nLocal(OFFSET(Entries!$C$2,Results!$N231,5),H231)","v":" "},{"$f":"PROPER(OFFSET(Entries!$C$2,Results!$N231,0))","v":"Finisher  Unidentified!"},"",null,{"$f":"MATCH($B231,Entries!$A$3:$A$1001,0)","v":1},0,{"$f":"IF(ISERROR(OFFSET(Results!$B$3,MATCH(Entries!A230,Results!B$4:B528,0),0)),Entries!A230,0)","v":""},null,"-",1000,{"$f":"IF(ISERROR(MATCH(R231,R$3:R230,0)),R231,\"-\")","v":"-"},{"$f":"IF(ISERROR(MATCH(S231,S$3:S230,0)),S231,\"-\")","v":"-"},99999,"-",1000,{"$f":"IF(ISERROR(MATCH(W231,W$3:W230,0)),W231,\"-\")","v":"-"},99999]
[229,null,0,52,null,"","",{"$f":"IF($B232>0,OFFSET(Entries!$C$2,Results!$N232,7),\"\")","v":""},{"$f":"PROPER(IF($B232>0,club(OFFSET(Entries!$I$2,Results!$N232,0)),\"\"))","v":""},{"$f":"nLocal(OFFSET(Entries!$C$2,Results!$N232,5),H232)","v":" "},{"$f":"PROPER(OFFSET(Entries!$C$2,Results!$N232,0))","v":"Finisher  Unidentified!"},"",null,{"$f":"MATCH($B232,Entries!$A$3:$A$1001,0)","v":1},0,{"$f":"IF(ISERROR(OFFSET(Results!$B$3,MATCH(Entries!A231,Results!B$4:B529,0),0)),Entries!A231,0)","v":""},null,"-",1000,{"$f":"IF(ISERROR(MATCH(R232,R$3:R231,0)),R232,\"-\")","v":"-"},{"$f":"IF(ISERROR(MATCH(S232,S$3:S231,0)),S232,\"-\")","v":"-"},99999,"-",1000,{"$f":"IF(ISERROR(MATCH(W232,W$3:W231,0)),W232,\"-\")","v":"-"},99999]
[230,null,0,52,null,"","",{"$f":"IF($B233>0,OFFSET(Entries!$C$2,Results!$N233,7),\"\")","v":""},{"$f":"PROPER(IF($B233>0,club(OFFSET(Entries!$I$2,Results!$N233,0)),\"\"))","v":""},{"$f":"nLocal(OFFSET(Entries!$C$2,Results!$N233,5),H233)","v":" "},{"$f":"PROPER(OFFSET(Entries!$C$2,Results!$N233,0))","v":"Finisher  Unidentified!"},"",null,{"$f":"MATCH($B233,Entries!$A$3:$A$1001,0)","v":1},0,{"$f":"IF(ISERROR(OFFSET(Results!$B$3,MATCH(Entries!A232,Results!B$4:B530,0),0)),Entries!A232,0)","v":""},null,"-",1000,{"$f":"IF(ISERROR(MATCH(R233,R$3:R232,0)),R233,\"-\")","v":"-"},{"$f":"IF(ISERROR(MATCH(S233,S$3:S232,0)),S233,\"-\")","v":"-"},99999,"-",1000,{"$f":"IF(ISERROR(MATCH(W233,W$3:W232,0)),W233,\"-\")","v":"-"},99999]
[231,null,0,52,null,"","",{"$f":"IF($B234>0,OFFSET(Entries!$C$2,Results!$N234,7),\"\")","v":""},{"$f":"PROPER(IF($B234>0,club(OFFSET(Entries!$I$2,Results!$N234,0)),\"\"))","v":""},{"$f":"nLocal(OFFSET(Entries!$C$2,Results!$N234,5),H234)","v":" "},{"$f":"PROPER(OFFSET(Entries!$C$2,Results!$N234,0))","v":"Finisher  Unidentified!"},"",null,{"$f":"MATCH($B234,Entries!$A$3:$A$1001,0)","v":1},0,{"$f":"IF(ISERROR(OFFSET(Results!$B$3,MATCH(Entries!A233,Results!B$4:B531,0),0)),Entries!A233,0)","v":""},null,"-",1000,{"$f":"IF(ISERROR(MATCH(R234,R$3:R233,0)),R234,\"-\")","v":"-"},{"$f":"IF(ISERROR(MATCH(S234,S$3:S233,0)),S234,\"-\")","v":"-"},99999,"-",1000,{"$f":"IF(ISERROR(MATCH(W234,W$3:W233,0)),W234,\"-\")","v":"-"},99999]
[232,null,0,52,null,"","",{"$f":"IF($B235>0,OFFSET(Entries!$C$2,Results!$N235,7),\"\")","v":""},{"$f":"PROPER(IF($B235>0,club(OFFSET(Entries!$I$2,Results!$N235,0)),\"\"))","v":""},{"$f":"nLocal(OFFSET(Entries!$C$2,Results!$N235,5),H235)","v":" "},{"$f":"PROPER(OFFSET(Entries!$C$2,Results!$N235,0))","v":"Finisher  Unidentified!"},"",null,{"$f":"MATCH($B235,Entries!$A$3:$A$1001,0)","v":1},0,{"$f":"IF(ISERROR(OFFSET(Results!$B$3,MATCH(Entries!A234,Results!B$4:B532,0),0)),Entries!A234,0)","v":""},null,"-",1000,{"$f":"IF(ISERROR(MATCH(R235,R$3:R234,0)),R235,\"-\")","v":"-"},{"$f":"IF(ISERROR(MATCH(S235,S$3:S234,0)),S235,\"-\")","v":"-"},99999,"-",1000,{"$f":"IF(ISERROR(MATCH(W235,W$3:W234,0)),W235,\"-\")","v":"-"},99999]
[233,null,0,52,null,"","",{"$f":"IF($B236>0,OFFSET(Entries!$C$2,Results!$N236,7),\"\")","v":""},{"$f":"PROPER(IF($B236>0,club(OFFSET(Entries!$I$2,Results!$N236,0)),\"\"))","v":""},{"$f":"nLocal(OFFSET(Entries!$C$2,Results!$N236,5),H236)","v":" "},{"$f":"PROPER(OFFSET(Entries!$C$2,Results!$N236,0))","v":"Finisher  Unidentified!"},"",null,{"$f":"MATCH($B236,Entries!$A$3:$A$1001,0)","v":1},0,{"$f":"IF(ISERROR(OFFSET(Results!$B$3,MATCH(Entries!A235,Results!B$4:B533,0),0)),Entries!A235,0)","v":""},null,"-",1000,{"$f":"IF(ISERROR(MATCH(R236,R$3:R235,0)),R236,\"-\")","v":"-"},{"$f":"IF(ISERROR(MATCH(S236,S$3:S235,0)),S236,\"-\")","v":"-"},99999,"-",1000,{"$f":"IF(ISERROR(MATCH(W236,W$3:W235,0)),W236,\"-\")","v":"-"},99999]
[234,null,0,52,null,"","",{"$f":"IF($B237>0,OFFSET(Entries!$C$2,Results!$N237,7),\"\")","v":""},{"$f":"PROPER(IF($B237>0,club(OFFSET(Entries!$I$2,Results!$N237,0)),\"\"))","v":""},{"$f":"nLocal(OFFSET(Entries!$C$2,Results!$N237,5),H237)","v":" "},{"$f":"PROPER(OFFSET(Entries!$C$2,Results!$N237,0))","v":"Finisher  Unidentified!"},"",null,{"$f":"MATCH($B237,Entries!$A$3:$A$1001,0)","v":1},0,{"$f":"IF(ISERROR(OFFSET(Results!$B$3,MATCH(Entries!A236,Results!B$4:B534,0),0)),Entries!A236,0)","v":""},null,"-",1000,{"$f":"IF(ISERROR(MATCH(R237,R$3:R236,0)),R237,\"-\")","v":"-"},{"$f":"IF(ISERROR(MATCH(S237,S$3:S236,0)),S237,\"-\")","v":"-"},99999,"-",1000,{"$f":"IF(ISERROR(MATCH(W237,W$3:W236,0)),W237,\"-\")","v":"-"},99999]
[235,null,0,52,null,"","",{"$f":"IF($B238>0,OFFSET(Entries!$C$2,Results!$N238,7),\"\")","v":""},{"$f":"PROPER(IF($B238>0,club(OFFSET(Entries!$I$2,Results!$N238,0)),\"\"))","v":""},{"$f":"nLocal(OFFSET(Entries!$C$2,Results!$N238,5),H238)","v":" "},{"$f":"PROPER(OFFSET(Entries!$C$2,Results!$N238,0))","v":"Finisher  Unidentified!"},"",null,{"$f":"MATCH($B238,Entries!$A$3:$A$1001,0)","v":1},0,{"$f":"IF(ISERROR(OFFSET(Results!$B$3,MATCH(Entries!A237,Results!B$4:B535,0),0)),Entries!A237,0)","v":""},null,"-",1000,{"$f":"IF(ISERROR(MATCH(R238,R$3:R237,0)),R238,\"-\")","v":"-"},{"$f":"IF(ISERROR(MATCH(S238,S$3:S237,0)),S238,\"-\")","v":"-"},99999,"-",1000,{"$f":"IF(ISERROR(MATCH(W238,W$3:W237,0)),W238,\"-\")","v":"-"},99999]
[236,null,0,52,null,"","",{"$f":"IF($B239>0,OFFSET(Entries!$C$2,Results!$N239,7),\"\")","v":""},{"$f":"PROPER(IF($B239>0,club(OFFSET(Entries!$I$2,Results!$N239,0)),\"\"))","v":""},{"$f":"nLocal(OFFSET(Entries!$C$2,Results!$N239,5),H239)","v":" "},{"$f":"PROPER(OFFSET(Entries!$C$2,Results!$N239,0))","v":"Finisher  Unidentified!"},"",null,{"$f":"MATCH($B239,Entries!$A$3:$A$1001,0)","v":1},0,{"$f":"IF(ISERROR(OFFSET(Results!$B$3,MATCH(Entries!A238,Results!B$4:B536,0),0)),Entries!A238,0)","v":""},null,"-",1000,{"$f":"IF(ISERROR(MATCH(R239,R$3:R238,0)),R239,\"-\")","v":"-"},{"$f":"IF(ISERROR(MATCH(S239,S$3:S238,0)),S239,\"-\")","v":"-"},99999,"-",1000,{"$f":"IF(ISERROR(MATCH(W239,W$3:W238,0)),W239,\"-\")","v":"-"},99999]
[237,null,0,52,null,"","",{"$f":"IF($B240>0,OFFSET(Entries!$C$2,Results!$N240,7),\"\")","v":""},{"$f":"PROPER(IF($B240>0,club(OFFSET(Entries!$I$2,Results!$N240,0)),\"\"))","v":""},{"$f":"nLocal(OFFSET(Entries!$C$2,Results!$N240,5),H240)","v":" "},{"$f":"PROPER(OFFSET(Entries!$C$2,Results!$N240,0))","v":"Finisher  Unidentified!"},"",null,{"$f":"MATCH($B240,Entries!$A$3:$A$1001,0)","v":1},0,{"$f":"IF(ISERROR(OFFSET(Results!$B$3,MATCH(Entries!A239,Results!B$4:B537,0),0)),Entries!A239,0)","v":""},null,"-",1000,{"$f":"IF(ISERROR(MATCH(R240,R$3:R239,0)),R240,\"-\")","v":"-"},{"$f":"IF(ISERROR(MATCH(S240,S$3:S239,0)),S240,\"-\")","v":"-"},99999,"-",1000,{"$f":"IF(ISERROR(MATCH(W240,W$3:W239,0)),W240,\"-\")","v":"-"},99999]
[238,null,0,52,null,"","",{"$f":"IF($B241>0,OFFSET(Entries!$C$2,Results!$N241,7),\"\")","v":""},{"$f":"PROPER(IF($B241>0,club(OFFSET(Entries!$I$2,Results!$N241,0)),\"\"))","v":""},{"$f":"nLocal(OFFSET(Entries!$C$2,Results!$N241,5),H241)","v":" "},{"$f":"PROPER(OFFSET(Entries!$C$2,Results!$N241,0))","v":"Finisher  Unidentified!"},"",null,{"$f":"MATCH($B241,Entries!$A$3:$A$1001,0)","v":1},0,{"$f":"IF(ISERROR(OFFSET(Results!$B$3,MATCH(Entries!A240,Results!B$4:B538,0),0)),Entries!A240,0)","v":""},null,"-",1000,{"$f":"IF(ISERROR(MATCH(R241,R$3:R240,0)),R241,\"-\")","v":"-"},{"$f":"IF(ISERROR(MATCH(S241,S$3:S240,0)),S241,\"-\")","v":"-"},99999,"-",1000,{"$f":"IF(ISERROR(MATCH(W241,W$3:W240,0)),W241,\"-\")","v":"-"},99999]
[239,null,0,52,null,"","",{"$f":"IF($B242>0,OFFSET(Entries!$C$2,Results!$N242,7),\"\")","v":""},{"$f":"PROPER(IF($B242>0,club(OFFSET(Entries!$I$2,Results!$N242,0)),\"\"))","v":""},{"$f":"nLocal(OFFSET(Entries!$C$2,Results!$N242,5),H242)","v":" "},{"$f":"PROPER(OFFSET(Entries!$C$2,Results!$N242,0))","v":"Finisher  Unidentified!"},"",null,{"$f":"MATCH($B242,Entries!$A$3:$A$1001,0)","v":1},0,{"$f":"IF(ISERROR(OFFSET(Results!$B$3,MATCH(Entries!A241,Results!B$4:B539,0),0)),Entries!A241,0)","v":""},null,"-",1000,{"$f":"IF(ISERROR(MATCH(R242,R$3:R241,0)),R242,\"-\")","v":"-"},{"$f":"IF(ISERROR(MATCH(S242,S$3:S241,0)),S242,\"-\")","v":"-"},99999,"-",1000,{"$f":"IF(ISERROR(MATCH(W242,W$3:W241,0)),W242,\"-\")","v":"-"},99999]
[240,null,0,52,null,"","",{"$f":"IF($B243>0,OFFSET(Entries!$C$2,Results!$N243,7),\"\")","v":""},{"$f":"PROPER(IF($B243>0,club(OFFSET(Entries!$I$2,Results!$N243,0)),\"\"))","v":""},{"$f":"nLocal(OFFSET(Entries!$C$2,Results!$N243,5),H243)","v":" "},{"$f":"PROPER(OFFSET(Entries!$C$2,Results!$N243,0))","v":"Finisher  Unidentified!"},"",null,{"$f":"MATCH($B243,Entries!$A$3:$A$1001,0)","v":1},0,{"$f":"IF(ISERROR(OFFSET(Results!$B$3,MATCH(Entries!A242,Results!B$4:B540,0),0)),Entries!A242,0)","v":""},null,"-",1000,{"$f":"IF(ISERROR(MATCH(R243,R$3:R242,0)),R243,\"-\")","v":"-"},{"$f":"IF(ISERROR(MATCH(S243,S$3:S242,0)),S243,\"-\")","v":"-"},99999,"-",1000,{"$f":"IF(ISERROR(MATCH(W243,W$3:W242,0)),W243,\"-\")","v":"-"},99999]
[241,null,0,52,null,"","",{"$f":"IF($B244>0,OFFSET(Entries!$C$2,Results!$N244,7),\"\")","v":""},{"$f":"PROPER(IF($B244>0,club(OFFSET(Entries!$I$2,Results!$N244,0)),\"\"))","v":""},{"$f":"nLocal(OFFSET(Entries!$C$2,Results!$N244,5),H244)","v":" "},{"$f":"PROPER(OFFSET(Entries!$C$2,Results!$N244,0))","v":"Finisher  Unidentified!"},"",null,{"$f":"MATCH($B244,Entries!$A$3:$A$1001,0)","v":1},0,{"$f":"IF(ISERROR(OFFSET(Results!$B$3,MATCH(Entries!A243,Results!B$4:B541,0),0)),Entries!A243,0)","v":""},null,"-",1000,{"$f":"IF(ISERROR(MATCH(R244,R$3:R243,0)),R244,\"-\")","v":"-"},{"$f":"IF(ISERROR(MATCH(S244,S$3:S243,0)),S244,\"-\")","v":"-"},99999,"-",1000,{"$f":"IF(ISERROR(MATCH(W244,W$3:W243,0)),W244,\"-\")","v":"-"},99999]
[242,null,0,52,null,"","",{"$f":"IF($B245>0,OFFSET(Entries!$C$2,Results!$N245,7),\"\")","v":""},{"$f":"PROPER(IF($B245>0,club(OFFSET(Entries!$I$2,Results!$N245,0)),\"\"))","v":""},{"$f":"nLocal(OFFSET(Entries!$C$2,Results!$N245,5),H245)","v":" "},{"$f":"PROPER(OFFSET(Entries!$C$2,Results!$N245,0))","v":"Finisher  Unidentified!"},"",null,{"$f":"MATCH($B245,Entries!$A$3:$A$1001,0)","v":1},0,{"$f":"IF(ISERROR(OFFSET(Results!$B$3,MATCH(Entries!A244,Results!B$4:B542,0),0)),Entries!A244,0)","v":""},null,"-",1000,{"$f":"IF(ISERROR(MATCH(R245,R$3:R244,0)),R245,\"-\")","v":"-"},{"$f":"IF(ISERROR(MATCH(S245,S$3:S244,0)),S245,\"-\")","v":"-"},99999,"-",1000,{"$f":"IF(ISERROR(MATCH(W245,W$3:W244,0)),W245,\"-\")","v":"-"},99999]
[243,null,0,52,null,"","",{"$f":"IF($B246>0,OFFSET(Entries!$C$2,Results!$N246,7),\"\")","v":""},{"$f":"PROPER(IF($B246>0,club(OFFSET(Entries!$I$2,Results!$N246,0)),\"\"))","v":""},{"$f":"nLocal(OFFSET(Entries!$C$2,Results!$N246,5),H246)","v":" "},{"$f":"PROPER(OFFSET(Entries!$C$2,Results!$N246,0))","v":"Finisher  Unidentified!"},"",null,{"$f":"MATCH($B246,Entries!$A$3:$A$1001,0)","v":1},0,{"$f":"IF(ISERROR(OFFSET(Results!$B$3,MATCH(Entries!A245,Results!B$4:B543,0),0)),Entries!A245,0)","v":""},null,"-",1000,{"$f":"IF(ISERROR(MATCH(R246,R$3:R245,0)),R246,\"-\")","v":"-"},{"$f":"IF(ISERROR(MATCH(S246,S$3:S245,0)),S246,\"-\")","v":"-"},99999,"-",1000,{"$f":"IF(ISERROR(MATCH(W246,W$3:W245,0)),W246,\"-\")","v":"-"},99999]
[244,null,0,52,null,"","",{"$f":"IF($B247>0,OFFSET(Entries!$C$2,Results!$N247,7),\"\")","v":""},{"$f":"PROPER(IF($B247>0,club(OFFSET(Entries!$I$2,Results!$N247,0)),\"\"))","v":""},{"$f":"nLocal(OFFSET(Entries!$C$2,Results!$N247,5),H247)","v":" "},{"$f":"PROPER(OFFSET(Entries!$C$2,Results!$N247,0))","v":"Finisher  Unidentified!"},"",null,{"$f":"MATCH($B247,Entries!$A$3:$A$1001,0)","v":1},0,{"$f":"IF(ISERROR(OFFSET(Results!$B$3,MATCH(Entries!A246,Results!B$4:B544,0),0)),Entries!A246,0)","v":""},null,"-",1000,{"$f":"IF(ISERROR(MATCH(R247,R$3:R246,0)),R247,\"-\")","v":"-"},{"$f":"IF(ISERROR(MATCH(S247,S$3:S246,0)),S247,\"-\")","v":"-"},99999,"-",1000,{"$f":"IF(ISERROR(MATCH(W247,W$3:W246,0)),W247,\"-\")","v":"-"},99999]
[245,null,0,52,null,"","",{"$f":"IF($B248>0,OFFSET(Entries!$C$2,Results!$N248,7),\"\")","v":""},{"$f":"PROPER(IF($B248>0,club(OFFSET(Entries!$I$2,Results!$N248,0)),\"\"))","v":""},{"$f":"nLocal(OFFSET(Entries!$C$2,Results!$N248,5),H248)","v":" "},{"$f":"PROPER(OFFSET(Entries!$C$2,Results!$N248,0))","v":"Finisher  Unidentified!"},"",null,{"$f":"MATCH($B248,Entries!$A$3:$A$1001,0)","v":1},0,{"$f":"IF(ISERROR(OFFSET(Results!$B$3,MATCH(Entries!A247,Results!B$4:B545,0),0)),Entries!A247,0)","v":""},null,"-",1000,{"$f":"IF(ISERROR(MATCH(R248,R$3:R247,0)),R248,\"-\")","v":"-"},{"$f":"IF(ISERROR(MATCH(S248,S$3:S247,0)),S248,\"-\")","v":"-"},99999,"-",1000,{"$f":"IF(ISERROR(MATCH(W248,W$3:W247,0)),W248,\"-\")","v":"-"},99999]
[246,null,0,52,null,"","",{"$f":"IF($B249>0,OFFSET(Entries!$C$2,Results!$N249,7),\"\")","v":""},{"$f":"PROPER(IF($B249>0,club(OFFSET(Entries!$I$2,Results!$N249,0)),\"\"))","v":""},{"$f":"nLocal(OFFSET(Entries!$C$2,Results!$N249,5),H249)","v":" "},{"$f":"PROPER(OFFSET(Entries!$C$2,Results!$N249,0))","v":"Finisher  Unidentified!"},"",null,{"$f":"MATCH($B249,Entries!$A$3:$A$1001,0)","v":1},0,{"$f":"IF(ISERROR(OFFSET(Results!$B$3,MATCH(Entries!A248,Results!B$4:B546,0),0)),Entries!A248,0)","v":""},null,"-",1000,{"$f":"IF(ISERROR(MATCH(R249,R$3:R248,0)),R249,\"-\")","v":"-"},{"$f":"IF(ISERROR(MATCH(S249,S$3:S248,0)),S249,\"-\")","v":"-"},99999,"-",1000,{"$f":"IF(ISERROR(MATCH(W249,W$3:W248,0)),W249,\"-\")","v":"-"},99999]
[247,null,0,52,null,"","",{"$f":"IF($B250>0,OFFSET(Entries!$C$2,Results!$N250,7),\"\")","v":""},{"$f":"PROPER(IF($B250>0,club(OFFSET(Entries!$I$2,Results!$N250,0)),\"\"))","v":""},{"$f":"nLocal(OFFSET(Entries!$C$2,Results!$N250,5),H250)","v":" "},{"$f":"PROPER(OFFSET(Entries!$C$2,Results!$N250,0))","v":"Finisher  Unidentified!"},"",null,{"$f":"MATCH($B250,Entries!$A$3:$A$1001,0)","v":1},0,{"$f":"IF(ISERROR(OFFSET(Results!$B$3,MATCH(Entries!A249,Results!B$4:B547,0),0)),Entries!A249,0)","v":""},null,"-",1000,{"$f":"IF(ISERROR(MATCH(R250,R$3:R249,0)),R250,\"-\")","v":"-"},{"$f":"IF(ISERROR(MATCH(S250,S$3:S249,0)),S250,\"-\")","v":"-"},99999,"-",1000,{"$f":"IF(ISERROR(MATCH(W250,W$3:W249,0)),W250,\"-\")","v":"-"},99999]
[248,null,0,52,null,"","",{"$f":"IF($B251>0,OFFSET(Entries!$C$2,Results!$N251,7),\"\")","v":""},{"$f":"PROPER(IF($B251>0,club(OFFSET(Entries!$I$2,Results!$N251,0)),\"\"))","v":""},{"$f":"nLocal(OFFSET(Entries!$C$2,Results!$N251,5),H251)","v":" "},{"$f":"PROPER(OFFSET(Entries!$C$2,Results!$N251,0))","v":"Finisher  Unidentified!"},"",null,{"$f":"MATCH($B251,Entries!$A$3:$A$1001,0)","v":1},0,{"$f":"IF(ISERROR(OFFSET(Results!$B$3,MATCH(Entries!A250,Results!B$4:B548,0),0)),Entries!A250,0)","v":""},null,"-",1000,{"$f":"IF(ISERROR(MATCH(R251,R$3:R250,0)),R251,\"-\")","v":"-"},{"$f":"IF(ISERROR(MATCH(S251,S$3:S250,0)),S251,\"-\")","v":"-"},99999,"-",1000,{"$f":"IF(ISERROR(MATCH(W251,W$3:W250,0)),W251,\"-\")","v":"-"},99999]
[249,null,0,52,null,"","",{"$f":"IF($B252>0,OFFSET(Entries!$C$2,Results!$N252,7),\"\")","v":""},{"$f":"PROPER(IF($B252>0,club(OFFSET(Entries!$I$2,Results!$N252,0)),\"\"))","v":""},{"$f":"nLocal(OFFSET(Entries!$C$2,Results!$N252,5),H252)","v":" "},{"$f":"PROPER(OFFSET(Entries!$C$2,Results!$N252,0))","v":"Finisher  Unidentified!"},"",null,{"$f":"MATCH($B252,Entries!$A$3:$A$1001,0)","v":1},0,{"$f":"IF(ISERROR(OFFSET(Results!$B$3,MATCH(Entries!A251,Results!B$4:B549,0),0)),Entries!A251,0)","v":""},null,"-",1000,{"$f":"IF(ISERROR(MATCH(R252,R$3:R251,0)),R252,\"-\")","v":"-"},{"$f":"IF(ISERROR(MATCH(S252,S$3:S251,0)),S252,\"-\")","v":"-"},99999,"-",1000,{"$f":"IF(ISERROR(MATCH(W252,W$3:W251,0)),W252,\"-\")","v":"-"},99999]
[250,null,0,52,null,"","",{"$f":"IF($B253>0,OFFSET(Entries!$C$2,Results!$N253,7),\"\")","v":""},{"$f":"PROPER(IF($B253>0,club(OFFSET(Entries!$I$2,Results!$N253,0)),\"\"))","v":""},{"$f":"nLocal(OFFSET(Entries!$C$2,Results!$N253,5),H253)","v":" "},{"$f":"PROPER(OFFSET(Entries!$C$2,Results!$N253,0))","v":"Finisher  Unidentified!"},"",null,{"$f":"MATCH($B253,Entries!$A$3:$A$1001,0)","v":1},0,{"$f":"IF(ISERROR(OFFSET(Results!$B$3,MATCH(Entries!A252,Results!B$4:B550,0),0)),Entries!A252,0)","v":""},null,"-",1000,{"$f":"IF(ISERROR(MATCH(R253,R$3:R252,0)),R253,\"-\")","v":"-"},{"$f":"IF(ISERROR(MATCH(S253,S$3:S252,0)),S253,\"-\")","v":"-"},99999,"-",1000,{"$f":"IF(ISERROR(MATCH(W253,W$3:W252,0)),W253,\"-\")","v":"-"},99999]
[251,null,0,52,null,"","",{"$f":"IF($B254>0,OFFSET(Entries!$C$2,Results!$N254,7),\"\")","v":""},{"$f":"PROPER(IF($B254>0,club(OFFSET(Entries!$I$2,Results!$N254,0)),\"\"))","v":""},{"$f":"nLocal(OFFSET(Entries!$C$2,Results!$N254,5),H254)","v":" "},{"$f":"PROPER(OFFSET(Entries!$C$2,Results!$N254,0))","v":"Finisher  Unidentified!"},"",null,{"$f":"MATCH($B254,Entries!$A$3:$A$1001,0)","v":1},0,{"$f":"IF(ISERROR(OFFSET(Results!$B$3,MATCH(Entries!A253,Results!B$4:B551,0),0)),Entries!A253,0)","v":""},null,"-",1000,{"$f":"IF(ISERROR(MATCH(R254,R$3:R253,0)),R254,\"-\")","v":"-"},{"$f":"IF(ISERROR(MATCH(S254,S$3:S253,0)),S254,\"-\")","v":"-"},99999,"-",1000,{"$f":"IF(ISERROR(MATCH(W254,W$3:W253,0)),W254,\"-\")","v":"-"},99999]
[252,null,0,52,null,"","",{"$f":"IF($B255>0,OFFSET(Entries!$C$2,Results!$N255,7),\"\")","v":""},{"$f":"PROPER(IF($B255>0,club(OFFSET(Entries!$I$2,Results!$N255,0)),\"\"))","v":""},{"$f":"nLocal(OFFSET(Entries!$C$2,Results!$N255,5),H255)","v":" "},{"$f":"PROPER(OFFSET(Entries!$C$2,Results!$N255,0))","v":"Finisher  Unidentified!"},"",null,{"$f":"MATCH($B255,Entries!$A$3:$A$1001,0)","v":1},0,{"$f":"IF(ISERROR(OFFSET(Results!$B$3,MATCH(Entries!A254,Results!B$4:B552,0),0)),Entries!A254,0)","v":""},null,"-",1000,{"$f":"IF(ISERROR(MATCH(R255,R$3:R254,0)),R255,\"-\")","v":"-"},{"$f":"IF(ISERROR(MATCH(S255,S$3:S254,0)),S255,\"-\")","v":"-"},99999,"-",1000,{"$f":"IF(ISERROR(MATCH(W255,W$3:W254,0)),W255,\"-\")","v":"-"},99999]
[253,null,0,52,null,"","",{"$f":"IF($B256>0,OFFSET(Entries!$C$2,Results!$N256,7),\"\")","v":""},{"$f":"PROPER(IF($B256>0,club(OFFSET(Entries!$I$2,Results!$N256,0)),\"\"))","v":""},{"$f":"nLocal(OFFSET(Entries!$C$2,Results!$N256,5),H256)","v":" "},{"$f":"PROPER(OFFSET(Entries!$C$2,Results!$N256,0))","v":"Finisher  Unidentified!"},"",null,{"$f":"MATCH($B256,Entries!$A$3:$A$1001,0)","v":1},0,{"$f":"IF(ISERROR(OFFSET(Results!$B$3,MATCH(Entries!A255,Results!B$4:B553,0),0)),Entries!A255,0)","v":""},null,"-",1000,{"$f":"IF(ISERROR(MATCH(R256,R$3:R255,0)),R256,\"-\")","v":"-"},{"$f":"IF(ISERROR(MATCH(S256,S$3:S255,0)),S256,\"-\")","v":"-"},99999,"-",1000,{"$f":"IF(ISERROR(MATCH(W256,W$3:W255,0)),W256,\"-\")","v":"-"},99999]
[254,null,0,52,null,"","",{"$f":"IF($B257>0,OFFSET(Entries!$C$2,Results!$N257,7),\"\")","v":""},{"$f":"PROPER(IF($B257>0,club(OFFSET(Entries!$I$2,Results!$N257,0)),\"\"))","v":""},{"$f":"nLocal(OFFSET(Entries!$C$2,Results!$N257,5),H257)","v":" "},{"$f":"PROPER(OFFSET(Entries!$C$2,Results!$N257,0))","v":"Finisher  Unidentified!"},"",null,{"$f":"MATCH($B257,Entries!$A$3:$A$1001,0)","v":1},0,{"$f":"IF(ISERROR(OFFSET(Results!$B$3,MATCH(Entries!A256,Results!B$4:B554,0),0)),Entries!A256,0)","v":""},null,"-",1000,{"$f":"IF(ISERROR(MATCH(R257,R$3:R256,0)),R257,\"-\")","v":"-"},{"$f":"IF(ISERROR(MATCH(S257,S$3:S256,0)),S257,\"-\")","v":"-"},99999,"-",1000,{"$f":"IF(ISERROR(MATCH(W257,W$3:W256,0)),W257,\"-\")","v":"-"},99999]
[255,null,0,52,null,"","",{"$f":"IF($B258>0,OFFSET(Entries!$C$2,Results!$N258,7),\"\")","v":""},{"$f":"PROPER(IF($B258>0,club(OFFSET(Entries!$I$2,Results!$N258,0)),\"\"))","v":""},{"$f":"nLocal(OFFSET(Entries!$C$2,Results!$N258,5),H258)","v":" "},{"$f":"PROPER(OFFSET(Entries!$C$2,Results!$N258,0))","v":"Finisher  Unidentified!"},"",null,{"$f":"MATCH($B258,Entries!$A$3:$A$1001,0)","v":1},0,{"$f":"IF(ISERROR(OFFSET(Results!$B$3,MATCH(Entries!A257,Results!B$4:B555,0),0)),Entries!A257,0)","v":""},null,"-",1000,{"$f":"IF(ISERROR(MATCH(R258,R$3:R257,0)),R258,\"-\")","v":"-"},{"$f":"IF(ISERROR(MATCH(S258,S$3:S257,0)),S258,\"-\")","v":"-"},99999,"-",1000,{"$f":"IF(ISERROR(MATCH(W258,W$3:W257,0)),W258,\"-\")","v":"-"},99999]
[256,null,0,52,null,"","",{"$f":"IF($B259>0,OFFSET(Entries!$C$2,Results!$N259,7),\"\")","v":""},{"$f":"PROPER(IF($B259>0,club(OFFSET(Entries!$I$2,Results!$N259,0)),\"\"))","v":""},{"$f":"nLocal(OFFSET(Entries!$C$2,Results!$N259,5),H259)","v":" "},{"$f":"PROPER(OFFSET(Entries!$C$2,Results!$N259,0))","v":"Finisher  Unidentified!"},"",null,{"$f":"MATCH($B259,Entries!$A$3:$A$1001,0)","v":1},0,{"$f":"IF(ISERROR(OFFSET(Results!$B$3,MATCH(Entries!A258,Results!B$4:B556,0),0)),Entries!A258,0)","v":""},null,"-",1000,{"$f":"IF(ISERROR(MATCH(R259,R$3:R258,0)),R259,\"-\")","v":"-"},{"$f":"IF(ISERROR(MATCH(S259,S$3:S258,0)),S259,\"-\")","v":"-"},99999,"-",1000,{"$f":"IF(ISERROR(MATCH(W259,W$3:W258,0)),W259,\"-\")","v":"-"},99999]
[257,null,0,52,null,"","",{"$f":"IF($B260>0,OFFSET(Entries!$C$2,Results!$N260,7),\"\")","v":""},{"$f":"PROPER(IF($B260>0,club(OFFSET(Entries!$I$2,Results!$N260,0)),\"\"))","v":""},{"$f":"nLocal(OFFSET(Entries!$C$2,Results!$N260,5),H260)","v":" "},{"$f":"PROPER(OFFSET(Entries!$C$2,Results!$N260,0))","v":"Finisher  Unidentified!"},"",null,{"$f":"MATCH($B260,Entries!$A$3:$A$1001,0)","v":1},0,{"$f":"IF(ISERROR(OFFSET(Results!$B$3,MATCH(Entries!A259,Results!B$4:B557,0),0)),Entries!A259,0)","v":""},null,"-",1000,{"$f":"IF(ISERROR(MATCH(R260,R$3:R259,0)),R260,\"-\")","v":"-"},{"$f":"IF(ISERROR(MATCH(S260,S$3:S259,0)),S260,\"-\")","v":"-"},99999,"-",1000,{"$f":"IF(ISERROR(MATCH(W260,W$3:W259,0)),W260,\"-\")","v":"-"},99999]
[258,null,0,52,null,"","",{"$f":"IF($B261>0,OFFSET(Entries!$C$2,Results!$N261,7),\"\")","v":""},{"$f":"PROPER(IF($B261>0,club(OFFSET(Entries!$I$2,Results!$N261,0)),\"\"))","v":""},{"$f":"nLocal(OFFSET(Entries!$C$2,Results!$N261,5),H261)","v":" "},{"$f":"PROPER(OFFSET(Entries!$C$2,Results!$N261,0))","v":"Finisher  Unidentified!"},"",null,{"$f":"MATCH($B261,Entries!$A$3:$A$1001,0)","v":1},0,{"$f":"IF(ISERROR(OFFSET(Results!$B$3,MATCH(Entries!A260,Results!B$4:B558,0),0)),Entries!A260,0)","v":""},null,"-",1000,{"$f":"IF(ISERROR(MATCH(R261,R$3:R260,0)),R261,\"-\")","v":"-"},{"$f":"IF(ISERROR(MATCH(S261,S$3:S260,0)),S261,\"-\")","v":"-"},99999,"-",1000,{"$f":"IF(ISERROR(MATCH(W261,W$3:W260,0)),W261,\"-\")","v":"-"},99999]
[{"$f":"A261+1","v":259},null,0,52,null,"","",{"$f":"IF($B262>0,OFFSET(Entries!$C$2,Results!$N262,7),\"\")","v":""},{"$f":"PROPER(IF($B262>0,club(OFFSET(Entries!$I$2,Results!$N262,0)),\"\"))","v":""},{"$f":"nLocal(OFFSET(Entries!$C$2,Results!$N262,5),H262)","v":" "},{"$f":"PROPER(OFFSET(Entries!$C$2,Results!$N262,0))","v":"Finisher  Unidentified!"},"",null,{"$f":"MATCH($B262,Entries!$A$3:$A$1001,0)","v":1},{"$f":"IF(LEN(H262)>2,RIGHT(H262,2),0)","v":0},{"$f":"IF(ISERROR(OFFSET(Results!$B$3,MATCH(Entries!A261,Results!B$4:B559,0),0)),Entries!A261,0)","v":""},null,"-",1000,{"$f":"IF(ISERROR(MATCH(R262,R$3:R261,0)),R262,\"-\")","v":"-"},{"$f":"IF(ISERROR(MATCH(S262,S$3:S261,0)),S262,\"-\")","v":"-"},99999,"-",1000,{"$f":"IF(ISERROR(MATCH(W262,W$3:W261,0)),W262,\"-\")","v":"-"},99999]
[260,null,0,52,null,"","",{"$f":"IF($B263>0,OFFSET(Entries!$C$2,Results!$N263,7),\"\")","v":""},{"$f":"PROPER(IF($B263>0,club(OFFSET(Entries!$I$2,Results!$N263,0)),\"\"))","v":""},{"$f":"nLocal(OFFSET(Entries!$C$2,Results!$N263,5),H263)","v":" "},{"$f":"PROPER(OFFSET(Entries!$C$2,Results!$N263,0))","v":"Finisher  Unidentified!"},"",null,{"$f":"MATCH($B263,Entries!$A$3:$A$1001,0)","v":1},0,{"$f":"IF(ISERROR(OFFSET(Results!$B$3,MATCH(Entries!A262,Results!B$4:B560,0),0)),Entries!A262,0)","v":""},null,"-",1000,{"$f":"IF(ISERROR(MATCH(R263,R$3:R262,0)),R263,\"-\")","v":"-"},{"$f":"IF(ISERROR(MATCH(S263,S$3:S262,0)),S263,\"-\")","v":"-"},99999,"-",1000,{"$f":"IF(ISERROR(MATCH(W263,W$3:W262,0)),W263,\"-\")","v":"-"},99999]
[261,null,0,52,null,"","",{"$f":"IF($B264>0,OFFSET(Entries!$C$2,Results!$N264,7),\"\")","v":""},{"$f":"PROPER(IF($B264>0,club(OFFSET(Entries!$I$2,Results!$N264,0)),\"\"))","v":""},{"$f":"nLocal(OFFSET(Entries!$C$2,Results!$N264,5),H264)","v":" "},{"$f":"PROPER(OFFSET(Entries!$C$2,Results!$N264,0))","v":"Finisher  Unidentified!"},"",null,{"$f":"MATCH($B264,Entries!$A$3:$A$1001,0)","v":1},0,{"$f":"IF(ISERROR(OFFSET(Results!$B$3,MATCH(Entries!A263,Results!B$4:B561,0),0)),Entries!A263,0)","v":""},null,"-",1000,{"$f":"IF(ISERROR(MATCH(R264,R$3:R263,0)),R264,\"-\")","v":"-"},{"$f":"IF(ISERROR(MATCH(S264,S$3:S263,0)),S264,\"-\")","v":"-"},99999,"-",1000,{"$f":"IF(ISERROR(MATCH(W264,W$3:W263,0)),W264,\"-\")","v":"-"},99999]
[262,null,0,52,null,"","",{"$f":"IF($B265>0,OFFSET(Entries!$C$2,Results!$N265,7),\"\")","v":""},{"$f":"PROPER(IF($B265>0,club(OFFSET(Entries!$I$2,Results!$N265,0)),\"\"))","v":""},{"$f":"nLocal(OFFSET(Entries!$C$2,Results!$N265,5),H265)","v":" "},{"$f":"PROPER(OFFSET(Entries!$C$2,Results!$N265,0))","v":"Finisher  Unidentified!"},"",null,{"$f":"MATCH($B265,Entries!$A$3:$A$1001,0)","v":1},0,{"$f":"IF(ISERROR(OFFSET(Results!$B$3,MATCH(Entries!A264,Results!B$4:B562,0),0)),Entries!A264,0)","v":""},null,{"$f":"IF(LEN(H265)>2,I265,\"-\")","v":"-"},{"$f":"IF(R265<>\"-\",ROW()-3,1000)","v":1000},{"$f":"IF(ISERROR(MATCH(R265,R$3:R264,0)),R265,\"-\")","v":"-"},{"$f":"IF(ISERROR(MATCH(S265,S$3:S264,0)),S265,\"-\")","v":"-"},{"$f":"IF(U265<>\"-\",(ROW()-3)*1,99999)","v":99999},"-",1000,{"$f":"IF(ISERROR(MATCH(W265,W$3:W264,0)),W265,\"-\")","v":"-"},99999]
[263,null,0,52,null,"","",{"$f":"IF($B266>0,OFFSET(Entries!$C$2,Results!$N266,7),\"\")","v":""},{"$f":"PROPER(IF($B266>0,club(OFFSET(Entries!$I$2,Results!$N266,0)),\"\"))","v":""},{"$f":"nLocal(OFFSET(Entries!$C$2,Results!$N266,5),H266)","v":" "},{"$f":"PROPER(OFFSET(Entries!$C$2,Results!$N266,0))","v":"Finisher  Unidentified!"},"",null,{"$f":"MATCH($B266,Entries!$A$3:$A$1001,0)","v":1},0,{"$f":"IF(ISERROR(OFFSET(Results!$B$3,MATCH(Entries!A265,Results!B$4:B563,0),0)),Entries!A265,0)","v":""},null,"-",1000,{"$f":"IF(ISERROR(MATCH(R266,R$3:R265,0)),R266,\"-\")","v":"-"},{"$f":"IF(ISERROR(MATCH(S266,S$3:S265,0)),S266,\"-\")","v":"-"},99999,"-",1000,{"$f":"IF(ISERROR(MATCH(W266,W$3:W265,0)),W266,\"-\")","v":"-"},99999]
[264,null,{"$f":"IF(D267>=D266,C266,C266+1)","v":0},{"$f":"IF(E267>=E266,D266,D266+1)","v":52},null,{"$f":"IF(AND($B267>=0,LEN(H267)=2),K267,\"\")","v":""},{"$f":"IF(AND($B267>=0,MID(H267,2,1)=\"V\"),K267,\"\")","v":""},{"$f":"IF($B267>0,OFFSET(Entries!$C$2,Results!$N267,7),\"\")","v":""},{"$f":"PROPER(IF($B267>0,club(OFFSET(Entries!$I$2,Results!$N267,0)),\"\"))","v":""},{"$f":"nLocal(OFFSET(Entries!$C$2,Results!$N267,5),H267)","v":" "},{"$f":"PROPER(OFFSET(Entries!$C$2,Results!$N267,0))","v":"Finisher  Unidentified!"},{"$f":"LEFT(H267,1)&VetCat5(H267)","v":""},null,{"$f":"MATCH($B267,Entries!$A$3:$A$1001,0)","v":1},0,{"$f":"IF(ISERROR(OFFSET(Results!$B$3,MATCH(Entries!A266,Results!B$4:B564,0),0)),Entries!A266,0)","v":""},null,"-",1000,{"$f":"IF(ISERROR(MATCH(R267,R$3:R266,0)),R267,\"-\")","v":"-"},{"$f":"IF(ISERROR(MATCH(S267,S$3:S266,0)),S267,\"-\")","v":"-"},99999,{"$f":"IF(LEFT(H267,1)=\"F\",I267,\"-\")","v":"-"},{"$f":"IF(W267<>\"-\",ROW()-3,1000)","v":1000},{"$f":"IF(ISERROR(MATCH(W267,W$3:W266,0)),W267,\"-\")","v":"-"},{"$f":"IF(Y267<>\"-\",(ROW()-3)*1,99999)","v":99999}]
[265,null,0,52,null,"","",{"$f":"IF($B268>0,OFFSET(Entries!$C$2,Results!$N268,7),\"\")","v":""},{"$f":"PROPER(IF($B268>0,club(OFFSET(Entries!$I$2,Results!$N268,0)),\"\"))","v":""},{"$f":"nLocal(OFFSET(Entries!$C$2,Results!$N268,5),H268)","v":" "},{"$f":"PROPER(OFFSET(Entries!$C$2,Results!$N268,0))","v":"Finisher  Unidentified!"},"",null,{"$f":"MATCH($B268,Entries!$A$3:$A$1001,0)","v":1},0,{"$f":"IF(ISERROR(OFFSET(Results!$B$3,MATCH(Entries!A267,Results!B$4:B565,0),0)),Entries!A267,0)","v":""},null,"-",1000,{"$f":"IF(ISERROR(MATCH(R268,R$3:R267,0)),R268,\"-\")","v":"-"},{"$f":"IF(ISERROR(MATCH(S268,S$3:S267,0)),S268,\"-\")","v":"-"},99999,"-",1000,{"$f":"IF(ISERROR(MATCH(W268,W$3:W267,0)),W268,\"-\")","v":"-"},99999]
[266,null,0,52,null,"","",{"$f":"IF($B269>0,OFFSET(Entries!$C$2,Results!$N269,7),\"\")","v":""},{"$f":"PROPER(IF($B269>0,club(OFFSET(Entries!$I$2,Results!$N269,0)),\"\"))","v":""},{"$f":"nLocal(OFFSET(Entries!$C$2,Results!$N269,5),H269)","v":" "},{"$f":"PROPER(OFFSET(Entries!$C$2,Results!$N269,0))","v":"Finisher  Unidentified!"},"",null,{"$f":"MATCH($B269,Entries!$A$3:$A$1001,0)","v":1},0,{"$f":"IF(ISERROR(OFFSET(Results!$B$3,MATCH(Entries!A268,Results!B$4:B566,0),0)),Entries!A268,0)","v":""},null,"-",1000,{"$f":"IF(ISERROR(MATCH(R269,R$3:R268,0)),R269,\"-\")","v":"-"},{"$f":"IF(ISERROR(MATCH(S269,S$3:S268,0)),S269,\"-\")","v":"-"},99999,"-",1000,{"$f":"IF(ISERROR(MATCH(W269,W$3:W268,0)),W269,\"-\")","v":"-"},99999]
[267,null,0,52,null,"","",{"$f":"IF($B270>0,OFFSET(Entries!$C$2,Results!$N270,7),\"\")","v":""},{"$f":"PROPER(IF($B270>0,club(OFFSET(Entries!$I$2,Results!$N270,0)),\"\"))","v":""},{"$f":"nLocal(OFFSET(Entries!$C$2,Results!$N270,5),H270)","v":" "},{"$f":"PROPER(OFFSET(Entries!$C$2,Results!$N270,0))","v":"Finisher  Unidentified!"},"",null,{"$f":"MATCH($B270,Entries!$A$3:$A$1001,0)","v":1},0,{"$f":"IF(ISERROR(OFFSET(Results!$B$3,MATCH(Entries!A269,Results!B$4:B567,0),0)),Entries!A269,0)","v":""},null,"-",1000,{"$f":"IF(ISERROR(MATCH(R270,R$3:R269,0)),R270,\"-\")","v":"-"},{"$f":"IF(ISERROR(MATCH(S270,S$3:S269,0)),S270,\"-\")","v":"-"},99999,"-",1000,{"$f":"IF(ISERROR(MATCH(W270,W$3:W269,0)),W270,\"-\")","v":"-"},99999]
[268,null,0,52,null,"","",{"$f":"IF($B271>0,OFFSET(Entries!$C$2,Results!$N271,7),\"\")","v":""},{"$f":"PROPER(IF($B271>0,club(OFFSET(Entries!$I$2,Results!$N271,0)),\"\"))","v":""},{"$f":"nLocal(OFFSET(Entries!$C$2,Results!$N271,5),H271)","v":" "},{"$f":"PROPER(OFFSET(Entries!$C$2,Results!$N271,0))","v":"Finisher  Unidentified!"},"",null,{"$f":"MATCH($B271,Entries!$A$3:$A$1001,0)","v":1},0,{"$f":"IF(ISERROR(OFFSET(Results!$B$3,MATCH(Entries!A270,Results!B$4:B568,0),0)),Entries!A270,0)","v":""},null,"-",1000,{"$f":"IF(ISERROR(MATCH(R271,R$3:R270,0)),R271,\"-\")","v":"-"},{"$f":"IF(ISERROR(MATCH(S271,S$3:S270,0)),S271,\"-\")","v":"-"},99999,"-",1000,{"$f":"IF(ISERROR(MATCH(W271,W$3:W270,0)),W271,\"-\")","v":"-"},99999]
[269,null,0,52,null,"","",{"$f":"IF($B272>0,OFFSET(Entries!$C$2,Results!$N272,7),\"\")","v":""},{"$f":"PROPER(IF($B272>0,club(OFFSET(Entries!$I$2,Results!$N272,0)),\"\"))","v":""},{"$f":"nLocal(OFFSET(Entries!$C$2,Results!$N272,5),H272)","v":" "},{"$f":"PROPER(OFFSET(Entries!$C$2,Results!$N272,0))","v":"Finisher  Unidentified!"},"",null,{"$f":"MATCH($B272,Entries!$A$3:$A$1001,0)","v":1},0,{"$f":"IF(ISERROR(OFFSET(Results!$B$3,MATCH(Entries!A271,Results!B$4:B569,0),0)),Entries!A271,0)","v":""},null,"-",1000,{"$f":"IF(ISERROR(MATCH(R272,R$3:R271,0)),R272,\"-\")","v":"-"},{"$f":"IF(ISERROR(MATCH(S272,S$3:S271,0)),S272,\"-\")","v":"-"},99999,"-",1000,{"$f":"IF(ISERROR(MATCH(W272,W$3:W271,0)),W272,\"-\")","v":"-"},99999]
[270,null,0,52,null,"","",{"$f":"IF($B273>0,OFFSET(Entries!$C$2,Results!$N273,7),\"\")","v":""},{"$f":"PROPER(IF($B273>0,club(OFFSET(Entries!$I$2,Results!$N273,0)),\"\"))","v":""},{"$f":"nLocal(OFFSET(Entries!$C$2,Results!$N273,5),H273)","v":" "},{"$f":"PROPER(OFFSET(Entries!$C$2,Results!$N273,0))","v":"Finisher  Unidentified!"},"",null,{"$f":"MATCH($B273,Entries!$A$3:$A$1001,0)","v":1},0,{"$f":"IF(ISERROR(OFFSET(Results!$B$3,MATCH(Entries!A272,Results!B$4:B570,0),0)),Entries!A272,0)","v":""},null,"-",1000,{"$f":"IF(ISERROR(MATCH(R273,R$3:R272,0)),R273,\"-\")","v":"-"},{"$f":"IF(ISERROR(MATCH(S273,S$3:S272,0)),S273,\"-\")","v":"-"},99999,"-",1000,{"$f":"IF(ISERROR(MATCH(W273,W$3:W272,0)),W273,\"-\")","v":"-"},99999]
[271,null,0,52,null,"","",{"$f":"IF($B274>0,OFFSET(Entries!$C$2,Results!$N274,7),\"\")","v":""},{"$f":"PROPER(IF($B274>0,club(OFFSET(Entries!$I$2,Results!$N274,0)),\"\"))","v":""},{"$f":"nLocal(OFFSET(Entries!$C$2,Results!$N274,5),H274)","v":" "},{"$f":"PROPER(OFFSET(Entries!$C$2,Results!$N274,0))","v":"Finisher  Unidentified!"},"",null,{"$f":"MATCH($B274,Entries!$A$3:$A$1001,0)","v":1},0,{"$f":"IF(ISERROR(OFFSET(Results!$B$3,MATCH(Entries!A273,Results!B$4:B571,0),0)),Entries!A273,0)","v":""},null,"-",1000,{"$f":"IF(ISERROR(MATCH(R274,R$3:R273,0)),R274,\"-\")","v":"-"},{"$f":"IF(ISERROR(MATCH(S274,S$3:S273,0)),S274,\"-\")","v":"-"},99999,"-",1000,{"$f":"IF(ISERROR(MATCH(W274,W$3:W273,0)),W274,\"-\")","v":"-"},99999]
[272,null,0,52,null,"","",{"$f":"IF($B275>0,OFFSET(Entries!$C$2,Results!$N275,7),\"\")","v":""},{"$f":"PROPER(IF($B275>0,club(OFFSET(Entries!$I$2,Results!$N275,0)),\"\"))","v":""},{"$f":"nLocal(OFFSET(Entries!$C$2,Results!$N275,5),H275)","v":" "},{"$f":"PROPER(OFFSET(Entries!$C$2,Results!$N275,0))","v":"Finisher  Unidentified!"},"",null,{"$f":"MATCH($B275,Entries!$A$3:$A$1001,0)","v":1},0,{"$f":"IF(ISERROR(OFFSET(Results!$B$3,MATCH(Entries!A274,Results!B$4:B572,0),0)),Entries!A274,0)","v":""},null,"-",1000,{"$f":"IF(ISERROR(MATCH(R275,R$3:R274,0)),R275,\"-\")","v":"-"},{"$f":"IF(ISERROR(MATCH(S275,S$3:S274,0)),S275,\"-\")","v":"-"},99999,"-",1000,{"$f":"IF(ISERROR(MATCH(W275,W$3:W274,0)),W275,\"-\")","v":"-"},99999]
[273,null,0,52,null,"","",{"$f":"IF($B276>0,OFFSET(Entries!$C$2,Results!$N276,7),\"\")","v":""},{"$f":"PROPER(IF($B276>0,club(OFFSET(Entries!$I$2,Results!$N276,0)),\"\"))","v":""},{"$f":"nLocal(OFFSET(Entries!$C$2,Results!$N276,5),H276)","v":" "},{"$f":"PROPER(OFFSET(Entries!$C$2,Results!$N276,0))","v":"Finisher  Unidentified!"},"",null,{"$f":"MATCH($B276,Entries!$A$3:$A$1001,0)","v":1},0,{"$f":"IF(ISERROR(OFFSET(Results!$B$3,MATCH(Entries!A275,Results!B$4:B573,0),0)),Entries!A275,0)","v":""},null,"-",1000,{"$f":"IF(ISERROR(MATCH(R276,R$3:R275,0)),R276,\"-\")","v":"-"},{"$f":"IF(ISERROR(MATCH(S276,S$3:S275,0)),S276,\"-\")","v":"-"},99999,"-",1000,{"$f":"IF(ISERROR(MATCH(W276,W$3:W275,0)),W276,\"-\")","v":"-"},99999]
[274,null,0,52,null,"","",{"$f":"IF($B277>0,OFFSET(Entries!$C$2,Results!$N277,7),\"\")","v":""},{"$f":"PROPER(IF($B277>0,club(OFFSET(Entries!$I$2,Results!$N277,0)),\"\"))","v":""},{"$f":"nLocal(OFFSET(Entries!$C$2,Results!$N277,5),H277)","v":" "},{"$f":"PROPER(OFFSET(Entries!$C$2,Results!$N277,0))","v":"Finisher  Unidentified!"},"",null,{"$f":"MATCH($B277,Entries!$A$3:$A$1001,0)","v":1},0,{"$f":"IF(ISERROR(OFFSET(Results!$B$3,MATCH(Entries!A276,Results!B$4:B574,0),0)),Entries!A276,0)","v":""},null,"-",1000,{"$f":"IF(ISERROR(MATCH(R277,R$3:R276,0)),R277,\"-\")","v":"-"},{"$f":"IF(ISERROR(MATCH(S277,S$3:S276,0)),S277,\"-\")","v":"-"},99999,"-",1000,{"$f":"IF(ISERROR(MATCH(W277,W$3:W276,0)),W277,\"-\")","v":"-"},99999]
[275,null,0,52,null,"","",{"$f":"IF($B278>0,OFFSET(Entries!$C$2,Results!$N278,7),\"\")","v":""},{"$f":"PROPER(IF($B278>0,club(OFFSET(Entries!$I$2,Results!$N278,0)),\"\"))","v":""},{"$f":"nLocal(OFFSET(Entries!$C$2,Results!$N278,5),H278)","v":" "},{"$f":"PROPER(OFFSET(Entries!$C$2,Results!$N278,0))","v":"Finisher  Unidentified!"},"",null,{"$f":"MATCH($B278,Entries!$A$3:$A$1001,0)","v":1},0,{"$f":"IF(ISERROR(OFFSET(Results!$B$3,MATCH(Entries!A277,Results!B$4:B575,0),0)),Entries!A277,0)","v":""},null,"-",1000,{"$f":"IF(ISERROR(MATCH(R278,R$3:R277,0)),R278,\"-\")","v":"-"},{"$f":"IF(ISERROR(MATCH(S278,S$3:S277,0)),S278,\"-\")","v":"-"},99999,"-",1000,{"$f":"IF(ISERROR(MATCH(W278,W$3:W277,0)),W278,\"-\")","v":"-"},99999]
[276,null,0,52,null,"","",{"$f":"IF($B279>0,OFFSET(Entries!$C$2,Results!$N279,7),\"\")","v":""},{"$f":"PROPER(IF($B279>0,club(OFFSET(Entries!$I$2,Results!$N279,0)),\"\"))","v":""},{"$f":"nLocal(OFFSET(Entries!$C$2,Results!$N279,5),H279)","v":" "},{"$f":"PROPER(OFFSET(Entries!$C$2,Results!$N279,0))","v":"Finisher  Unidentified!"},"",null,{"$f":"MATCH($B279,Entries!$A$3:$A$1001,0)","v":1},0,{"$f":"IF(ISERROR(OFFSET(Results!$B$3,MATCH(Entries!A278,Results!B$4:B576,0),0)),Entries!A278,0)","v":""},null,"-",1000,{"$f":"IF(ISERROR(MATCH(R279,R$3:R278,0)),R279,\"-\")","v":"-"},{"$f":"IF(ISERROR(MATCH(S279,S$3:S278,0)),S279,\"-\")","v":"-"},99999,"-",1000,{"$f":"IF(ISERROR(MATCH(W279,W$3:W278,0)),W279,\"-\")","v":"-"},99999]
[277,null,0,52,null,"","",{"$f":"IF($B280>0,OFFSET(Entries!$C$2,Results!$N280,7),\"\")","v":""},{"$f":"PROPER(IF($B280>0,club(OFFSET(Entries!$I$2,Results!$N280,0)),\"\"))","v":""},{"$f":"nLocal(OFFSET(Entries!$C$2,Results!$N280,5),H280)","v":" "},{"$f":"PROPER(OFFSET(Entries!$C$2,Results!$N280,0))","v":"Finisher  Unidentified!"},"",null,{"$f":"MATCH($B280,Entries!$A$3:$A$1001,0)","v":1},0,{"$f":"IF(ISERROR(OFFSET(Results!$B$3,MATCH(Entries!A279,Results!B$4:B577,0),0)),Entries!A279,0)","v":""},null,"-",1000,{"$f":"IF(ISERROR(MATCH(R280,R$3:R279,0)),R280,\"-\")","v":"-"},{"$f":"IF(ISERROR(MATCH(S280,S$3:S279,0)),S280,\"-\")","v":"-"},99999,"-",1000,{"$f":"IF(ISERROR(MATCH(W280,W$3:W279,0)),W280,\"-\")","v":"-"},99999]
[278,null,0,52,null,"","",{"$f":"IF($B281>0,OFFSET(Entries!$C$2,Results!$N281,7),\"\")","v":""},{"$f":"PROPER(IF($B281>0,club(OFFSET(Entries!$I$2,Results!$N281,0)),\"\"))","v":""},{"$f":"nLocal(OFFSET(Entries!$C$2,Results!$N281,5),H281)","v":" "},{"$f":"PROPER(OFFSET(Entries!$C$2,Results!$N281,0))","v":"Finisher  Unidentified!"},"",null,{"$f":"MATCH($B281,Entries!$A$3:$A$1001,0)","v":1},0,{"$f":"IF(ISERROR(OFFSET(Results!$B$3,MATCH(Entries!A280,Results!B$4:B578,0),0)),Entries!A280,0)","v":""},null,"-",1000,{"$f":"IF(ISERROR(MATCH(R281,R$3:R280,0)),R281,\"-\")","v":"-"},{"$f":"IF(ISERROR(MATCH(S281,S$3:S280,0)),S281,\"-\")","v":"-"},99999,"-",1000,{"$f":"IF(ISERROR(MATCH(W281,W$3:W280,0)),W281,\"-\")","v":"-"},99999]
[279,null,0,52,null,"","",{"$f":"IF($B282>0,OFFSET(Entries!$C$2,Results!$N282,7),\"\")","v":""},{"$f":"PROPER(IF($B282>0,club(OFFSET(Entries!$I$2,Results!$N282,0)),\"\"))","v":""},{"$f":"nLocal(OFFSET(Entries!$C$2,Results!$N282,5),H282)","v":" "},{"$f":"PROPER(OFFSET(Entries!$C$2,Results!$N282,0))","v":"Finisher  Unidentified!"},"",null,{"$f":"MATCH($B282,Entries!$A$3:$A$1001,0)","v":1},0,{"$f":"IF(ISERROR(OFFSET(Results!$B$3,MATCH(Entries!A281,Results!B$4:B579,0),0)),Entries!A281,0)","v":""},null,"-",1000,{"$f":"IF(ISERROR(MATCH(R282,R$3:R281,0)),R282,\"-\")","v":"-"},{"$f":"IF(ISERROR(MATCH(S282,S$3:S281,0)),S282,\"-\")","v":"-"},99999,"-",1000,{"$f":"IF(ISERROR(MATCH(W282,W$3:W281,0)),W282,\"-\")","v":"-"},99999]
[280,null,0,52,null,"","",{"$f":"IF($B283>0,OFFSET(Entries!$C$2,Results!$N283,7),\"\")","v":""},{"$f":"PROPER(IF($B283>0,club(OFFSET(Entries!$I$2,Results!$N283,0)),\"\"))","v":""},{"$f":"nLocal(OFFSET(Entries!$C$2,Results!$N283,5),H283)","v":" "},{"$f":"PROPER(OFFSET(Entries!$C$2,Results!$N283,0))","v":"Finisher  Unidentified!"},"",null,{"$f":"MATCH($B283,Entries!$A$3:$A$1001,0)","v":1},0,{"$f":"IF(ISERROR(OFFSET(Results!$B$3,MATCH(Entries!A282,Results!B$4:B580,0),0)),Entries!A282,0)","v":""},null,"-",1000,{"$f":"IF(ISERROR(MATCH(R283,R$3:R282,0)),R283,\"-\")","v":"-"},{"$f":"IF(ISERROR(MATCH(S283,S$3:S282,0)),S283,\"-\")","v":"-"},99999,"-",1000,{"$f":"IF(ISERROR(MATCH(W283,W$3:W282,0)),W283,\"-\")","v":"-"},99999]
[281,null,0,52,null,"","",{"$f":"IF($B284>0,OFFSET(Entries!$C$2,Results!$N284,7),\"\")","v":""},{"$f":"PROPER(IF($B284>0,club(OFFSET(Entries!$I$2,Results!$N284,0)),\"\"))","v":""},{"$f":"nLocal(OFFSET(Entries!$C$2,Results!$N284,5),H284)","v":" "},{"$f":"PROPER(OFFSET(Entries!$C$2,Results!$N284,0))","v":"Finisher  Unidentified!"},"",null,{"$f":"MATCH($B284,Entries!$A$3:$A$1001,0)","v":1},0,{"$f":"IF(ISERROR(OFFSET(Results!$B$3,MATCH(Entries!A283,Results!B$4:B581,0),0)),Entries!A283,0)","v":""},null,"-",1000,{"$f":"IF(ISERROR(MATCH(R284,R$3:R283,0)),R284,\"-\")","v":"-"},{"$f":"IF(ISERROR(MATCH(S284,S$3:S283,0)),S284,\"-\")","v":"-"},99999,"-",1000,{"$f":"IF(ISERROR(MATCH(W284,W$3:W283,0)),W284,\"-\")","v":"-"},99999]
[282,null,0,52,null,"","",{"$f":"IF($B285>0,OFFSET(Entries!$C$2,Results!$N285,7),\"\")","v":""},{"$f":"PROPER(IF($B285>0,club(OFFSET(Entries!$I$2,Results!$N285,0)),\"\"))","v":""},{"$f":"nLocal(OFFSET(Entries!$C$2,Results!$N285,5),H285)","v":" "},{"$f":"PROPER(OFFSET(Entries!$C$2,Results!$N285,0))","v":"Finisher  Unidentified!"},"",null,{"$f":"MATCH($B285,Entries!$A$3:$A$1001,0)","v":1},0,{"$f":"IF(ISERROR(OFFSET(Results!$B$3,MATCH(Entries!A284,Results!B$4:B582,0),0)),Entries!A284,0)","v":""},null,"-",1000,{"$f":"IF(ISERROR(MATCH(R285,R$3:R284,0)),R285,\"-\")","v":"-"},{"$f":"IF(ISERROR(MATCH(S285,S$3:S284,0)),S285,\"-\")","v":"-"},99999,"-",1000,{"$f":"IF(ISERROR(MATCH(W285,W$3:W284,0)),W285,\"-\")","v":"-"},99999]
[283,null,0,52,null,"","",{"$f":"IF($B286>0,OFFSET(Entries!$C$2,Results!$N286,7),\"\")","v":""},{"$f":"PROPER(IF($B286>0,club(OFFSET(Entries!$I$2,Results!$N286,0)),\"\"))","v":""},{"$f":"nLocal(OFFSET(Entries!$C$2,Results!$N286,5),H286)","v":" "},{"$f":"PROPER(OFFSET(Entries!$C$2,Results!$N286,0))","v":"Finisher  Unidentified!"},"",null,{"$f":"MATCH($B286,Entries!$A$3:$A$1001,0)","v":1},0,{"$f":"IF(ISERROR(OFFSET(Results!$B$3,MATCH(Entries!A285,Results!B$4:B583,0),0)),Entries!A285,0)","v":""},null,"-",1000,{"$f":"IF(ISERROR(MATCH(R286,R$3:R285,0)),R286,\"-\")","v":"-"},{"$f":"IF(ISERROR(MATCH(S286,S$3:S285,0)),S286,\"-\")","v":"-"},99999,"-",1000,{"$f":"IF(ISERROR(MATCH(W286,W$3:W285,0)),W286,\"-\")","v":"-"},99999]
[284,null,0,52,null,"","",{"$f":"IF($B287>0,OFFSET(Entries!$C$2,Results!$N287,7),\"\")","v":""},{"$f":"PROPER(IF($B287>0,club(OFFSET(Entries!$I$2,Results!$N287,0)),\"\"))","v":""},{"$f":"nLocal(OFFSET(Entries!$C$2,Results!$N287,5),H287)","v":" "},{"$f":"PROPER(OFFSET(Entries!$C$2,Results!$N287,0))","v":"Finisher  Unidentified!"},"",null,{"$f":"MATCH($B287,Entries!$A$3:$A$1001,0)","v":1},0,{"$f":"IF(ISERROR(OFFSET(Results!$B$3,MATCH(Entries!A286,Results!B$4:B584,0),0)),Entries!A286,0)","v":""},null,"-",1000,{"$f":"IF(ISERROR(MATCH(R287,R$3:R286,0)),R287,\"-\")","v":"-"},{"$f":"IF(ISERROR(MATCH(S287,S$3:S286,0)),S287,\"-\")","v":"-"},99999,"-",1000,{"$f":"IF(ISERROR(MATCH(W287,W$3:W286,0)),W287,\"-\")","v":"-"},99999]
[285,null,0,52,null,"","",{"$f":"IF($B288>0,OFFSET(Entries!$C$2,Results!$N288,7),\"\")","v":""},{"$f":"PROPER(IF($B288>0,club(OFFSET(Entries!$I$2,Results!$N288,0)),\"\"))","v":""},{"$f":"nLocal(OFFSET(Entries!$C$2,Results!$N288,5),H288)","v":" "},{"$f":"PROPER(OFFSET(Entries!$C$2,Results!$N288,0))","v":"Finisher  Unidentified!"},"",null,{"$f":"MATCH($B288,Entries!$A$3:$A$1001,0)","v":1},0,{"$f":"IF(ISERROR(OFFSET(Results!$B$3,MATCH(Entries!A287,Results!B$4:B585,0),0)),Entries!A287,0)","v":""},null,"-",1000,{"$f":"IF(ISERROR(MATCH(R288,R$3:R287,0)),R288,\"-\")","v":"-"},{"$f":"IF(ISERROR(MATCH(S288,S$3:S287,0)),S288,\"-\")","v":"-"},99999,"-",1000,{"$f":"IF(ISERROR(MATCH(W288,W$3:W287,0)),W288,\"-\")","v":"-"},99999]
[286,null,0,52,null,"","",{"$f":"IF($B289>0,OFFSET(Entries!$C$2,Results!$N289,7),\"\")","v":""},{"$f":"PROPER(IF($B289>0,club(OFFSET(Entries!$I$2,Results!$N289,0)),\"\"))","v":""},{"$f":"nLocal(OFFSET(Entries!$C$2,Results!$N289,5),H289)","v":" "},{"$f":"PROPER(OFFSET(Entries!$C$2,Results!$N289,0))","v":"Finisher  Unidentified!"},"",null,{"$f":"MATCH($B289,Entries!$A$3:$A$1001,0)","v":1},0,{"$f":"IF(ISERROR(OFFSET(Results!$B$3,MATCH(Entries!A288,Results!B$4:B586,0),0)),Entries!A288,0)","v":""},null,"-",1000,{"$f":"IF(ISERROR(MATCH(R289,R$3:R288,0)),R289,\"-\")","v":"-"},{"$f":"IF(ISERROR(MATCH(S289,S$3:S288,0)),S289,\"-\")","v":"-"},99999,"-",1000,{"$f":"IF(ISERROR(MATCH(W289,W$3:W288,0)),W289,\"-\")","v":"-"},99999]
[287,null,0,52,null,"","",{"$f":"IF($B290>0,OFFSET(Entries!$C$2,Results!$N290,7),\"\")","v":""},{"$f":"PROPER(IF($B290>0,club(OFFSET(Entries!$I$2,Results!$N290,0)),\"\"))","v":""},{"$f":"nLocal(OFFSET(Entries!$C$2,Results!$N290,5),H290)","v":" "},{"$f":"PROPER(OFFSET(Entries!$C$2,Results!$N290,0))","v":"Finisher  Unidentified!"},"",null,{"$f":"MATCH($B290,Entries!$A$3:$A$1001,0)","v":1},0,{"$f":"IF(ISERROR(OFFSET(Results!$B$3,MATCH(Entries!A289,Results!B$4:B587,0),0)),Entries!A289,0)","v":""},null,"-",1000,{"$f":"IF(ISERROR(MATCH(R290,R$3:R289,0)),R290,\"-\")","v":"-"},{"$f":"IF(ISERROR(MATCH(S290,S$3:S289,0)),S290,\"-\")","v":"-"},99999,"-",1000,{"$f":"IF(ISERROR(MATCH(W290,W$3:W289,0)),W290,\"-\")","v":"-"},99999]
[288,null,0,52,null,"","",{"$f":"IF($B291>0,OFFSET(Entries!$C$2,Results!$N291,7),\"\")","v":""},{"$f":"PROPER(IF($B291>0,club(OFFSET(Entries!$I$2,Results!$N291,0)),\"\"))","v":""},{"$f":"nLocal(OFFSET(Entries!$C$2,Results!$N291,5),H291)","v":" "},{"$f":"PROPER(OFFSET(Entries!$C$2,Results!$N291,0))","v":"Finisher  Unidentified!"},"",null,{"$f":"MATCH($B291,Entries!$A$3:$A$1001,0)","v":1},0,{"$f":"IF(ISERROR(OFFSET(Results!$B$3,MATCH(Entries!A290,Results!B$4:B588,0),0)),Entries!A290,0)","v":""},null,"-",1000,{"$f":"IF(ISERROR(MATCH(R291,R$3:R290,0)),R291,\"-\")","v":"-"},{"$f":"IF(ISERROR(MATCH(S291,S$3:S290,0)),S291,\"-\")","v":"-"},99999,"-",1000,{"$f":"IF(ISERROR(MATCH(W291,W$3:W290,0)),W291,\"-\")","v":"-"},99999]
[289,null,0,52,null,"","",{"$f":"IF($B292>0,OFFSET(Entries!$C$2,Results!$N292,7),\"\")","v":""},{"$f":"PROPER(IF($B292>0,club(OFFSET(Entries!$I$2,Results!$N292,0)),\"\"))","v":""},{"$f":"nLocal(OFFSET(Entries!$C$2,Results!$N292,5),H292)","v":" "},{"$f":"PROPER(OFFSET(Entries!$C$2,Results!$N292,0))","v":"Finisher  Unidentified!"},"",null,{"$f":"MATCH($B292,Entries!$A$3:$A$1001,0)","v":1},0,{"$f":"IF(ISERROR(OFFSET(Results!$B$3,MATCH(Entries!A291,Results!B$4:B589,0),0)),Entries!A291,0)","v":""},null,"-",1000,{"$f":"IF(ISERROR(MATCH(R292,R$3:R291,0)),R292,\"-\")","v":"-"},{"$f":"IF(ISERROR(MATCH(S292,S$3:S291,0)),S292,\"-\")","v":"-"},99999,"-",1000,{"$f":"IF(ISERROR(MATCH(W292,W$3:W291,0)),W292,\"-\")","v":"-"},99999]
[290,null,0,52,null,"","",{"$f":"IF($B293>0,OFFSET(Entries!$C$2,Results!$N293,7),\"\")","v":""},{"$f":"PROPER(IF($B293>0,club(OFFSET(Entries!$I$2,Results!$N293,0)),\"\"))","v":""},{"$f":"nLocal(OFFSET(Entries!$C$2,Results!$N293,5),H293)","v":" "},{"$f":"PROPER(OFFSET(Entries!$C$2,Results!$N293,0))","v":"Finisher  Unidentified!"},"",null,{"$f":"MATCH($B293,Entries!$A$3:$A$1001,0)","v":1},0,{"$f":"IF(ISERROR(OFFSET(Results!$B$3,MATCH(Entries!A292,Results!B$4:B590,0),0)),Entries!A292,0)","v":""},null,"-",1000,{"$f":"IF(ISERROR(MATCH(R293,R$3:R292,0)),R293,\"-\")","v":"-"},{"$f":"IF(ISERROR(MATCH(S293,S$3:S292,0)),S293,\"-\")","v":"-"},99999,"-",1000,{"$f":"IF(ISERROR(MATCH(W293,W$3:W292,0)),W293,\"-\")","v":"-"},99999]
[291,null,0,52,null,"","",{"$f":"IF($B294>0,OFFSET(Entries!$C$2,Results!$N294,7),\"\")","v":""},{"$f":"PROPER(IF($B294>0,club(OFFSET(Entries!$I$2,Results!$N294,0)),\"\"))","v":""},{"$f":"nLocal(OFFSET(Entries!$C$2,Results!$N294,5),H294)","v":" "},{"$f":"PROPER(OFFSET(Entries!$C$2,Results!$N294,0))","v":"Finisher  Unidentified!"},"",null,{"$f":"MATCH($B294,Entries!$A$3:$A$1001,0)","v":1},0,{"$f":"IF(ISERROR(OFFSET(Results!$B$3,MATCH(Entries!A293,Results!B$4:B591,0),0)),Entries!A293,0)","v":""},null,"-",1000,{"$f":"IF(ISERROR(MATCH(R294,R$3:R293,0)),R294,\"-\")","v":"-"},{"$f":"IF(ISERROR(MATCH(S294,S$3:S293,0)),S294,\"-\")","v":"-"},99999,"-",1000,{"$f":"IF(ISERROR(MATCH(W294,W$3:W293,0)),W294,\"-\")","v":"-"},99999]
[292,null,0,52,null,"","",{"$f":"IF($B295>0,OFFSET(Entries!$C$2,Results!$N295,7),\"\")","v":""},{"$f":"PROPER(IF($B295>0,club(OFFSET(Entries!$I$2,Results!$N295,0)),\"\"))","v":""},{"$f":"nLocal(OFFSET(Entries!$C$2,Results!$N295,5),H295)","v":" "},{"$f":"PROPER(OFFSET(Entries!$C$2,Results!$N295,0))","v":"Finisher  Unidentified!"},"",null,{"$f":"MATCH($B295,Entries!$A$3:$A$1001,0)","v":1},0,{"$f":"IF(ISERROR(OFFSET(Results!$B$3,MATCH(Entries!A294,Results!B$4:B592,0),0)),Entries!A294,0)","v":""},null,"-",1000,{"$f":"IF(ISERROR(MATCH(R295,R$3:R294,0)),R295,\"-\")","v":"-"},{"$f":"IF(ISERROR(MATCH(S295,S$3:S294,0)),S295,\"-\")","v":"-"},99999,"-",1000,{"$f":"IF(ISERROR(MATCH(W295,W$3:W294,0)),W295,\"-\")","v":"-"},99999]
[293,null,0,52,null,"","",{"$f":"IF($B296>0,OFFSET(Entries!$C$2,Results!$N296,7),\"\")","v":""},{"$f":"PROPER(IF($B296>0,club(OFFSET(Entries!$I$2,Results!$N296,0)),\"\"))","v":""},{"$f":"nLocal(OFFSET(Entries!$C$2,Results!$N296,5),H296)","v":" "},{"$f":"PROPER(OFFSET(Entries!$C$2,Results!$N296,0))","v":"Finisher  Unidentified!"},"",null,{"$f":"MATCH($B296,Entries!$A$3:$A$1001,0)","v":1},0,{"$f":"IF(ISERROR(OFFSET(Results!$B$3,MATCH(Entries!A295,Results!B$4:B593,0),0)),Entries!A295,0)","v":""},null,"-",1000,{"$f":"IF(ISERROR(MATCH(R296,R$3:R295,0)),R296,\"-\")","v":"-"},{"$f":"IF(ISERROR(MATCH(S296,S$3:S295,0)),S296,\"-\")","v":"-"},99999,"-",1000,{"$f":"IF(ISERROR(MATCH(W296,W$3:W295,0)),W296,\"-\")","v":"-"},99999]
[294,null,0,52,null,"","",{"$f":"IF($B297>0,OFFSET(Entries!$C$2,Results!$N297,7),\"\")","v":""},{"$f":"PROPER(IF($B297>0,club(OFFSET(Entries!$I$2,Results!$N297,0)),\"\"))","v":""},{"$f":"nLocal(OFFSET(Entries!$C$2,Results!$N297,5),H297)","v":" "},{"$f":"PROPER(OFFSET(Entries!$C$2,Results!$N297,0))","v":"Finisher  Unidentified!"},"",null,{"$f":"MATCH($B297,Entries!$A$3:$A$1001,0)","v":1},0,{"$f":"IF(ISERROR(OFFSET(Results!$B$3,MATCH(Entries!A296,Results!B$4:B594,0),0)),Entries!A296,0)","v":""},null,"-",1000,{"$f":"IF(ISERROR(MATCH(R297,R$3:R296,0)),R297,\"-\")","v":"-"},{"$f":"IF(ISERROR(MATCH(S297,S$3:S296,0)),S297,\"-\")","v":"-"},99999,"-",1000,{"$f":"IF(ISERROR(MATCH(W297,W$3:W296,0)),W297,\"-\")","v":"-"},99999]
[295,null,0,52,null,"","",{"$f":"IF($B298>0,OFFSET(Entries!$C$2,Results!$N298,7),\"\")","v":""},{"$f":"PROPER(IF($B298>0,club(OFFSET(Entries!$I$2,Results!$N298,0)),\"\"))","v":""},{"$f":"nLocal(OFFSET(Entries!$C$2,Results!$N298,5),H298)","v":" "},{"$f":"PROPER(OFFSET(Entries!$C$2,Results!$N298,0))","v":"Finisher  Unidentified!"},"",null,{"$f":"MATCH($B298,Entries!$A$3:$A$1001,0)","v":1},0,{"$f":"IF(ISERROR(OFFSET(Results!$B$3,MATCH(Entries!A297,Results!B$4:B595,0),0)),Entries!A297,0)","v":""},null,"-",1000,{"$f":"IF(ISERROR(MATCH(R298,R$3:R297,0)),R298,\"-\")","v":"-"},{"$f":"IF(ISERROR(MATCH(S298,S$3:S297,0)),S298,\"-\")","v":"-"},99999,"-",1000,{"$f":"IF(ISERROR(MATCH(W298,W$3:W297,0)),W298,\"-\")","v":"-"},99999]
[296,null,0,52,null,"","",{"$f":"IF($B299>0,OFFSET(Entries!$C$2,Results!$N299,7),\"\")","v":""},{"$f":"PROPER(IF($B299>0,club(OFFSET(Entries!$I$2,Results!$N299,0)),\"\"))","v":""},{"$f":"nLocal(OFFSET(Entries!$C$2,Results!$N299,5),H299)","v":" "},{"$f":"PROPER(OFFSET(Entries!$C$2,Results!$N299,0))","v":"Finisher  Unidentified!"},"",null,{"$f":"MATCH($B299,Entries!$A$3:$A$1001,0)","v":1},0,{"$f":"IF(ISERROR(OFFSET(Results!$B$3,MATCH(Entries!A298,Results!B$4:B596,0),0)),Entries!A298,0)","v":""},null,"-",1000,{"$f":"IF(ISERROR(MATCH(R299,R$3:R298,0)),R299,\"-\")","v":"-"},{"$f":"IF(ISERROR(MATCH(S299,S$3:S298,0)),S299,\"-\")","v":"-"},99999,"-",1000,{"$f":"IF(ISERROR(MATCH(W299,W$3:W298,0)),W299,\"-\")","v":"-"},99999]
[297,null,0,52,null,"","",{"$f":"IF($B300>0,OFFSET(Entries!$C$2,Results!$N300,7),\"\")","v":""},{"$f":"PROPER(IF($B300>0,club(OFFSET(Entries!$I$2,Results!$N300,0)),\"\"))","v":""},{"$f":"nLocal(OFFSET(Entries!$C$2,Results!$N300,5),H300)","v":" "},{"$f":"PROPER(OFFSET(Entries!$C$2,Results!$N300,0))","v":"Finisher  Unidentified!"},"",null,{"$f":"MATCH($B300,Entries!$A$3:$A$1001,0)","v":1},0,{"$f":"IF(ISERROR(OFFSET(Results!$B$3,MATCH(Entries!A299,Results!B$4:B597,0),0)),Entries!A299,0)","v":""},null,"-",1000,{"$f":"IF(ISERROR(MATCH(R300,R$3:R299,0)),R300,\"-\")","v":"-"},{"$f":"IF(ISERROR(MATCH(S300,S$3:S299,0)),S300,\"-\")","v":"-"},99999,"-",1000,{"$f":"IF(ISERROR(MATCH(W300,W$3:W299,0)),W300,\"-\")","v":"-"},99999]
[298,null,0,52,null,"","",{"$f":"IF($B301>0,OFFSET(Entries!$C$2,Results!$N301,7),\"\")","v":""},{"$f":"PROPER(IF($B301>0,club(OFFSET(Entries!$I$2,Results!$N301,0)),\"\"))","v":""},{"$f":"nLocal(OFFSET(Entries!$C$2,Results!$N301,5),H301)","v":" "},{"$f":"PROPER(OFFSET(Entries!$C$2,Results!$N301,0))","v":"Finisher  Unidentified!"},"",null,{"$f":"MATCH($B301,Entries!$A$3:$A$1001,0)","v":1},0,{"$f":"IF(ISERROR(OFFSET(Results!$B$3,MATCH(Entries!A300,Results!B$4:B598,0),0)),Entries!A300,0)","v":""},null,"-",1000,{"$f":"IF(ISERROR(MATCH(R301,R$3:R300,0)),R301,\"-\")","v":"-"},{"$f":"IF(ISERROR(MATCH(S301,S$3:S300,0)),S301,\"-\")","v":"-"},99999,"-",1000,{"$f":"IF(ISERROR(MATCH(W301,W$3:W300,0)),W301,\"-\")","v":"-"},99999]
[299,null,0,52,null,"","",{"$f":"IF($B302>0,OFFSET(Entries!$C$2,Results!$N302,7),\"\")","v":""},{"$f":"PROPER(IF($B302>0,club(OFFSET(Entries!$I$2,Results!$N302,0)),\"\"))","v":""},{"$f":"nLocal(OFFSET(Entries!$C$2,Results!$N302,5),H302)","v":" "},{"$f":"PROPER(OFFSET(Entries!$C$2,Results!$N302,0))","v":"Finisher  Unidentified!"},"",null,{"$f":"MATCH($B302,Entries!$A$3:$A$1001,0)","v":1},0,{"$f":"IF(ISERROR(OFFSET(Results!$B$3,MATCH(Entries!A301,Results!B$4:B599,0),0)),Entries!A301,0)","v":""},null,"-",1000,{"$f":"IF(ISERROR(MATCH(R302,R$3:R301,0)),R302,\"-\")","v":"-"},{"$f":"IF(ISERROR(MATCH(S302,S$3:S301,0)),S302,\"-\")","v":"-"},99999,"-",1000,{"$f":"IF(ISERROR(MATCH(W302,W$3:W301,0)),W302,\"-\")","v":"-"},99999]
[300,null,0,52,null,"","",{"$f":"IF($B303>0,OFFSET(Entries!$C$2,Results!$N303,7),\"\")","v":""},{"$f":"PROPER(IF($B303>0,club(OFFSET(Entries!$I$2,Results!$N303,0)),\"\"))","v":""},{"$f":"nLocal(OFFSET(Entries!$C$2,Results!$N303,5),H303)","v":" "},{"$f":"PROPER(OFFSET(Entries!$C$2,Results!$N303,0))","v":"Finisher  Unidentified!"},"",null,{"$f":"MATCH($B303,Entries!$A$3:$A$1001,0)","v":1},null,null,null,"-",1000,{"$f":"IF(ISERROR(MATCH(R303,R$3:R302,0)),R303,\"-\")","v":"-"},{"$f":"IF(ISERROR(MATCH(S303,S$3:S302,0)),S303,\"-\")","v":"-"},99999,"-",1000,{"$f":"IF(ISERROR(MATCH(W303,W$3:W302,0)),W303,\"-\")","v":"-"},99999]
[301,null,0,52,null,"","",{"$f":"IF($B304>0,OFFSET(Entries!$C$2,Results!$N304,7),\"\")","v":""},{"$f":"PROPER(IF($B304>0,club(OFFSET(Entries!$I$2,Results!$N304,0)),\"\"))","v":""},{"$f":"nLocal(OFFSET(Entries!$C$2,Results!$N304,5),H304)","v":" "},{"$f":"PROPER(OFFSET(Entries!$C$2,Results!$N304,0))","v":"Finisher  Unidentified!"},"",null,{"$f":"MATCH($B304,Entries!$A$3:$A$1001,0)","v":1},null,null,null,"-",1000,{"$f":"IF(ISERROR(MATCH(R304,R$3:R303,0)),R304,\"-\")","v":"-"},{"$f":"IF(ISERROR(MATCH(S304,S$3:S303,0)),S304,\"-\")","v":"-"},99999,"-",1000,{"$f":"IF(ISERROR(MATCH(W304,W$3:W303,0)),W304,\"-\")","v":"-"},99999]
[302,null,0,52,null,"","",{"$f":"IF($B305>0,OFFSET(Entries!$C$2,Results!$N305,7),\"\")","v":""},{"$f":"PROPER(IF($B305>0,club(OFFSET(Entries!$I$2,Results!$N305,0)),\"\"))","v":""},{"$f":"nLocal(OFFSET(Entries!$C$2,Results!$N305,5),H305)","v":" "},{"$f":"PROPER(OFFSET(Entries!$C$2,Results!$N305,0))","v":"Finisher  Unidentified!"},"",null,{"$f":"MATCH($B305,Entries!$A$3:$A$1001,0)","v":1},null,null,null,"-",1000,{"$f":"IF(ISERROR(MATCH(R305,R$3:R304,0)),R305,\"-\")","v":"-"},{"$f":"IF(ISERROR(MATCH(S305,S$3:S304,0)),S305,\"-\")","v":"-"},99999,"-",1000,{"$f":"IF(ISERROR(MATCH(W305,W$3:W304,0)),W305,\"-\")","v":"-"},99999]
[303,null,0,52,null,"","",{"$f":"IF($B306>0,OFFSET(Entries!$C$2,Results!$N306,7),\"\")","v":""},{"$f":"PROPER(IF($B306>0,club(OFFSET(Entries!$I$2,Results!$N306,0)),\"\"))","v":""},{"$f":"nLocal(OFFSET(Entries!$C$2,Results!$N306,5),H306)","v":" "},{"$f":"PROPER(OFFSET(Entries!$C$2,Results!$N306,0))","v":"Finisher  Unidentified!"},"",null,{"$f":"MATCH($B306,Entries!$A$3:$A$1001,0)","v":1},null,null,null,"-",1000,{"$f":"IF(ISERROR(MATCH(R306,R$3:R305,0)),R306,\"-\")","v":"-"},{"$f":"IF(ISERROR(MATCH(S306,S$3:S305,0)),S306,\"-\")","v":"-"},99999,"-",1000,{"$f":"IF(ISERROR(MATCH(W306,W$3:W305,0)),W306,\"-\")","v":"-"},99999]
[304,null,0,52,null,"","",{"$f":"IF($B307>0,OFFSET(Entries!$C$2,Results!$N307,7),\"\")","v":""},{"$f":"PROPER(IF($B307>0,club(OFFSET(Entries!$I$2,Results!$N307,0)),\"\"))","v":""},{"$f":"nLocal(OFFSET(Entries!$C$2,Results!$N307,5),H307)","v":" "},{"$f":"PROPER(OFFSET(Entries!$C$2,Results!$N307,0))","v":"Finisher  Unidentified!"},"",null,{"$f":"MATCH($B307,Entries!$A$3:$A$1001,0)","v":1},null,null,null,{"$f":"IF(LEN(H307)>2,I307,\"\")","v":""}]

{"sheet":"Sheet1","index":2,"n_rows":37,"n_cols":45,"rows_kept":37,"cut":false,"hidden":false,"merged":[]}
["Pos","Time","Name","Cat.",null,{"$f":"A1","v":"Pos"},{"$f":"B1","v":"Time"},"Name","Cat.",null,{"$f":"F1","v":"Pos"},{"$f":"G1","v":"Time"},"Name","Cat.",null,"Pos","Time","Name","Cat.",null,{"$f":"P1","v":"Pos"},{"$f":"Q1","v":"Time"},"Name","Cat.",null,{"$f":"U1","v":"Pos"},{"$f":"V1","v":"Time"},"Name","Cat.",null,{"$f":"Z1","v":"Pos"},{"$f":"AA1","v":"Time"},"Name","Cat.",null,{"$f":"AE1","v":"Pos"},{"$f":"AF1","v":"Time"},"Name","Cat.",null,{"$f":"AJ1","v":"Pos"},{"$f":"AK1","v":"Time"},"Name","Cat."]
[{"$f":"Results!A4","v":1},{"$f":"RaceTime(Results!C4,Results!D4,Results!E4)","v":"0:23:52"},{"$f":"IF(Results!F4>\"\",Results!F4,Results!G4)","v":"Stuart Bond"},{"$f":"Results!H4","v":"MS"},{"$f":"RIGHT(Results!J4,1)","v":" "},{"$f":"Results!A40","v":37},{"$f":"RaceTime(Results!C40,Results!D40,Results!E40)","v":"0:33:03"},{"$f":"IF(Results!F40>\"\",Results!F40,Results!G40)","v":"Bradley Martin"},{"$f":"Results!H40","v":"MS"},{"$f":"RIGHT(Results!J40,1)","v":""},{"$f":"Results!A76","v":73},{"$f":"RaceTime(Results!C76,Results!D76,Results!E76)","v":"0:36:50"},{"$f":"IF(Results!F76>\"\",Results!F76,Results!G76)","v":"Zayne Bukhari"},{"$f":"Results!H76","v":"MS"},{"$f":"RIGHT(Results!J76,1)","v":"B"},{"$f":"Results!A112","v":109},{"$f":"RaceTime(Results!C112,Results!D112,Results!E112)","v":"0:49:22"},{"$f":"IF(Results!F112>\"\",Results!F112,Results!G112)","v":"Peter Fotheringham"},{"$f":"Results!H112","v":"MV55"},{"$f":"RIGHT(Results!J112,1)","v":""},{"$f":"Results!A148","v":145},{"$f":"RaceTime(Results!C148,Results!D148,Results!E148)","v":"0:52:0"},{"$f":"IF(Results!F148>\"\",Results!F148,Results!G148)","v":""},{"$f":"Results!H148","v":""},{"$f":"RIGHT(Results!J148,1)","v":" "},{"$f":"Results!A184","v":181},{"$f":"RaceTime(Results!C184,Results!D184,Results!E184)","v":"0:52:0"},{"$f":"IF(Results!F184>\"\",Results!F184,Results!G184)","v":""},{"$f":"Results!H184","v":""},{"$f":"RIGHT(Results!J184,1)","v":" "},{"$f":"Results!A220","v":217},{"$f":"RaceTime(Results!C220,Results!D220,Results!E220)","v":"0:52:0"},{"$f":"IF(Results!F220>\"\",Results!F220,Results!G220)","v":""},{"$f":"Results!H220","v":""},{"$f":"RIGHT(Results!J220,1)","v":" "},{"$f":"Results!A256","v":253},{"$f":"RaceTime(Results!C256,Results!D256,Results!E256)","v":"0:52:0"},{"$f":"IF(Results!F256>\"\",Results!F256,Results!G256)","v":""},{"$f":"Results!H256","v":""},{"$f":"RIGHT(Results!J256,1)","v":" "},{"$f":"Results!A292","v":289},{"$f":"RaceTime(Results!C292,Results!D292,Results!E292)","v":"0:52:0"},{"$f":"IF(Results!F292>\"\",Results!F292,Results!G292)","v":""},{"$f":"Results!H292","v":""},{"$f":"RIGHT(Results!J292,1)","v":" "}]
[{"$f":"Results!A5","v":2},{"$f":"RaceTime(Results!C5,Results!D5,Results!E5)","v":"0:24:17"},{"$f":"IF(Results!F5>\"\",Results!F5,Results!G5)","v":"John Franklin"},{"$f":"Results!H5","v":"MS"},{"$f":"RIGHT(Results!J5,1)","v":""},{"$f":"Results!A41","v":38},{"$f":"RaceTime(Results!C41,Results!D41,Results!E41)","v":"0:33:07"},{"$f":"IF(Results!F41>\"\",Results!F41,Results!G41)","v":"Mike Jones"},{"$f":"Results!H41","v":"MV45"},{"$f":"RIGHT(Results!J41,1)","v":"B"},{"$f":"Results!A77","v":74},{"$f":"RaceTime(Results!C77,Results!D77,Results!E77)","v":"0:36:52"},{"$f":"IF(Results!F77>\"\",Results!F77,Results!G77)","v":"Alexander Arblaster"},{"$f":"Results!H77","v":"MS"},{"$f":"RIGHT(Results!J77,1)","v":""},{"$f":"Results!A113","v":110},{"$f":"RaceTime(Results!C113,Results!D113,Results!E113)","v":"0:51:35"},{"$f":"IF(Results!F113>\"\",Results!F113,Results!G113)","v":"Ken Price"},{"$f":"Results!H113","v":"MV60"},{"$f":"RIGHT(Results!J113,1)","v":""},{"$f":"Results!A149","v":146},{"$f":"RaceTime(Results!C149,Results!D149,Results!E149)","v":"0:52:0"},{"$f":"IF(Results!F149>\"\",Results!F149,Results!G149)","v":""},{"$f":"Results!H149","v":""},{"$f":"RIGHT(Results!J149,1)","v":" "},{"$f":"Results!A185","v":182},{"$f":"RaceTime(Results!C185,Results!D185,Results!E185)","v":"0:52:0"},{"$f":"IF(Results!F185>\"\",Results!F185,Results!G185)","v":""},{"$f":"Results!H185","v":""},{"$f":"RIGHT(Results!J185,1)","v":" "},{"$f":"Results!A221","v":218},{"$f":"RaceTime(Results!C221,Results!D221,Results!E221)","v":"0:52:0"},{"$f":"IF(Results!F221>\"\",Results!F221,Results!G221)","v":""},{"$f":"Results!H221","v":""},{"$f":"RIGHT(Results!J221,1)","v":" "},{"$f":"Results!A257","v":254},{"$f":"RaceTime(Results!C257,Results!D257,Results!E257)","v":"0:52:0"},{"$f":"IF(Results!F257>\"\",Results!F257,Results!G257)","v":""},{"$f":"Results!H257","v":""}," ",{"$f":"Results!A293","v":290},{"$f":"RaceTime(Results!C293,Results!D293,Results!E293)","v":"0:52:0"},{"$f":"IF(Results!F293>\"\",Results!F293,Results!G293)","v":""},{"$f":"Results!H293","v":""},{"$f":"RIGHT(Results!J293,1)","v":" "}]
[{"$f":"Results!A6","v":3},{"$f":"RaceTime(Results!C6,Results!D6,Results!E6)","v":"0:25:17"},{"$f":"IF(Results!F6>\"\",Results!F6,Results!G6)","v":"Steve Franklin"},{"$f":"Results!H6","v":"MS"},{"$f":"RIGHT(Results!J6,1)","v":""},{"$f":"Results!A42","v":39},{"$f":"RaceTime(Results!C42,Results!D42,Results!E42)","v":"0:33:08"},{"$f":"IF(Results!F42>\"\",Results!F42,Results!G42)","v":"Kevin Mahon"},{"$f":"Results!H42","v":"MV40"},{"$f":"RIGHT(Results!J42,1)","v":""},{"$f":"Results!A78","v":75},{"$f":"RaceTime(Results!C78,Results!D78,Results!E78)","v":"0:36:56"},{"$f":"IF(Results!F78>\"\",Results!F78,Results!G78)","v":"Mel Mccart"},{"$f":"Results!H78","v":"MV50"},{"$f":"RIGHT(Results!J78,1)","v":""},{"$f":"Results!A114","v":111},{"$f":"RaceTime(Results!C114,Results!D114,Results!E114)","v":"0:52:0"},{"$f":"IF(Results!F114>\"\",Results!F114,Results!G114)","v":"Corina Philps"},{"$f":"Results!H114","v":"FS"},{"$f":"RIGHT(Results!J114,1)","v":"B"},{"$f":"Results!A150","v":147},{"$f":"RaceTime(Results!C150,Results!D150,Results!E150)","v":"0:52:0"},{"$f":"IF(Results!F150>\"\",Results!F150,Results!G150)","v":""},{"$f":"Results!H150","v":""},{"$f":"RIGHT(Results!J150,1)","v":" "},{"$f":"Results!A186","v":183},{"$f":"RaceTime(Results!C186,Results!D186,Results!E186)","v":"0:52:0"},{"$f":"IF(Results!F186>\"\",Results!F186,Results!G186)","v":""},{"$f":"Results!H186","v":""},{"$f":"RIGHT(Results!J186,1)","v":" "},{"$f":"Results!A222","v":219},{"$f":"RaceTime(Results!C222,Results!D222,Results!E222)","v":"0:52:0"},{"$f":"IF(Results!F222>\"\",Results!F222,Results!G222)","v":""},{"$f":"Results!H222","v":""},{"$f":"RIGHT(Results!J222,1)","v":" "},{"$f":"Results!A258","v":255},{"$f":"RaceTime(Results!C258,Results!D258,Results!E258)","v":"0:52:0"},{"$f":"IF(Results!F258>\"\",Results!F258,Results!G258)","v":""},{"$f":"Results!H258","v":""},"B",{"$f":"Results!A294","v":291},{"$f":"RaceTime(Results!C294,Results!D294,Results!E294)","v":"0:52:0"},{"$f":"IF(Results!F294>\"\",Results!F294,Results!G294)","v":""},{"$f":"Results!H294","v":""},{"$f":"RIGHT(Results!J294,1)","v":" "}]
[{"$f":"Results!A7","v":4},{"$f":"RaceTime(Results!C7,Results!D7,Results!E7)","v":"0:26:13"},{"$f":"IF(Results!F7>\"\",Results!F7,Results!G7)","v":"Adam Taylor"},{"$f":"Results!H7","v":"MS"},{"$f":"RIGHT(Results!J7,1)","v":""},{"$f":"Results!A43","v":40},{"$f":"RaceTime(Results!C43,Results!D43,Results!E43)","v":"0:33:11"},{"$f":"IF(Results!F43>\"\",Results!F43,Results!G43)","v":"Mark Halsey"},{"$f":"Results!H43","v":"MV40"},{"$f":"RIGHT(Results!J43,1)","v":""},{"$f":"Results!A79","v":76},{"$f":"RaceTime(Results!C79,Results!D79,Results!E79)","v":"0:37:07"},{"$f":"IF(Results!F79>\"\",Results!F79,Results!G79)","v":"Helen Davis"},{"$f":"Results!H79","v":"FS"},{"$f":"RIGHT(Results!J79,1)","v":""},{"$f":"Results!A115","v":112},{"$f":"RaceTime(Results!C115,Results!D115,Results!E115)","v":"0:52:0"},{"$f":"IF(Results!F115>\"\",Results!F115,Results!G115)","v":""},{"$f":"Results!H115","v":""},{"$f":"RIGHT(Results!J115,1)","v":" "},{"$f":"Results!A151","v":148},{"$f":"RaceTime(Results!C151,Results!D151,Results!E151)","v":"0:52:0"},{"$f":"IF(Results!F151>\"\",Results!F151,Results!G151)","v":""},{"$f":"Results!H151","v":""},{"$f":"RIGHT(Results!J151,1)","v":" "},{"$f":"Results!A187","v":184},{"$f":"RaceTime(Results!C187,Results!D187,Results!E187)","v":"0:52:0"},{"$f":"IF(Results!F187>\"\",Results!F187,Results!G187)","v":""},{"$f":"Results!H187","v":""},{"$f":"RIGHT(Results!J187,1)","v":" "},{"$f":"Results!A223","v":220},{"$f":"RaceTime(Results!C223,Results!D223,Results!E223)","v":"0:52:0"},{"$f":"IF(Results!F223>\"\",Results!F223,Results!G223)","v":""},{"$f":"Results!H223","v":""},{"$f":"RIGHT(Results!J223,1)","v":" "},{"$f":"Results!A259","v":256},{"$f":"RaceTime(Results!C259,Results!D259,Results!E259)","v":"0:52:0"},{"$f":"IF(Results!F259>\"\",Results!F259,Results!G259)","v":""},{"$f":"Results!H259","v":""},"B",{"$f":"Results!A295","v":292},{"$f":"RaceTime(Results!C295,Results!D295,Results!E295)","v":"0:52:0"},{"$f":"IF(Results!F295>\"\",Results!F295,Results!G295)","v":""},{"$f":"Results!H295","v":""},{"$f":"RIGHT(Results!J295,1)","v":" "}]
[{"$f":"Results!A8","v":5},{"$f":"RaceTime(Results!C8,Results!D8,Results!E8)","v":"0:26:43"},{"$f":"IF(Results!F8>\"\",Results!F8,Results!G8)","v":"Bart Shaw"},{"$f":"Results!H8","v":"MS"},{"$f":"RIGHT(Results!J8,1)","v":""},{"$f":"Results!A44","v":41},{"$f":"RaceTime(Results!C44,Results!D44,Results!E44)","v":"0:33:15"},{"$f":"IF(Results!F44>\"\",Results!F44,Results!G44)","v":"Neil Oxley"},{"$f":"Results!H44","v":"MV65"},{"$f":"RIGHT(Results!J44,1)","v":""},{"$f":"Results!A80","v":77},{"$f":"RaceTime(Results!C80,Results!D80,Results!E80)","v":"0:37:15"},{"$f":"IF(Results!F80>\"\",Results!F80,Results!G80)","v":"Sophie Quince"},{"$f":"Results!H80","v":"FS"},{"$f":"RIGHT(Results!J80,1)","v":""},{"$f":"Results!A116","v":113},{"$f":"RaceTime(Results!C116,Results!D116,Results!E116)","v":"0:52:0"},{"$f":"IF(Results!F116>\"\",Results!F116,Results!G116)","v":""},{"$f":"Results!H116","v":""},{"$f":"RIGHT(Results!J116,1)","v":" "},{"$f":"Results!A152","v":149},{"$f":"RaceTime(Results!C152,Results!D152,Results!E152)","v":"0:52:0"},{"$f":"IF(Results!F152>\"\",Results!F152,Results!G152)","v":""},{"$f":"Results!H152","v":""},{"$f":"RIGHT(Results!J152,1)","v":" "},{"$f":"Results!A188","v":185},{"$f":"RaceTime(Results!C188,Results!D188,Results!E188)","v":"0:52:0"},{"$f":"IF(Results!F188>\"\",Results!F188,Results!G188)","v":""},{"$f":"Results!H188","v":""},{"$f":"RIGHT(Results!J188,1)","v":" "},{"$f":"Results!A224","v":221},{"$f":"RaceTime(Results!C224,Results!D224,Results!E224)","v":"0:52:0"},{"$f":"IF(Results!F224>\"\",Results!F224,Results!G224)","v":""},{"$f":"Results!H224","v":""},{"$f":"RIGHT(Results!J224,1)","v":" "},{"$f":"Results!A260","v":257},{"$f":"RaceTime(Results!C260,Results!D260,Results!E260)","v":"0:52:0"},{"$f":"IF(Results!F260>\"\",Results!F260,Results!G260)","v":""},{"$f":"Results!H260","v":""}," ",{"$f":"Results!A296","v":293},{"$f":"RaceTime(Results!C296,Results!D296,Results!E296)","v":"0:52:0"},{"$f":"IF(Results!F296>\"\",Results!F296,Results!G296)","v":""},{"$f":"Results!H296","v":""},{"$f":"RIGHT(Results!J296,1)","v":" "}]
[{"$f":"Results!A9","v":6},{"$f":"RaceTime(Results!C9,Results!D9,Results!E9)","v":"0:26:47"},{"$f":"IF(Results!F9>\"\",Results!F9,Results!G9)","v":"Austin Frost"},{"$f":"Results!H9","v":"MV40"},{"$f":"RIGHT(Results!J9,1)","v":""},{"$f":"Results!A45","v":42},{"$f":"RaceTime(Results!C45,Results!D45,Results!E45)","v":"0:33:15"},{"$f":"IF(Results!F45>\"\",Results!F45,Results!G45)","v":"Kate Jenkins"},{"$f":"Results!H45","v":"FV40"},{"$f":"RIGHT(Results!J45,1)","v":""},{"$f":"Results!A81","v":78},{"$f":"RaceTime(Results!C81,Results!D81,Results!E81)","v":"0:37:39"},{"$f":"IF(Results!F81>\"\",Results!F81,Results!G81)","v":"Lizzie Rawson"},{"$f":"Results!H81","v":"FS"},{"$f":"RIGHT(Results!J81,1)","v":""},{"$f":"Results!A117","v":114},{"$f":"RaceTime(Results!C117,Results!D117,Results!E117)","v":"0:52:0"},{"$f":"IF(Results!F117>\"\",Results!F117,Results!G117)","v":""},{"$f":"Results!H117","v":""},{"$f":"RIGHT(Results!J117,1)","v":" "},{"$f":"Results!A153","v":150},{"$f":"RaceTime(Results!C153,Results!D153,Results!E153)","v":"0:52:0"},{"$f":"IF(Results!F153>\"\",Results!F153,Results!G153)","v":""},{"$f":"Results!H153","v":""},{"$f":"RIGHT(Results!J153,1)","v":" "},{"$f":"Results!A189","v":186},{"$f":"RaceTime(Results!C189,Results!D189,Results!E189)","v":"0:52:0"},{"$f":"IF(Results!F189>\"\",Results!F189,Results!G189)","v":""},{"$f":"Results!H189","v":""},{"$f":"RIGHT(Results!J189,1)","v":" "},{"$f":"Results!A225","v":222},{"$f":"RaceTime(Results!C225,Results!D225,Results!E225)","v":"0:52:0"},{"$f":"IF(Results!F225>\"\",Results!F225,Results!G225)","v":""},{"$f":"Results!H225","v":""},{"$f":"RIGHT(Results!J225,1)","v":" "},{"$f":"Results!A261","v":258},{"$f":"RaceTime(Results!C261,Results!D261,Results!E261)","v":"0:52:0"},{"$f":"IF(Results!F261>\"\",Results!F261,Results!G261)","v":""},{"$f":"Results!H261","v":""},"N",{"$f":"Results!A297","v":294},{"$f":"RaceTime(Results!C297,Results!D297,Results!E297)","v":"0:52:0"},{"$f":"IF(Results!F297>\"\",Results!F297,Results!G297)","v":""},{"$f":"Results!H297","v":""},{"$f":"RIGHT(Results!J297,1)","v":" "}]
[{"$f":"Results!A10","v":7},{"$f":"RaceTime(Results!C10,Results!D10,Results!E10)","v":"0:26:54"},{"$f":"IF(Results!F10>\"\",Results!F10,Results!G10)","v":"Johnny Wilson"},{"$f":"Results!H10","v":"MS"},{"$f":"RIGHT(Results!J10,1)","v":""},{"$f":"Results!A46","v":43},{"$f":"RaceTime(Results!C46,Results!D46,Results!E46)","v":"0:33:18"},{"$f":"IF(Results!F46>\"\",Results!F46,Results!G46)","v":"Keith Holmes"},{"$f":"Results!H46","v":"MV60"},{"$f":"RIGHT(Results!J46,1)","v":""},{"$f":"Results!A82","v":79},{"$f":"RaceTime(Results!C82,Results!D82,Results!E82)","v":"0:37:42"},{"$f":"IF(Results!F82>\"\",Results!F82,Results!G82)","v":"David Arundale"},{"$f":"Results!H82","v":"MV60"},{"$f":"RIGHT(Results!J82,1)","v":""},{"$f":"Results!A118","v":115},{"$f":"RaceTime(Results!C118,Results!D118,Results!E118)","v":"0:52:0"},{"$f":"IF(Results!F118>\"\",Results!F118,Results!G118)","v":""},{"$f":"Results!H118","v":""},{"$f":"RIGHT(Results!J118,1)","v":" "},{"$f":"Results!A154","v":151},{"$f":"RaceTime(Results!C154,Results!D154,Results!E154)","v":"0:52:0"},{"$f":"IF(Results!F154>\"\",Results!F154,Results!G154)","v":""},{"$f":"Results!H154","v":""},{"$f":"RIGHT(Results!J154,1)","v":" "},{"$f":"Results!A190","v":187},{"$f":"RaceTime(Results!C190,Results!D190,Results!E190)","v":"0:52:0"},{"$f":"IF(Results!F190>\"\",Results!F190,Results!G190)","v":""},{"$f":"Results!H190","v":""},{"$f":"RIGHT(Results!J190,1)","v":" "},{"$f":"Results!A226","v":223},{"$f":"RaceTime(Results!C226,Results!D226,Results!E226)","v":"0:52:0"},{"$f":"IF(Results!F226>\"\",Results!F226,Results!G226)","v":""},{"$f":"Results!H226","v":""},{"$f":"RIGHT(Results!J226,1)","v":" "},{"$f":"Results!A262","v":259},{"$f":"RaceTime(Results!C262,Results!D262,Results!E262)","v":"0:52:0"},{"$f":"IF(Results!F262>\"\",Results!F262,Results!G262)","v":""},{"$f":"Results!H262","v":""}," ",{"$f":"Results!A298","v":295},{"$f":"RaceTime(Results!C298,Results!D298,Results!E298)","v":"0:52:0"},{"$f":"IF(Results!F298>\"\",Results!F298,Results!G298)","v":""},{"$f":"Results!H298","v":""},{"$f":"RIGHT(Results!J298,1)","v":" "}]
[{"$f":"Results!A11","v":8},{"$f":"RaceTime(Results!C11,Results!D11,Results!E11)","v":"0:27:58"},{"$f":"IF(Results!F11>\"\",Results!F11,Results!G11)","v":"Chris Jackson"},{"$f":"Results!H11","v":"MS"},{"$f":"RIGHT(Results!J11,1)","v":""},{"$f":"Results!A47","v":44},{"$f":"RaceTime(Results!C47,Results!D47,Results!E47)","v":"0:33:26"},{"$f":"IF(Results!F47>\"\",Results!F47,Results!G47)","v":"Steve Haake"},{"$f":"Results!H47","v":"MV50"},{"$f":"RIGHT(Results!J47,1)","v":""},{"$f":"Results!A83","v":80},{"$f":"RaceTime(Results!C83,Results!D83,Results!E83)","v":"0:37:47"},{"$f":"IF(Results!F83>\"\",Results!F83,Results!G83)","v":"Glen Cropper"},{"$f":"Results!H83","v":"MS"},{"$f":"RIGHT(Results!J83,1)","v":""},{"$f":"Results!A119","v":116},{"$f":"RaceTime(Results!C119,Results!D119,Results!E119)","v":"0:52:0"},{"$f":"IF(Results!F119>\"\",Results!F119,Results!G119)","v":""},{"$f":"Results!H119","v":""},{"$f":"RIGHT(Results!J119,1)","v":" "},{"$f":"Results!A155","v":152},{"$f":"RaceTime(Results!C155,Results!D155,Results!E155)","v":"0:52:0"},{"$f":"IF(Results!F155>\"\",Results!F155,Results!G155)","v":""},{"$f":"Results!H155","v":""},{"$f":"RIGHT(Results!J155,1)","v":" "},{"$f":"Results!A191","v":188},{"$f":"RaceTime(Results!C191,Results!D191,Results!E191)","v":"0:52:0"},{"$f":"IF(Results!F191>\"\",Results!F191,Results!G191)","v":""},{"$f":"Results!H191","v":""},{"$f":"RIGHT(Results!J191,1)","v":" "},{"$f":"Results!A227","v":224},{"$f":"RaceTime(Results!C227,Results!D227,Results!E227)","v":"0:52:0"},{"$f":"IF(Results!F227>\"\",Results!F227,Results!G227)","v":""},{"$f":"Results!H227","v":""},{"$f":"RIGHT(Results!J227,1)","v":" "},{"$f":"Results!A263","v":260},{"$f":"RaceTime(Results!C263,Results!D263,Results!E263)","v":"0:52:0"},{"$f":"IF(Results!F263>\"\",Results!F263,Results!G263)","v":""},{"$f":"Results!H263","v":""},"N",{"$f":"Results!A299","v":296},{"$f":"RaceTime(Results!C299,Results!D299,Results!E299)","v":"0:52:0"},{"$f":"IF(Results!F299>\"\",Results!F299,Results!G299)","v":""},{"$f":"Results!H299","v":""},{"$f":"RIGHT(Results!J299,1)","v":" "}]
[{"$f":"Results!A12","v":9},{"$f":"RaceTime(Results!C12,Results!D12,Results!E12)","v":"0:28:37"},{"$f":"IF(Results!F12>\"\",Results!F12,Results!G12)","v":"Steve Fraser"},{"$f":"Results!H12","v":"MS"},{"$f":"RIGHT(Results!J12,1)","v":""},{"$f":"Results!A48","v":45},{"$f":"RaceTime(Results!C48,Results!D48,Results!E48)","v":"0:33:31"},{"$f":"IF(Results!F48>\"\",Results!F48,Results!G48)","v":"David Beel"},{"$f":"Results!H48","v":"MS"},{"$f":"RIGHT(Results!J48,1)","v":""},{"$f":"Results!A84","v":81},{"$f":"RaceTime(Results!C84,Results!D84,Results!E84)","v":"0:37:56"},{"$f":"IF(Results!F84>\"\",Results!F84,Results!G84)","v":"Roz Massey"},{"$f":"Results!H84","v":"FS"},{"$f":"RIGHT(Results!J84,1)","v":" "},{"$f":"Results!A120","v":117},{"$f":"RaceTime(Results!C120,Results!D120,Results!E120)","v":"0:52:0"},{"$f":"IF(Results!F120>\"\",Results!F120,Results!G120)","v":""},{"$f":"Results!H120","v":""},{"$f":"RIGHT(Results!J120,1)","v":" "},{"$f":"Results!A156","v":153},{"$f":"RaceTime(Results!C156,Results!D156,Results!E156)","v":"0:52:0"},{"$f":"IF(Results!F156>\"\",Results!F156,Results!G156)","v":""},{"$f":"Results!H156","v":""},{"$f":"RIGHT(Results!J156,1)","v":" "},{"$f":"Results!A192","v":189},{"$f":"RaceTime(Results!C192,Results!D192,Results!E192)","v":"0:52:0"},{"$f":"IF(Results!F192>\"\",Results!F192,Results!G192)","v":""},{"$f":"Results!H192","v":""},{"$f":"RIGHT(Results!J192,1)","v":" "},{"$f":"Results!A228","v":225},{"$f":"RaceTime(Results!C228,Results!D228,Results!E228)","v":"0:52:0"},{"$f":"IF(Results!F228>\"\",Results!F228,Results!G228)","v":""},{"$f":"Results!H228","v":""},{"$f":"RIGHT(Results!J228,1)","v":" "},{"$f":"Results!A264","v":261},{"$f":"RaceTime(Results!C264,Results!D264,Results!E264)","v":"0:52:0"},{"$f":"IF(Results!F264>\"\",Results!F264,Results!G264)","v":""},{"$f":"Results!H264","v":""}," ",{"$f":"Results!A300","v":297},{"$f":"RaceTime(Results!C300,Results!D300,Results!E300)","v":"0:52:0"},{"$f":"IF(Results!F300>\"\",Results!F300,Results!G300)","v":""},{"$f":"Results!H300","v":""},{"$f":"RIGHT(Results!J300,1)","v":" "}]
[{"$f":"Results!A13","v":10},{"$f":"RaceTime(Results!C13,Results!D13,Results!E13)","v":"0:28:43"},{"$f":"IF(Results!F13>\"\",Results!F13,Results!G13)","v":"Francis Williams"},{"$f":"Results!H13","v":"MS"},{"$f":"RIGHT(Results!J13,1)","v":""},{"$f":"Results!A49","v":46},{"$f":"RaceTime(Results!C49,Results!D49,Results!E49)","v":"0:33:34"},{"$f":"IF(Results!F49>\"\",Results!F49,Results!G49)","v":"Mike Adsett"},{"$f":"Results!H49","v":"MV50"},{"$f":"RIGHT(Results!J49,1)","v":"B"},{"$f":"Results!A85","v":82},{"$f":"RaceTime(Results!C85,Results!D85,Results!E85)","v":"0:38:19"},{"$f":"IF(Results!F85>\"\",Results!F85,Results!G85)","v":"Rachel Watson"},{"$f":"Results!H85","v":"FV40"},{"$f":"RIGHT(Results!J85,1)","v":""},{"$f":"Results!A121","v":118},{"$f":"RaceTime(Results!C121,Results!D121,Results!E121)","v":"0:52:0"},{"$f":"IF(Results!F121>\"\",Results!F121,Results!G121)","v":""},{"$f":"Results!H121","v":""},{"$f":"RIGHT(Results!J121,1)","v":" "},{"$f":"Results!A157","v":154},{"$f":"RaceTime(Results!C157,Results!D157,Results!E157)","v":"0:52:0"},{"$f":"IF(Results!F157>\"\",Results!F157,Results!G157)","v":""},{"$f":"Results!H157","v":""},{"$f":"RIGHT(Results!J157,1)","v":" "},{"$f":"Results!A193","v":190},{"$f":"RaceTime(Results!C193,Results!D193,Results!E193)","v":"0:52:0"},{"$f":"IF(Results!F193>\"\",Results!F193,Results!G193)","v":""},{"$f":"Results!H193","v":""},{"$f":"RIGHT(Results!J193,1)","v":" "},{"$f":"Results!A229","v":226},{"$f":"RaceTime(Results!C229,Results!D229,Results!E229)","v":"0:52:0"},{"$f":"IF(Results!F229>\"\",Results!F229,Results!G229)","v":""},{"$f":"Results!H229","v":""},{"$f":"RIGHT(Results!J229,1)","v":" "},{"$f":"Results!A265","v":262},{"$f":"RaceTime(Results!C265,Results!D265,Results!E265)","v":"0:52:0"},{"$f":"IF(Results!F265>\"\",Results!F265,Results!G265)","v":""},{"$f":"Results!H265","v":""}," ",{"$f":"Results!A301","v":298},{"$f":"RaceTime(Results!C301,Results!D301,Results!E301)","v":"0:52:0"},{"$f":"IF(Results!F301>\"\",Results!F301,Results!G301)","v":""},{"$f":"Results!H301","v":""},{"$f":"RIGHT(Results!J301,1)","v":" "}]
[{"$f":"Results!A14","v":11},{"$f":"RaceTime(Results!C14,Results!D14,Results!E14)","v":"0:28:50"},{"$f":"IF(Results!F14>\"\",Results!F14,Results!G14)","v":"Chris Bannister"},{"$f":"Results!H14","v":"MV45"},{"$f":"RIGHT(Results!J14,1)","v":""},{"$f":"Results!A50","v":47},{"$f":"RaceTime(Results!C50,Results!D50,Results!E50)","v":"0:33:52"},{"$f":"IF(Results!F50>\"\",Results!F50,Results!G50)","v":"Rob Willis"},{"$f":"Results!H50","v":"MV40"},{"$f":"RIGHT(Results!J50,1)","v":""},{"$f":"Results!A86","v":83},{"$f":"RaceTime(Results!C86,Results!D86,Results!E86)","v":"0:38:28"},{"$f":"IF(Results!F86>\"\",Results!F86,Results!G86)","v":"Nathan Hoyland"},{"$f":"Results!H86","v":"MS"},{"$f":"RIGHT(Results!J86,1)","v":""},{"$f":"Results!A122","v":119},{"$f":"RaceTime(Results!C122,Results!D122,Results!E122)","v":"0:52:0"},{"$f":"IF(Results!F122>\"\",Results!F122,Results!G122)","v":""},{"$f":"Results!H122","v":""},{"$f":"RIGHT(Results!J122,1)","v":" "},{"$f":"Results!A158","v":155},{"$f":"RaceTime(Results!C158,Results!D158,Results!E158)","v":"0:52:0"},{"$f":"IF(Results!F158>\"\",Results!F158,Results!G158)","v":""},{"$f":"Results!H158","v":""},{"$f":"RIGHT(Results!J158,1)","v":" "},{"$f":"Results!A194","v":191},{"$f":"RaceTime(Results!C194,Results!D194,Results!E194)","v":"0:52:0"},{"$f":"IF(Results!F194>\"\",Results!F194,Results!G194)","v":""},{"$f":"Results!H194","v":""},{"$f":"RIGHT(Results!J194,1)","v":" "},{"$f":"Results!A230","v":227},{"$f":"RaceTime(Results!C230,Results!D230,Results!E230)","v":"0:52:0"},{"$f":"IF(Results!F230>\"\",Results!F230,Results!G230)","v":""},{"$f":"Results!H230","v":""},{"$f":"RIGHT(Results!J230,1)","v":" "},{"$f":"Results!A266","v":263},{"$f":"RaceTime(Results!C266,Results!D266,Results!E266)","v":"0:52:0"},{"$f":"IF(Results!F266>\"\",Results!F266,Results!G266)","v":""},{"$f":"Results!H266","v":""}," ",{"$f":"Results!A302","v":299},{"$f":"RaceTime(Results!C302,Results!D302,Results!E302)","v":"0:52:0"},{"$f":"IF(Results!F302>\"\",Results!F302,Results!G302)","v":""},{"$f":"Results!H302","v":""},{"$f":"RIGHT(Results!J302,1)","v":" "}]
[{"$f":"Results!A15","v":12},{"$f":"RaceTime(Results!C15,Results!D15,Results!E15)","v":"0:28:56"},{"$f":"IF(Results!F15>\"\",Results!F15,Results!G15)","v":"Andrew Davies"},{"$f":"Results!H15","v":"MV45"},{"$f":"RIGHT(Results!J15,1)","v":""},{"$f":"Results!A51","v":48},{"$f":"RaceTime(Results!C51,Results!D51,Results!E51)","v":"0:33:54"},{"$f":"IF(Results!F51>\"\",Results!F51,Results!G51)","v":"Jimmy Sharman"},{"$f":"Results!H51","v":"MS"},{"$f":"RIGHT(Results!J51,1)","v":""},{"$f":"Results!A87","v":84},{"$f":"RaceTime(Results!C87,Results!D87,Results!E87)","v":"0:38:41"},{"$f":"IF(Results!F87>\"\",Results!F87,Results!G87)","v":"Yvonne Twelvetrees"},{"$f":"Results!H87","v":"FV60"},{"$f":"RIGHT(Results!J87,1)","v":""},{"$f":"Results!A123","v":120},{"$f":"RaceTime(Results!C123,Results!D123,Results!E123)","v":"0:52:0"},{"$f":"IF(Results!F123>\"\",Results!F123,Results!G123)","v":""},{"$f":"Results!H123","v":""},{"$f":"RIGHT(Results!J123,1)","v":" "},{"$f":"Results!A159","v":156},{"$f":"RaceTime(Results!C159,Results!D159,Results!E159)","v":"0:52:0"},{"$f":"IF(Results!F159>\"\",Results!F159,Results!G159)","v":""},{"$f":"Results!H159","v":""},{"$f":"RIGHT(Results!J159,1)","v":" "},{"$f":"Results!A195","v":192},{"$f":"RaceTime(Results!C195,Results!D195,Results!E195)","v":"0:52:0"},{"$f":"IF(Results!F195>\"\",Results!F195,Results!G195)","v":""},{"$f":"Results!H195","v":""},{"$f":"RIGHT(Results!J195,1)","v":" "},{"$f":"Results!A231","v":228},{"$f":"RaceTime(Results!C231,Results!D231,Results!E231)","v":"0:52:0"},{"$f":"IF(Results!F231>\"\",Results!F231,Results!G231)","v":""},{"$f":"Results!H231","v":""},{"$f":"RIGHT(Results!J231,1)","v":" "},{"$f":"Results!A267","v":264},{"$f":"RaceTime(Results!C267,Results!D267,Results!E267)","v":"0:52:0"},{"$f":"IF(Results!F267>\"\",Results!F267,Results!G267)","v":""},{"$f":"Results!H267","v":""}," ",{"$f":"Results!A303","v":300},{"$f":"RaceTime(Results!C303,Results!D303,Results!E303)","v":"0:52:0"},{"$f":"IF(Results!F303>\"\",Results!F303,Results!G303)","v":""},{"$f":"Results!H303","v":""},{"$f":"RIGHT(Results!J303,1)","v":" "}]
[{"$f":"Results!A16","v":13},{"$f":"RaceTime(Results!C16,Results!D16,Results!E16)","v":"0:29:23"},{"$f":"IF(Results!F16>\"\",Results!F16,Results!G16)","v":"Alasdair Menmuir"},{"$f":"Results!H16","v":"MS"},{"$f":"RIGHT(Results!J16,1)","v":""},{"$f":"Results!A52","v":49},{"$f":"RaceTime(Results!C52,Results!D52,Results!E52)","v":"0:33:55"},{"$f":"IF(Results!F52>\"\",Results!F52,Results!G52)","v":"Thomas Mccart"},{"$f":"Results!H52","v":"MS"},{"$f":"RIGHT(Results!J52,1)","v":""},{"$f":"Results!A88","v":85},{"$f":"RaceTime(Results!C88,Results!D88,Results!E88)","v":"0:39:11"},{"$f":"IF(Results!F88>\"\",Results!F88,Results!G88)","v":"Andrew Matthews"},{"$f":"Results!H88","v":"MV50"},{"$f":"RIGHT(Results!J88,1)","v":""},{"$f":"Results!A124","v":121},{"$f":"RaceTime(Results!C124,Results!D124,Results!E124)","v":"0:52:0"},{"$f":"IF(Results!F124>\"\",Results!F124,Results!G124)","v":""},{"$f":"Results!H124","v":""},{"$f":"RIGHT(Results!J124,1)","v":" "},{"$f":"Results!A160","v":157},{"$f":"RaceTime(Results!C160,Results!D160,Results!E160)","v":"0:52:0"},{"$f":"IF(Results!F160>\"\",Results!F160,Results!G160)","v":""},{"$f":"Results!H160","v":""},{"$f":"RIGHT(Results!J160,1)","v":" "},{"$f":"Results!A196","v":193},{"$f":"RaceTime(Results!C196,Results!D196,Results!E196)","v":"0:52:0"},{"$f":"IF(Results!F196>\"\",Results!F196,Results!G196)","v":""},{"$f":"Results!H196","v":""},{"$f":"RIGHT(Results!J196,1)","v":" "},{"$f":"Results!A232","v":229},{"$f":"RaceTime(Results!C232,Results!D232,Results!E232)","v":"0:52:0"},{"$f":"IF(Results!F232>\"\",Results!F232,Results!G232)","v":""},{"$f":"Results!H232","v":""},{"$f":"RIGHT(Results!J232,1)","v":" "},{"$f":"Results!A268","v":265},{"$f":"RaceTime(Results!C268,Results!D268,Results!E268)","v":"0:52:0"},{"$f":"IF(Results!F268>\"\",Results!F268,Results!G268)","v":""},{"$f":"Results!H268","v":""}," ",{"$f":"Results!A304","v":301},{"$f":"RaceTime(Results!C304,Results!D304,Results!E304)","v":"0:52:0"},{"$f":"IF(Results!F304>\"\",Results!F304,Results!G304)","v":""},{"$f":"Results!H304","v":""},{"$f":"RIGHT(Results!J304,1)","v":" "}]
[{"$f":"Results!A17","v":14},{"$f":"RaceTime(Results!C17,Results!D17,Results!E17)","v":"0:29:33"},{"$f":"IF(Results!F17>\"\",Results!F17,Results!G17)","v":"Bob Johnson"},{"$f":"Results!H17","v":"MV40"},{"$f":"RIGHT(Results!J17,1)","v":""},{"$f":"Results!A53","v":50},{"$f":"RaceTime(Results!C53,Results!D53,Results!E53)","v":"0:34:17"},{"$f":"IF(Results!F53>\"\",Results!F53,Results!G53)","v":"Roland Meylan"},{"$f":"Results!H53","v":"MV45"},{"$f":"RIGHT(Results!J53,1)","v":""},{"$f":"Results!A89","v":86},{"$f":"RaceTime(Results!C89,Results!D89,Results!E89)","v":"0:39:15"},{"$f":"IF(Results!F89>\"\",Results!F89,Results!G89)","v":"Karis Hodgkinson"},{"$f":"Results!H89","v":"FS"},{"$f":"RIGHT(Results!J89,1)","v":""},{"$f":"Results!A125","v":122},{"$f":"RaceTime(Results!C125,Results!D125,Results!E125)","v":"0:52:0"},{"$f":"IF(Results!F125>\"\",Results!F125,Results!G125)","v":""},{"$f":"Results!H125","v":""},{"$f":"RIGHT(Results!J125,1)","v":" "},{"$f":"Results!A161","v":158},{"$f":"RaceTime(Results!C161,Results!D161,Results!E161)","v":"0:52:0"},{"$f":"IF(Results!F161>\"\",Results!F161,Results!G161)","v":""},{"$f":"Results!H161","v":""},{"$f":"RIGHT(Results!J161,1)","v":" "},{"$f":"Results!A197","v":194},{"$f":"RaceTime(Results!C197,Results!D197,Results!E197)","v":"0:52:0"},{"$f":"IF(Results!F197>\"\",Results!F197,Results!G197)","v":""},{"$f":"Results!H197","v":""},{"$f":"RIGHT(Results!J197,1)","v":" "},{"$f":"Results!A233","v":230},{"$f":"RaceTime(Results!C233,Results!D233,Results!E233)","v":"0:52:0"},{"$f":"IF(Results!F233>\"\",Results!F233,Results!G233)","v":""},{"$f":"Results!H233","v":""},{"$f":"RIGHT(Results!J233,1)","v":" "},{"$f":"Results!A269","v":266},{"$f":"RaceTime(Results!C269,Results!D269,Results!E269)","v":"0:52:0"},{"$f":"IF(Results!F269>\"\",Results!F269,Results!G269)","v":""},{"$f":"Results!H269","v":""}," ",{"$f":"Results!A305","v":302},{"$f":"RaceTime(Results!C305,Results!D305,Results!E305)","v":"0:52:0"},{"$f":"IF(Results!F305>\"\",Results!F305,Results!G305)","v":""},{"$f":"Results!H305","v":""},{"$f":"RIGHT(Results!J305,1)","v":" "}]
[{"$f":"Results!A18","v":15},{"$f":"RaceTime(Results!C18,Results!D18,Results!E18)","v":"0:29:37"},{"$f":"IF(Results!F18>\"\",Results!F18,Results!G18)","v":"Paul V Stuart"},{"$f":"Results!H18","v":"MV45"},{"$f":"RIGHT(Results!J18,1)","v":""},{"$f":"Results!A54","v":51},{"$f":"RaceTime(Results!C54,Results!D54,Results!E54)","v":"0:34:18"},{"$f":"IF(Results!F54>\"\",Results!F54,Results!G54)","v":"Stephen Hughes"},{"$f":"Results!H54","v":"MV45"},{"$f":"RIGHT(Results!J54,1)","v":"B"},{"$f":"Results!A90","v":87},{"$f":"RaceTime(Results!C90,Results!D90,Results!E90)","v":"0:39:33"},{"$f":"IF(Results!F90>\"\",Results!F90,Results!G90)","v":"Victoria Hawkins"},{"$f":"Results!H90","v":"FV45"},{"$f":"RIGHT(Results!J90,1)","v":""},{"$f":"Results!A126","v":123},{"$f":"RaceTime(Results!C126,Results!D126,Results!E126)","v":"0:52:0"},{"$f":"IF(Results!F126>\"\",Results!F126,Results!G126)","v":""},{"$f":"Results!H126","v":""},{"$f":"RIGHT(Results!J126,1)","v":" "},{"$f":"Results!A162","v":159},{"$f":"RaceTime(Results!C162,Results!D162,Results!E162)","v":"0:52:0"},{"$f":"IF(Results!F162>\"\",Results!F162,Results!G162)","v":""},{"$f":"Results!H162","v":""},{"$f":"RIGHT(Results!J162,1)","v":" "},{"$f":"Results!A198","v":195},{"$f":"RaceTime(Results!C198,Results!D198,Results!E198)","v":"0:52:0"},{"$f":"IF(Results!F198>\"\",Results!F198,Results!G198)","v":""},{"$f":"Results!H198","v":""},{"$f":"RIGHT(Results!J198,1)","v":" "},{"$f":"Results!A234","v":231},{"$f":"RaceTime(Results!C234,Results!D234,Results!E234)","v":"0:52:0"},{"$f":"IF(Results!F234>\"\",Results!F234,Results!G234)","v":""},{"$f":"Results!H234","v":""},{"$f":"RIGHT(Results!J234,1)","v":" "},{"$f":"Results!A270","v":267},{"$f":"RaceTime(Results!C270,Results!D270,Results!E270)","v":"0:52:0"},{"$f":"IF(Results!F270>\"\",Results!F270,Results!G270)","v":""},{"$f":"Results!H270","v":""}," ",{"$f":"Results!A306","v":303},{"$f":"RaceTime(Results!C306,Results!D306,Results!E306)","v":"0:52:0"},{"$f":"IF(Results!F306>\"\",Results!F306,Results!G306)","v":""},{"$f":"Results!H306","v":""},{"$f":"RIGHT(Results!J306,1)","v":" "}]
[{"$f":"Results!A19","v":16},{"$f":"RaceTime(Results!C19,Results!D19,Results!E19)","v":"0:29:45"},{"$f":"IF(Results!F19>\"\",Results!F19,Results!G19)","v":"Philip Morris"},{"$f":"Results!H19","v":"MS"},{"$f":"RIGHT(Results!J19,1)","v":""},{"$f":"Results!A55","v":52},{"$f":"RaceTime(Results!C55,Results!D55,Results!E55)","v":"0:34:23"},{"$f":"IF(Results!F55>\"\",Results!F55,Results!G55)","v":"Graham Barnes"},{"$f":"Results!H55","v":"MV60"},{"$f":"RIGHT(Results!J55,1)","v":""},{"$f":"Results!A91","v":88},{"$f":"RaceTime(Results!C91,Results!D91,Results!E91)","v":"0:39:41"},{"$f":"IF(Results!F91>\"\",Results!F91,Results!G91)","v":"Carol Beattie"},{"$f":"Results!H91","v":"FV60"},{"$f":"RIGHT(Results!J91,1)","v":""},{"$f":"Results!A127","v":124},{"$f":"RaceTime(Results!C127,Results!D127,Results!E127)","v":"0:52:0"},{"$f":"IF(Results!F127>\"\",Results!F127,Results!G127)","v":""},{"$f":"Results!H127","v":""},{"$f":"RIGHT(Results!J127,1)","v":" "},{"$f":"Results!A163","v":160},{"$f":"RaceTime(Results!C163,Results!D163,Results!E163)","v":"0:52:0"},{"$f":"IF(Results!F163>\"\",Results!F163,Results!G163)","v":""},{"$f":"Results!H163","v":""},{"$f":"RIGHT(Results!J163,1)","v":" "},{"$f":"Results!A199","v":196},{"$f":"RaceTime(Results!C199,Results!D199,Results!E199)","v":"0:52:0"},{"$f":"IF(Results!F199>\"\",Results!F199,Results!G199)","v":""},{"$f":"Results!H199","v":""},{"$f":"RIGHT(Results!J199,1)","v":" "},{"$f":"Results!A235","v":232},{"$f":"RaceTime(Results!C235,Results!D235,Results!E235)","v":"0:52:0"},{"$f":"IF(Results!F235>\"\",Results!F235,Results!G235)","v":""},{"$f":"Results!H235","v":""},{"$f":"RIGHT(Results!J235,1)","v":" "},{"$f":"Results!A271","v":268},{"$f":"RaceTime(Results!C271,Results!D271,Results!E271)","v":"0:52:0"},{"$f":"IF(Results!F271>\"\",Results!F271,Results!G271)","v":""},{"$f":"Results!H271","v":""}," ",{"$f":"Results!A307","v":304},{"$f":"RaceTime(Results!C307,Results!D307,Results!E307)","v":"0:52:0"},{"$f":"IF(Results!F307>\"\",Results!F307,Results!G307)","v":""},{"$f":"Results!H307","v":""},{"$f":"RIGHT(Results!J307,1)","v":" "}]
[{"$f":"Results!A20","v":17},{"$f":"RaceTime(Results!C20,Results!D20,Results!E20)","v":"0:29:53"},{"$f":"IF(Results!F20>\"\",Results!F20,Results!G20)","v":"Peter Stenton"},{"$f":"Results!H20","v":"MS"},{"$f":"RIGHT(Results!J20,1)","v":""},{"$f":"Results!A56","v":53},{"$f":"RaceTime(Results!C56,Results!D56,Results!E56)","v":"0:34:37"},{"$f":"IF(Results!F56>\"\",Results!F56,Results!G56)","v":"Dave Sykes"},{"$f":"Results!H56","v":"MV40"},{"$f":"RIGHT(Results!J56,1)","v":""},{"$f":"Results!A92","v":89},{"$f":"RaceTime(Results!C92,Results!D92,Results!E92)","v":"0:39:57"},{"$f":"IF(Results!F92>\"\",Results!F92,Results!G92)","v":"Heather Beaumont"},{"$f":"Results!H92","v":"FS"},{"$f":"RIGHT(Results!J92,1)","v":""},{"$f":"Results!A128","v":125},{"$f":"RaceTime(Results!C128,Results!D128,Results!E128)","v":"0:52:0"},{"$f":"IF(Results!F128>\"\",Results!F128,Results!G128)","v":""},{"$f":"Results!H128","v":""},{"$f":"RIGHT(Results!J128,1)","v":" "},{"$f":"Results!A164","v":161},{"$f":"RaceTime(Results!C164,Results!D164,Results!E164)","v":"0:52:0"},{"$f":"IF(Results!F164>\"\",Results!F164,Results!G164)","v":""},{"$f":"Results!H164","v":""},{"$f":"RIGHT(Results!J164,1)","v":" "},{"$f":"Results!A200","v":197},{"$f":"RaceTime(Results!C200,Results!D200,Results!E200)","v":"0:52:0"},{"$f":"IF(Results!F200>\"\",Results!F200,Results!G200)","v":""},{"$f":"Results!H200","v":""},{"$f":"RIGHT(Results!J200,1)","v":" "},{"$f":"Results!A236","v":233},{"$f":"RaceTime(Results!C236,Results!D236,Results!E236)","v":"0:52:0"},{"$f":"IF(Results!F236>\"\",Results!F236,Results!G236)","v":""},{"$f":"Results!H236","v":""},{"$f":"RIGHT(Results!J236,1)","v":" "},{"$f":"Results!A272","v":269},{"$f":"RaceTime(Results!C272,Results!D272,Results!E272)","v":"0:52:0"},{"$f":"IF(Results!F272>\"\",Results!F272,Results!G272)","v":""},{"$f":"Results!H272","v":""}," ",{"$f":"Results!A308","v":0},{"$f":"RaceTime(Results!C308,Results!D308,Results!E308)","v":":0:0"},{"$f":"IF(Results!F308>\"\",Results!F308,Results!G308)","v":0},{"$f":"Results!H308","v":0},{"$f":"RIGHT(Results!J308,1)","v":""}]
[{"$f":"Results!A21","v":18},{"$f":"RaceTime(Results!C21,Results!D21,Results!E21)","v":"0:30:00"},{"$f":"IF(Results!F21>\"\",Results!F21,Results!G21)","v":"Mark Elwis"},{"$f":"Results!H21","v":"MV50"},{"$f":"RIGHT(Results!J21,1)","v":""},{"$f":"Results!A57","v":54},{"$f":"RaceTime(Results!C57,Results!D57,Results!E57)","v":"0:34:38"},{"$f":"IF(Results!F57>\"\",Results!F57,Results!G57)","v":"Stuart Rook"},{"$f":"Results!H57","v":"MV40"},{"$f":"RIGHT(Results!J57,1)","v":"B"},{"$f":"Results!A93","v":90},{"$f":"RaceTime(Results!C93,Results!D93,Results!E93)","v":"0:40:23"},{"$f":"IF(Results!F93>\"\",Results!F93,Results!G93)","v":"Maxine Ison"},{"$f":"Results!H93","v":"FV50"},{"$f":"RIGHT(Results!J93,1)","v":""},{"$f":"Results!A129","v":126},{"$f":"RaceTime(Results!C129,Results!D129,Results!E129)","v":"0:52:0"},{"$f":"IF(Results!F129>\"\",Results!F129,Results!G129)","v":""},{"$f":"Results!H129","v":""},{"$f":"RIGHT(Results!J129,1)","v":" "},{"$f":"Results!A165","v":162},{"$f":"RaceTime(Results!C165,Results!D165,Results!E165)","v":"0:52:0"},{"$f":"IF(Results!F165>\"\",Results!F165,Results!G165)","v":""},{"$f":"Results!H165","v":""},{"$f":"RIGHT(Results!J165,1)","v":" "},{"$f":"Results!A201","v":198},{"$f":"RaceTime(Results!C201,Results!D201,Results!E201)","v":"0:52:0"},{"$f":"IF(Results!F201>\"\",Results!F201,Results!G201)","v":""},{"$f":"Results!H201","v":""},{"$f":"RIGHT(Results!J201,1)","v":" "},{"$f":"Results!A237","v":234},{"$f":"RaceTime(Results!C237,Results!D237,Results!E237)","v":"0:52:0"},{"$f":"IF(Results!F237>\"\",Results!F237,Results!G237)","v":""},{"$f":"Results!H237","v":""},{"$f":"RIGHT(Results!J237,1)","v":" "},{"$f":"Results!A273","v":270},{"$f":"RaceTime(Results!C273,Results!D273,Results!E273)","v":"0:52:0"},{"$f":"IF(Results!F273>\"\",Results!F273,Results!G273)","v":""},{"$f":"Results!H273","v":""}," ",{"$f":"Results!A309","v":0},{"$f":"RaceTime(Results!C309,Results!D309,Results!E309)","v":":0:0"},{"$f":"IF(Results!F309>\"\",Results!F309,Results!G309)","v":0},{"$f":"Results!H309","v":0},{"$f":"RIGHT(Results!J309,1)","v":""}]
[{"$f":"Results!A22","v":19},{"$f":"RaceTime(Results!C22,Results!D22,Results!E22)","v":"0:30:15"},{"$f":"IF(Results!F22>\"\",Results!F22,Results!G22)","v":"Zoe Procter"},{"$f":"Results!H22","v":"FS"},{"$f":"RIGHT(Results!J22,1)","v":"B"},{"$f":"Results!A58","v":55},{"$f":"RaceTime(Results!C58,Results!D58,Results!E58)","v":"0:34:39"},{"$f":"IF(Results!F58>\"\",Results!F58,Results!G58)","v":"Neil Hindle"},{"$f":"Results!H58","v":"MV60"},{"$f":"RIGHT(Results!J58,1)","v":""},{"$f":"Results!A94","v":91},{"$f":"RaceTime(Results!C94,Results!D94,Results!E94)","v":"0:40:30"},{"$f":"IF(Results!F94>\"\",Results!F94,Results!G94)","v":"William Brandley"},{"$f":"Results!H94","v":"MS"},{"$f":"RIGHT(Results!J94,1)","v":""},{"$f":"Results!A130","v":127},{"$f":"RaceTime(Results!C130,Results!D130,Results!E130)","v":"0:52:0"},{"$f":"IF(Results!F130>\"\",Results!F130,Results!G130)","v":""},{"$f":"Results!H130","v":""},{"$f":"RIGHT(Results!J130,1)","v":" "},{"$f":"Results!A166","v":163},{"$f":"RaceTime(Results!C166,Results!D166,Results!E166)","v":"0:52:0"},{"$f":"IF(Results!F166>\"\",Results!F166,Results!G166)","v":""},{"$f":"Results!H166","v":""},{"$f":"RIGHT(Results!J166,1)","v":" "},{"$f":"Results!A202","v":199},{"$f":"RaceTime(Results!C202,Results!D202,Results!E202)","v":"0:52:0"},{"$f":"IF(Results!F202>\"\",Results!F202,Results!G202)","v":""},{"$f":"Results!H202","v":""},{"$f":"RIGHT(Results!J202,1)","v":" "},{"$f":"Results!A238","v":235},{"$f":"RaceTime(Results!C238,Results!D238,Results!E238)","v":"0:52:0"},{"$f":"IF(Results!F238>\"\",Results!F238,Results!G238)","v":""},{"$f":"Results!H238","v":""},{"$f":"RIGHT(Results!J238,1)","v":" "},{"$f":"Results!A274","v":271},{"$f":"RaceTime(Results!C274,Results!D274,Results!E274)","v":"0:52:0"},{"$f":"IF(Results!F274>\"\",Results!F274,Results!G274)","v":""},{"$f":"Results!H274","v":""},"N",{"$f":"Results!A310","v":0},{"$f":"RaceTime(Results!C310,Results!D310,Results!E310)","v":":0:0"},{"$f":"IF(Results!F310>\"\",Results!F310,Results!G310)","v":0},{"$f":"Results!H310","v":0},{"$f":"RIGHT(Results!J310,1)","v":""}]
[{"$f":"Results!A23","v":20},{"$f":"RaceTime(Results!C23,Results!D23,Results!E23)","v":"0:30:35"},{"$f":"IF(Results!F23>\"\",Results!F23,Results!G23)","v":"Mark Quince"},{"$f":"Results!H23","v":"MV45"},{"$f":"RIGHT(Results!J23,1)","v":""},{"$f":"Results!A59","v":56},{"$f":"RaceTime(Results!C59,Results!D59,Results!E59)","v":"0:34:52"},{"$f":"IF(Results!F59>\"\",Results!F59,Results!G59)","v":"Clare Howarth"},{"$f":"Results!H59","v":"FS"},{"$f":"RIGHT(Results!J59,1)","v":""},{"$f":"Results!A95","v":92},{"$f":"RaceTime(Results!C95,Results!D95,Results!E95)","v":"0:41:49"},{"$f":"IF(Results!F95>\"\",Results!F95,Results!G95)","v":"Jill Davies"},{"$f":"Results!H95","v":"FV55"},{"$f":"RIGHT(Results!J95,1)","v":""},{"$f":"Results!A131","v":128},{"$f":"RaceTime(Results!C131,Results!D131,Results!E131)","v":"0:52:0"},{"$f":"IF(Results!F131>\"\",Results!F131,Results!G131)","v":""},{"$f":"Results!H131","v":""},{"$f":"RIGHT(Results!J131,1)","v":" "},{"$f":"Results!A167","v":164},{"$f":"RaceTime(Results!C167,Results!D167,Results!E167)","v":"0:52:0"},{"$f":"IF(Results!F167>\"\",Results!F167,Results!G167)","v":""},{"$f":"Results!H167","v":""},{"$f":"RIGHT(Results!J167,1)","v":" "},{"$f":"Results!A203","v":200},{"$f":"RaceTime(Results!C203,Results!D203,Results!E203)","v":"0:52:0"},{"$f":"IF(Results!F203>\"\",Results!F203,Results!G203)","v":""},{"$f":"Results!H203","v":""},{"$f":"RIGHT(Results!J203,1)","v":" "},{"$f":"Results!A239","v":236},{"$f":"RaceTime(Results!C239,Results!D239,Results!E239)","v":"0:52:0"},{"$f":"IF(Results!F239>\"\",Results!F239,Results!G239)","v":""},{"$f":"Results!H239","v":""},{"$f":"RIGHT(Results!J239,1)","v":" "},{"$f":"Results!A275","v":272},{"$f":"RaceTime(Results!C275,Results!D275,Results!E275)","v":"0:52:0"},{"$f":"IF(Results!F275>\"\",Results!F275,Results!G275)","v":""},{"$f":"Results!H275","v":""}," ",{"$f":"Results!A311","v":0},{"$f":"RaceTime(Results!C311,Results!D311,Results!E311)","v":":0:0"},{"$f":"IF(Results!F311>\"\",Results!F311,Results!G311)","v":0},{"$f":"Results!H311","v":0},{"$f":"RIGHT(Results!J311,1)","v":""}]
[{"$f":"Results!A24","v":21},{"$f":"RaceTime(Results!C24,Results!D24,Results!E24)","v":"0:30:46"},{"$f":"IF(Results!F24>\"\",Results!F24,Results!G24)","v":"Steve Larkin"},{"$f":"Results!H24","v":"MV40"},{"$f":"RIGHT(Results!J24,1)","v":""},{"$f":"Results!A60","v":57},{"$f":"RaceTime(Results!C60,Results!D60,Results!E60)","v":"0:34:56"},{"$f":"IF(Results!F60>\"\",Results!F60,Results!G60)","v":"Lee Gordon"},{"$f":"Results!H60","v":"MV40"},{"$f":"RIGHT(Results!J60,1)","v":""},{"$f":"Results!A96","v":93},{"$f":"RaceTime(Results!C96,Results!D96,Results!E96)","v":"0:41:52"},{"$f":"IF(Results!F96>\"\",Results!F96,Results!G96)","v":"Diane Clewes"},{"$f":"Results!H96","v":"FV50"},{"$f":"RIGHT(Results!J96,1)","v":""},{"$f":"Results!A132","v":129},{"$f":"RaceTime(Results!C132,Results!D132,Results!E132)","v":"0:52:0"},{"$f":"IF(Results!F132>\"\",Results!F132,Results!G132)","v":""},{"$f":"Results!H132","v":""},{"$f":"RIGHT(Results!J132,1)","v":" "},{"$f":"Results!A168","v":165},{"$f":"RaceTime(Results!C168,Results!D168,Results!E168)","v":"0:52:0"},{"$f":"IF(Results!F168>\"\",Results!F168,Results!G168)","v":""},{"$f":"Results!H168","v":""},{"$f":"RIGHT(Results!J168,1)","v":" "},{"$f":"Results!A204","v":201},{"$f":"RaceTime(Results!C204,Results!D204,Results!E204)","v":"0:52:0"},{"$f":"IF(Results!F204>\"\",Results!F204,Results!G204)","v":""},{"$f":"Results!H204","v":""},{"$f":"RIGHT(Results!J204,1)","v":" "},{"$f":"Results!A240","v":237},{"$f":"RaceTime(Results!C240,Results!D240,Results!E240)","v":"0:52:0"},{"$f":"IF(Results!F240>\"\",Results!F240,Results!G240)","v":""},{"$f":"Results!H240","v":""},{"$f":"RIGHT(Results!J240,1)","v":" "},{"$f":"Results!A276","v":273},{"$f":"RaceTime(Results!C276,Results!D276,Results!E276)","v":"0:52:0"},{"$f":"IF(Results!F276>\"\",Results!F276,Results!G276)","v":""},{"$f":"Results!H276","v":""}," ",{"$f":"Results!A312","v":0},{"$f":"RaceTime(Results!C312,Results!D312,Results!E312)","v":":0:0"},{"$f":"IF(Results!F312>\"\",Results!F312,Results!G312)","v":0},{"$f":"Results!H312","v":0},{"$f":"RIGHT(Results!J312,1)","v":""}]
[{"$f":"Results!A25","v":22},{"$f":"RaceTime(Results!C25,Results!D25,Results!E25)","v":"0:30:49"},{"$f":"IF(Results!F25>\"\",Results!F25,Results!G25)","v":"Allyn Raw"},{"$f":"Results!H25","v":"MV40"},{"$f":"RIGHT(Results!J25,1)","v":""},{"$f":"Results!A61","v":58},{"$f":"RaceTime(Results!C61,Results!D61,Results!E61)","v":"0:35:00"},{"$f":"IF(Results!F61>\"\",Results!F61,Results!G61)","v":"Peter Stanley"},{"$f":"Results!H61","v":"MV55"},{"$f":"RIGHT(Results!J61,1)","v":""},{"$f":"Results!A97","v":94},{"$f":"RaceTime(Results!C97,Results!D97,Results!E97)","v":"0:41:57"},{"$f":"IF(Results!F97>\"\",Results!F97,Results!G97)","v":"Joan Waller"},{"$f":"Results!H97","v":"FV55"},{"$f":"RIGHT(Results!J97,1)","v":""},{"$f":"Results!A133","v":130},{"$f":"RaceTime(Results!C133,Results!D133,Results!E133)","v":"0:52:0"},{"$f":"IF(Results!F133>\"\",Results!F133,Results!G133)","v":""},{"$f":"Results!H133","v":""},{"$f":"RIGHT(Results!J133,1)","v":" "},{"$f":"Results!A169","v":166},{"$f":"RaceTime(Results!C169,Results!D169,Results!E169)","v":"0:52:0"},{"$f":"IF(Results!F169>\"\",Results!F169,Results!G169)","v":""},{"$f":"Results!H169","v":""},{"$f":"RIGHT(Results!J169,1)","v":" "},{"$f":"Results!A205","v":202},{"$f":"RaceTime(Results!C205,Results!D205,Results!E205)","v":"0:52:0"},{"$f":"IF(Results!F205>\"\",Results!F205,Results!G205)","v":""},{"$f":"Results!H205","v":""},{"$f":"RIGHT(Results!J205,1)","v":" "},{"$f":"Results!A241","v":238},{"$f":"RaceTime(Results!C241,Results!D241,Results!E241)","v":"0:52:0"},{"$f":"IF(Results!F241>\"\",Results!F241,Results!G241)","v":""},{"$f":"Results!H241","v":""},{"$f":"RIGHT(Results!J241,1)","v":" "},{"$f":"Results!A277","v":274},{"$f":"RaceTime(Results!C277,Results!D277,Results!E277)","v":"0:52:0"},{"$f":"IF(Results!F277>\"\",Results!F277,Results!G277)","v":""},{"$f":"Results!H277","v":""}," ",{"$f":"Results!A313","v":0},{"$f":"RaceTime(Results!C313,Results!D313,Results!E313)","v":":0:0"},{"$f":"IF(Results!F313>\"\",Results!F313,Results!G313)","v":0},{"$f":"Results!H313","v":0},{"$f":"RIGHT(Results!J313,1)","v":""}]
[{"$f":"Results!A26","v":23},{"$f":"RaceTime(Results!C26,Results!D26,Results!E26)","v":"0:30:51"},{"$f":"IF(Results!F26>\"\",Results!F26,Results!G26)","v":"Liam Ashton"},{"$f":"Results!H26","v":"MS"},{"$f":"RIGHT(Results!J26,1)","v":""},{"$f":"Results!A62","v":59},{"$f":"RaceTime(Results!C62,Results!D62,Results!E62)","v":"0:35:08"},{"$f":"IF(Results!F62>\"\",Results!F62,Results!G62)","v":"Will Day"},{"$f":"Results!H62","v":"MV45"},{"$f":"RIGHT(Results!J62,1)","v":""},{"$f":"Results!A98","v":95},{"$f":"RaceTime(Results!C98,Results!D98,Results!E98)","v":"0:42:07"},{"$f":"IF(Results!F98>\"\",Results!F98,Results!G98)","v":"Naomi Rabin"},{"$f":"Results!H98","v":"FS"},{"$f":"RIGHT(Results!J98,1)","v":""},{"$f":"Results!A134","v":131},{"$f":"RaceTime(Results!C134,Results!D134,Results!E134)","v":"0:52:0"},{"$f":"IF(Results!F134>\"\",Results!F134,Results!G134)","v":""},{"$f":"Results!H134","v":""},{"$f":"RIGHT(Results!J134,1)","v":" "},{"$f":"Results!A170","v":167},{"$f":"RaceTime(Results!C170,Results!D170,Results!E170)","v":"0:52:0"},{"$f":"IF(Results!F170>\"\",Results!F170,Results!G170)","v":""},{"$f":"Results!H170","v":""},{"$f":"RIGHT(Results!J170,1)","v":" "},{"$f":"Results!A206","v":203},{"$f":"RaceTime(Results!C206,Results!D206,Results!E206)","v":"0:52:0"},{"$f":"IF(Results!F206>\"\",Results!F206,Results!G206)","v":""},{"$f":"Results!H206","v":""},{"$f":"RIGHT(Results!J206,1)","v":" "},{"$f":"Results!A242","v":239},{"$f":"RaceTime(Results!C242,Results!D242,Results!E242)","v":"0:52:0"},{"$f":"IF(Results!F242>\"\",Results!F242,Results!G242)","v":""},{"$f":"Results!H242","v":""},{"$f":"RIGHT(Results!J242,1)","v":" "},{"$f":"Results!A278","v":275},{"$f":"RaceTime(Results!C278,Results!D278,Results!E278)","v":"0:52:0"},{"$f":"IF(Results!F278>\"\",Results!F278,Results!G278)","v":""},{"$f":"Results!H278","v":""}," ",{"$f":"Results!A314","v":0},{"$f":"RaceTime(Results!C314,Results!D314,Results!E314)","v":":0:0"},{"$f":"IF(Results!F314>\"\",Results!F314,Results!G314)","v":0},{"$f":"Results!H314","v":0},{"$f":"RIGHT(Results!J314,1)","v":""}]
[{"$f":"Results!A27","v":24},{"$f":"RaceTime(Results!C27,Results!D27,Results!E27)","v":"0:31:10"},{"$f":"IF(Results!F27>\"\",Results!F27,Results!G27)","v":"Nick Morris"},{"$f":"Results!H27","v":"MS"},{"$f":"RIGHT(Results!J27,1)","v":""},{"$f":"Results!A63","v":60},{"$f":"RaceTime(Results!C63,Results!D63,Results!E63)","v":"0:35:22"},{"$f":"IF(Results!F63>\"\",Results!F63,Results!G63)","v":"Lorenzo Allievi"},{"$f":"Results!H63","v":"MS"},{"$f":"RIGHT(Results!J63,1)","v":""},{"$f":"Results!A99","v":96},{"$f":"RaceTime(Results!C99,Results!D99,Results!E99)","v":"0:42:16"},{"$f":"IF(Results!F99>\"\",Results!F99,Results!G99)","v":"Jennifer Machan"},{"$f":"Results!H99","v":"FS"},{"$f":"RIGHT(Results!J99,1)","v":""},{"$f":"Results!A135","v":132},{"$f":"RaceTime(Results!C135,Results!D135,Results!E135)","v":"0:52:0"},{"$f":"IF(Results!F135>\"\",Results!F135,Results!G135)","v":""},{"$f":"Results!H135","v":""},{"$f":"RIGHT(Results!J135,1)","v":" "},{"$f":"Results!A171","v":168},{"$f":"RaceTime(Results!C171,Results!D171,Results!E171)","v":"0:52:0"},{"$f":"IF(Results!F171>\"\",Results!F171,Results!G171)","v":""},{"$f":"Results!H171","v":""},{"$f":"RIGHT(Results!J171,1)","v":" "},{"$f":"Results!A207","v":204},{"$f":"RaceTime(Results!C207,Results!D207,Results!E207)","v":"0:52:0"},{"$f":"IF(Results!F207>\"\",Results!F207,Results!G207)","v":""},{"$f":"Results!H207","v":""},{"$f":"RIGHT(Results!J207,1)","v":" "},{"$f":"Results!A243","v":240},{"$f":"RaceTime(Results!C243,Results!D243,Results!E243)","v":"0:52:0"},{"$f":"IF(Results!F243>\"\",Results!F243,Results!G243)","v":""},{"$f":"Results!H243","v":""},{"$f":"RIGHT(Results!J243,1)","v":" "},{"$f":"Results!A279","v":276},{"$f":"RaceTime(Results!C279,Results!D279,Results!E279)","v":"0:52:0"},{"$f":"IF(Results!F279>\"\",Results!F279,Results!G279)","v":""},{"$f":"Results!H279","v":""}," ",{"$f":"Results!A315","v":0},{"$f":"RaceTime(Results!C315,Results!D315,Results!E315)","v":":0:0"},{"$f":"IF(Results!F315>\"\",Results!F315,Results!G315)","v":0},{"$f":"Results!H315","v":0},{"$f":"RIGHT(Results!J315,1)","v":""}]
[{"$f":"Results!A28","v":25},{"$f":"RaceTime(Results!C28,Results!D28,Results!E28)","v":"0:31:13"},{"$f":"IF(Results!F28>\"\",Results!F28,Results!G28)","v":"David Perkins"},{"$f":"Results!H28","v":"MV40"},{"$f":"RIGHT(Results!J28,1)","v":""},{"$f":"Results!A64","v":61},{"$f":"RaceTime(Results!C64,Results!D64,Results!E64)","v":"0:35:26"},{"$f":"IF(Results!F64>\"\",Results!F64,Results!G64)","v":"Emma Dent"},{"$f":"Results!H64","v":"FV45"},{"$f":"RIGHT(Results!J64,1)","v":""},{"$f":"Results!A100","v":97},{"$f":"RaceTime(Results!C100,Results!D100,Results!E100)","v":"0:42:26"},{"$f":"IF(Results!F100>\"\",Results!F100,Results!G100)","v":"Heather Marsden"},{"$f":"Results!H100","v":"FV45"},{"$f":"RIGHT(Results!J100,1)","v":"B"},{"$f":"Results!A136","v":133},{"$f":"RaceTime(Results!C136,Results!D136,Results!E136)","v":"0:52:0"},{"$f":"IF(Results!F136>\"\",Results!F136,Results!G136)","v":""},{"$f":"Results!H136","v":""},{"$f":"RIGHT(Results!J136,1)","v":" "},{"$f":"Results!A172","v":169},{"$f":"RaceTime(Results!C172,Results!D172,Results!E172)","v":"0:52:0"},{"$f":"IF(Results!F172>\"\",Results!F172,Results!G172)","v":""},{"$f":"Results!H172","v":""},{"$f":"RIGHT(Results!J172,1)","v":" "},{"$f":"Results!A208","v":205},{"$f":"RaceTime(Results!C208,Results!D208,Results!E208)","v":"0:52:0"},{"$f":"IF(Results!F208>\"\",Results!F208,Results!G208)","v":""},{"$f":"Results!H208","v":""},{"$f":"RIGHT(Results!J208,1)","v":" "},{"$f":"Results!A244","v":241},{"$f":"RaceTime(Results!C244,Results!D244,Results!E244)","v":"0:52:0"},{"$f":"IF(Results!F244>\"\",Results!F244,Results!G244)","v":""},{"$f":"Results!H244","v":""},{"$f":"RIGHT(Results!J244,1)","v":" "},{"$f":"Results!A280","v":277},{"$f":"RaceTime(Results!C280,Results!D280,Results!E280)","v":"0:52:0"},{"$f":"IF(Results!F280>\"\",Results!F280,Results!G280)","v":""},{"$f":"Results!H280","v":""}," ",{"$f":"Results!A316","v":0},{"$f":"RaceTime(Results!C316,Results!D316,Results!E316)","v":":0:0"},{"$f":"IF(Results!F316>\"\",Results!F316,Results!G316)","v":0},{"$f":"Results!H316","v":0},{"$f":"RIGHT(Results!J316,1)","v":""}]
[{"$f":"Results!A29","v":26},{"$f":"RaceTime(Results!C29,Results!D29,Results!E29)","v":"0:31:22"},{"$f":"IF(Results!F29>\"\",Results!F29,Results!G29)","v":"Mick Archer"},{"$f":"Results!H29","v":"MV50"},{"$f":"RIGHT(Results!J29,1)","v":"B"},{"$f":"Results!A65","v":62},{"$f":"RaceTime(Results!C65,Results!D65,Results!E65)","v":"0:35:28"},{"$f":"IF(Results!F65>\"\",Results!F65,Results!G65)","v":"Mark Hatfield"},{"$f":"Results!H65","v":"MS"},{"$f":"RIGHT(Results!J65,1)","v":""},{"$f":"Results!A101","v":98},{"$f":"RaceTime(Results!C101,Results!D101,Results!E101)","v":"0:43:09"},{"$f":"IF(Results!F101>\"\",Results!F101,Results!G101)","v":"Gregory Scott Briggs"},{"$f":"Results!H101","v":"MV45"},{"$f":"RIGHT(Results!J101,1)","v":""},{"$f":"Results!A137","v":134},{"$f":"RaceTime(Results!C137,Results!D137,Results!E137)","v":"0:52:0"},{"$f":"IF(Results!F137>\"\",Results!F137,Results!G137)","v":""},{"$f":"Results!H137","v":""},{"$f":"RIGHT(Results!J137,1)","v":" "},{"$f":"Results!A173","v":170},{"$f":"RaceTime(Results!C173,Results!D173,Results!E173)","v":"0:52:0"},{"$f":"IF(Results!F173>\"\",Results!F173,Results!G173)","v":""},{"$f":"Results!H173","v":""},{"$f":"RIGHT(Results!J173,1)","v":" "},{"$f":"Results!A209","v":206},{"$f":"RaceTime(Results!C209,Results!D209,Results!E209)","v":"0:52:0"},{"$f":"IF(Results!F209>\"\",Results!F209,Results!G209)","v":""},{"$f":"Results!H209","v":""},{"$f":"RIGHT(Results!J209,1)","v":" "},{"$f":"Results!A245","v":242},{"$f":"RaceTime(Results!C245,Results!D245,Results!E245)","v":"0:52:0"},{"$f":"IF(Results!F245>\"\",Results!F245,Results!G245)","v":""},{"$f":"Results!H245","v":""},{"$f":"RIGHT(Results!J245,1)","v":" "},{"$f":"Results!A281","v":278},{"$f":"RaceTime(Results!C281,Results!D281,Results!E281)","v":"0:52:0"},{"$f":"IF(Results!F281>\"\",Results!F281,Results!G281)","v":""},{"$f":"Results!H281","v":""}," ",{"$f":"Results!A317","v":0},{"$f":"RaceTime(Results!C317,Results!D317,Results!E317)","v":":0:0"},{"$f":"IF(Results!F317>\"\",Results!F317,Results!G317)","v":0},{"$f":"Results!H317","v":0},{"$f":"RIGHT(Results!J317,1)","v":""}]
[{"$f":"Results!A30","v":27},{"$f":"RaceTime(Results!C30,Results!D30,Results!E30)","v":"0:31:48"},{"$f":"IF(Results!F30>\"\",Results!F30,Results!G30)","v":"Kevin Mottram"},{"$f":"Results!H30","v":"MV40"},{"$f":"RIGHT(Results!J30,1)","v":""},{"$f":"Results!A66","v":63},{"$f":"RaceTime(Results!C66,Results!D66,Results!E66)","v":"0:35:29"},{"$f":"IF(Results!F66>\"\",Results!F66,Results!G66)","v":"Trevor Burton"},{"$f":"Results!H66","v":"MV55"},{"$f":"RIGHT(Results!J66,1)","v":""},{"$f":"Results!A102","v":99},{"$f":"RaceTime(Results!C102,Results!D102,Results!E102)","v":"0:43:11"},{"$f":"IF(Results!F102>\"\",Results!F102,Results!G102)","v":"Ben Williams"},{"$f":"Results!H102","v":"MS"},{"$f":"RIGHT(Results!J102,1)","v":""},{"$f":"Results!A138","v":135},{"$f":"RaceTime(Results!C138,Results!D138,Results!E138)","v":"0:52:0"},{"$f":"IF(Results!F138>\"\",Results!F138,Results!G138)","v":""},{"$f":"Results!H138","v":""},{"$f":"RIGHT(Results!J138,1)","v":" "},{"$f":"Results!A174","v":171},{"$f":"RaceTime(Results!C174,Results!D174,Results!E174)","v":"0:52:0"},{"$f":"IF(Results!F174>\"\",Results!F174,Results!G174)","v":""},{"$f":"Results!H174","v":""},{"$f":"RIGHT(Results!J174,1)","v":" "},{"$f":"Results!A210","v":207},{"$f":"RaceTime(Results!C210,Results!D210,Results!E210)","v":"0:52:0"},{"$f":"IF(Results!F210>\"\",Results!F210,Results!G210)","v":""},{"$f":"Results!H210","v":""},{"$f":"RIGHT(Results!J210,1)","v":" "},{"$f":"Results!A246","v":243},{"$f":"RaceTime(Results!C246,Results!D246,Results!E246)","v":"0:52:0"},{"$f":"IF(Results!F246>\"\",Results!F246,Results!G246)","v":""},{"$f":"Results!H246","v":""},{"$f":"RIGHT(Results!J246,1)","v":" "},{"$f":"Results!A282","v":279},{"$f":"RaceTime(Results!C282,Results!D282,Results!E282)","v":"0:52:0"},{"$f":"IF(Results!F282>\"\",Results!F282,Results!G282)","v":""},{"$f":"Results!H282","v":""}," ",{"$f":"Results!A318","v":0},{"$f":"RaceTime(Results!C318,Results!D318,Results!E318)","v":":0:0"},{"$f":"IF(Results!F318>\"\",Results!F318,Results!G318)","v":0},{"$f":"Results!H318","v":0},{"$f":"RIGHT(Results!J318,1)","v":""}]
[{"$f":"Results!A31","v":28},{"$f":"RaceTime(Results!C31,Results!D31,Results!E31)","v":"0:31:57"},{"$f":"IF(Results!F31>\"\",Results!F31,Results!G31)","v":"John Thompson"},{"$f":"Results!H31","v":"MV40"},{"$f":"RIGHT(Results!J31,1)","v":""},{"$f":"Results!A67","v":64},{"$f":"RaceTime(Results!C67,Results!D67,Results!E67)","v":"0:35:30"},{"$f":"IF(Results!F67>\"\",Results!F67,Results!G67)","v":"Joe Dunne"},{"$f":"Results!H67","v":"MS"},{"$f":"RIGHT(Results!J67,1)","v":""},{"$f":"Results!A103","v":100},{"$f":"RaceTime(Results!C103,Results!D103,Results!E103)","v":"0:43:46"},{"$f":"IF(Results!F103>\"\",Results!F103,Results!G103)","v":"Janet Leigh"},{"$f":"Results!H103","v":"FV45"},{"$f":"RIGHT(Results!J103,1)","v":""},{"$f":"Results!A139","v":136},{"$f":"RaceTime(Results!C139,Results!D139,Results!E139)","v":"0:52:0"},{"$f":"IF(Results!F139>\"\",Results!F139,Results!G139)","v":""},{"$f":"Results!H139","v":""},{"$f":"RIGHT(Results!J139,1)","v":" "},{"$f":"Results!A175","v":172},{"$f":"RaceTime(Results!C175,Results!D175,Results!E175)","v":"0:52:0"},{"$f":"IF(Results!F175>\"\",Results!F175,Results!G175)","v":""},{"$f":"Results!H175","v":""},{"$f":"RIGHT(Results!J175,1)","v":" "},{"$f":"Results!A211","v":208},{"$f":"RaceTime(Results!C211,Results!D211,Results!E211)","v":"0:52:0"},{"$f":"IF(Results!F211>\"\",Results!F211,Results!G211)","v":""},{"$f":"Results!H211","v":""},{"$f":"RIGHT(Results!J211,1)","v":" "},{"$f":"Results!A247","v":244},{"$f":"RaceTime(Results!C247,Results!D247,Results!E247)","v":"0:52:0"},{"$f":"IF(Results!F247>\"\",Results!F247,Results!G247)","v":""},{"$f":"Results!H247","v":""},{"$f":"RIGHT(Results!J247,1)","v":" "},{"$f":"Results!A283","v":280},{"$f":"RaceTime(Results!C283,Results!D283,Results!E283)","v":"0:52:0"},{"$f":"IF(Results!F283>\"\",Results!F283,Results!G283)","v":""},{"$f":"Results!H283","v":""}," ",{"$f":"Results!A319","v":0},{"$f":"RaceTime(Results!C319,Results!D319,Results!E319)","v":":0:0"},{"$f":"IF(Results!F319>\"\",Results!F319,Results!G319)","v":0},{"$f":"Results!H319","v":0},{"$f":"RIGHT(Results!J319,1)","v":""}]
[{"$f":"Results!A32","v":29},{"$f":"RaceTime(Results!C32,Results!D32,Results!E32)","v":"0:32:04"},{"$f":"IF(Results!F32>\"\",Results!F32,Results!G32)","v":"David Whitaker"},{"$f":"Results!H32","v":"MV50"},{"$f":"RIGHT(Results!J32,1)","v":""},{"$f":"Results!A68","v":65},{"$f":"RaceTime(Results!C68,Results!D68,Results!E68)","v":"0:35:33"},{"$f":"IF(Results!F68>\"\",Results!F68,Results!G68)","v":"Clare Holdcroft"},{"$f":"Results!H68","v":"FV40"},{"$f":"RIGHT(Results!J68,1)","v":""},{"$f":"Results!A104","v":101},{"$f":"RaceTime(Results!C104,Results!D104,Results!E104)","v":"0:44:56"},{"$f":"IF(Results!F104>\"\",Results!F104,Results!G104)","v":"Colette Holden"},{"$f":"Results!H104","v":"FV40"},{"$f":"RIGHT(Results!J104,1)","v":"B"},{"$f":"Results!A140","v":137},{"$f":"RaceTime(Results!C140,Results!D140,Results!E140)","v":"0:52:0"},{"$f":"IF(Results!F140>\"\",Results!F140,Results!G140)","v":""},{"$f":"Results!H140","v":""},{"$f":"RIGHT(Results!J140,1)","v":" "},{"$f":"Results!A176","v":173},{"$f":"RaceTime(Results!C176,Results!D176,Results!E176)","v":"0:52:0"},{"$f":"IF(Results!F176>\"\",Results!F176,Results!G176)","v":""},{"$f":"Results!H176","v":""},{"$f":"RIGHT(Results!J176,1)","v":" "},{"$f":"Results!A212","v":209},{"$f":"RaceTime(Results!C212,Results!D212,Results!E212)","v":"0:52:0"},{"$f":"IF(Results!F212>\"\",Results!F212,Results!G212)","v":""},{"$f":"Results!H212","v":""},{"$f":"RIGHT(Results!J212,1)","v":" "},{"$f":"Results!A248","v":245},{"$f":"RaceTime(Results!C248,Results!D248,Results!E248)","v":"0:52:0"},{"$f":"IF(Results!F248>\"\",Results!F248,Results!G248)","v":""},{"$f":"Results!H248","v":""},{"$f":"RIGHT(Results!J248,1)","v":" "},{"$f":"Results!A284","v":281},{"$f":"RaceTime(Results!C284,Results!D284,Results!E284)","v":"0:52:0"},{"$f":"IF(Results!F284>\"\",Results!F284,Results!G284)","v":""},{"$f":"Results!H284","v":""}," ",{"$f":"Results!A320","v":0},{"$f":"RaceTime(Results!C320,Results!D320,Results!E320)","v":":0:0"},{"$f":"IF(Results!F320>\"\",Results!F320,Results!G320)","v":0},{"$f":"Results!H320","v":0},{"$f":"RIGHT(Results!J320,1)","v":""}]
[{"$f":"Results!A33","v":30},{"$f":"RaceTime(Results!C33,Results!D33,Results!E33)","v":"0:32:07"},{"$f":"IF(Results!F33>\"\",Results!F33,Results!G33)","v":"Stephen Moss"},{"$f":"Results!H33","v":"MV40"},{"$f":"RIGHT(Results!J33,1)","v":""},{"$f":"Results!A69","v":66},{"$f":"RaceTime(Results!C69,Results!D69,Results!E69)","v":"0:35:46"},{"$f":"IF(Results!F69>\"\",Results!F69,Results!G69)","v":"Max Howard"},{"$f":"Results!H69","v":"MV55"},{"$f":"RIGHT(Results!J69,1)","v":""},{"$f":"Results!A105","v":102},{"$f":"RaceTime(Results!C105,Results!D105,Results!E105)","v":"0:45:02"},{"$f":"IF(Results!F105>\"\",Results!F105,Results!G105)","v":"Vicky Moss"},{"$f":"Results!H105","v":"FV40"},{"$f":"RIGHT(Results!J105,1)","v":""},{"$f":"Results!A141","v":138},{"$f":"RaceTime(Results!C141,Results!D141,Results!E141)","v":"0:52:0"},{"$f":"IF(Results!F141>\"\",Results!F141,Results!G141)","v":""},{"$f":"Results!H141","v":""},{"$f":"RIGHT(Results!J141,1)","v":" "},{"$f":"Results!A177","v":174},{"$f":"RaceTime(Results!C177,Results!D177,Results!E177)","v":"0:52:0"},{"$f":"IF(Results!F177>\"\",Results!F177,Results!G177)","v":""},{"$f":"Results!H177","v":""},{"$f":"RIGHT(Results!J177,1)","v":" "},{"$f":"Results!A213","v":210},{"$f":"RaceTime(Results!C213,Results!D213,Results!E213)","v":"0:52:0"},{"$f":"IF(Results!F213>\"\",Results!F213,Results!G213)","v":""},{"$f":"Results!H213","v":""},{"$f":"RIGHT(Results!J213,1)","v":" "},{"$f":"Results!A249","v":246},{"$f":"RaceTime(Results!C249,Results!D249,Results!E249)","v":"0:52:0"},{"$f":"IF(Results!F249>\"\",Results!F249,Results!G249)","v":""},{"$f":"Results!H249","v":""},{"$f":"RIGHT(Results!J249,1)","v":" "},{"$f":"Results!A285","v":282},{"$f":"RaceTime(Results!C285,Results!D285,Results!E285)","v":"0:52:0"},{"$f":"IF(Results!F285>\"\",Results!F285,Results!G285)","v":""},{"$f":"Results!H285","v":""}," ",{"$f":"Results!A321","v":0},{"$f":"RaceTime(Results!C321,Results!D321,Results!E321)","v":":0:0"},{"$f":"IF(Results!F321>\"\",Results!F321,Results!G321)","v":0},{"$f":"Results!H321","v":0},{"$f":"RIGHT(Results!J321,1)","v":""}]
[{"$f":"Results!A34","v":31},{"$f":"RaceTime(Results!C34,Results!D34,Results!E34)","v":"0:32:11"},{"$f":"IF(Results!F34>\"\",Results!F34,Results!G34)","v":"Peter Wallis"},{"$f":"Results!H34","v":"MV55"},{"$f":"RIGHT(Results!J34,1)","v":"B"},{"$f":"Results!A70","v":67},{"$f":"RaceTime(Results!C70,Results!D70,Results!E70)","v":"0:36:07"},{"$f":"IF(Results!F70>\"\",Results!F70,Results!G70)","v":"Simon Hutchinson"},{"$f":"Results!H70","v":"MV50"},{"$f":"RIGHT(Results!J70,1)","v":""},{"$f":"Results!A106","v":103},{"$f":"RaceTime(Results!C106,Results!D106,Results!E106)","v":"0:45:13"},{"$f":"IF(Results!F106>\"\",Results!F106,Results!G106)","v":"Bland Quigley"},{"$f":"Results!H106","v":"MV40"},{"$f":"RIGHT(Results!J106,1)","v":""},{"$f":"Results!A142","v":139},{"$f":"RaceTime(Results!C142,Results!D142,Results!E142)","v":"0:52:0"},{"$f":"IF(Results!F142>\"\",Results!F142,Results!G142)","v":""},{"$f":"Results!H142","v":""},{"$f":"RIGHT(Results!J142,1)","v":" "},{"$f":"Results!A178","v":175},{"$f":"RaceTime(Results!C178,Results!D178,Results!E178)","v":"0:52:0"},{"$f":"IF(Results!F178>\"\",Results!F178,Results!G178)","v":""},{"$f":"Results!H178","v":""},{"$f":"RIGHT(Results!J178,1)","v":" "},{"$f":"Results!A214","v":211},{"$f":"RaceTime(Results!C214,Results!D214,Results!E214)","v":"0:52:0"},{"$f":"IF(Results!F214>\"\",Results!F214,Results!G214)","v":""},{"$f":"Results!H214","v":""},{"$f":"RIGHT(Results!J214,1)","v":" "},{"$f":"Results!A250","v":247},{"$f":"RaceTime(Results!C250,Results!D250,Results!E250)","v":"0:52:0"},{"$f":"IF(Results!F250>\"\",Results!F250,Results!G250)","v":""},{"$f":"Results!H250","v":""},{"$f":"RIGHT(Results!J250,1)","v":" "},{"$f":"Results!A286","v":283},{"$f":"RaceTime(Results!C286,Results!D286,Results!E286)","v":"0:52:0"},{"$f":"IF(Results!F286>\"\",Results!F286,Results!G286)","v":""},{"$f":"Results!H286","v":""}," ",{"$f":"Results!A322","v":0},{"$f":"RaceTime(Results!C322,Results!D322,Results!E322)","v":":0:0"},{"$f":"IF(Results!F322>\"\",Results!F322,Results!G322)","v":0},{"$f":"Results!H322","v":0},{"$f":"RIGHT(Results!J322,1)","v":""}]
[{"$f":"Results!A35","v":32},{"$f":"RaceTime(Results!C35,Results!D35,Results!E35)","v":"0:32:14"},{"$f":"IF(Results!F35>\"\",Results!F35,Results!G35)","v":"Jonathan Douglass"},{"$f":"Results!H35","v":"MS"},{"$f":"RIGHT(Results!J35,1)","v":""},{"$f":"Results!A71","v":68},{"$f":"RaceTime(Results!C71,Results!D71,Results!E71)","v":"0:36:16"},{"$f":"IF(Results!F71>\"\",Results!F71,Results!G71)","v":"Richard Bowles"},{"$f":"Results!H71","v":"MS"},{"$f":"RIGHT(Results!J71,1)","v":""},{"$f":"Results!A107","v":104},{"$f":"RaceTime(Results!C107,Results!D107,Results!E107)","v":"0:45:27"},{"$f":"IF(Results!F107>\"\",Results!F107,Results!G107)","v":"Nancy Stuart"},{"$f":"Results!H107","v":"FS"},{"$f":"RIGHT(Results!J107,1)","v":""},{"$f":"Results!A143","v":140},{"$f":"RaceTime(Results!C143,Results!D143,Results!E143)","v":"0:52:0"},{"$f":"IF(Results!F143>\"\",Results!F143,Results!G143)","v":""},{"$f":"Results!H143","v":""},{"$f":"RIGHT(Results!J143,1)","v":" "},{"$f":"Results!A179","v":176},{"$f":"RaceTime(Results!C179,Results!D179,Results!E179)","v":"0:52:0"},{"$f":"IF(Results!F179>\"\",Results!F179,Results!G179)","v":""},{"$f":"Results!H179","v":""},{"$f":"RIGHT(Results!J179,1)","v":" "},{"$f":"Results!A215","v":212},{"$f":"RaceTime(Results!C215,Results!D215,Results!E215)","v":"0:52:0"},{"$f":"IF(Results!F215>\"\",Results!F215,Results!G215)","v":""},{"$f":"Results!H215","v":""},{"$f":"RIGHT(Results!J215,1)","v":" "},{"$f":"Results!A251","v":248},{"$f":"RaceTime(Results!C251,Results!D251,Results!E251)","v":"0:52:0"},{"$f":"IF(Results!F251>\"\",Results!F251,Results!G251)","v":""},{"$f":"Results!H251","v":""},{"$f":"RIGHT(Results!J251,1)","v":" "},{"$f":"Results!A287","v":284},{"$f":"RaceTime(Results!C287,Results!D287,Results!E287)","v":"0:52:0"},{"$f":"IF(Results!F287>\"\",Results!F287,Results!G287)","v":""},{"$f":"Results!H287","v":""}," ",{"$f":"Results!A323","v":0},{"$f":"RaceTime(Results!C323,Results!D323,Results!E323)","v":":0:0"},{"$f":"IF(Results!F323>\"\",Results!F323,Results!G323)","v":0},{"$f":"Results!H323","v":0},{"$f":"RIGHT(Results!J323,1)","v":""}]
[{"$f":"Results!A36","v":33},{"$f":"RaceTime(Results!C36,Results!D36,Results!E36)","v":"0:32:16"},{"$f":"IF(Results!F36>\"\",Results!F36,Results!G36)","v":"Robert Eyre"},{"$f":"Results!H36","v":"MS"},{"$f":"RIGHT(Results!J36,1)","v":"B"},{"$f":"Results!A72","v":69},{"$f":"RaceTime(Results!C72,Results!D72,Results!E72)","v":"0:36:18"},{"$f":"IF(Results!F72>\"\",Results!F72,Results!G72)","v":"Kate Turner"},{"$f":"Results!H72","v":"FS"},{"$f":"RIGHT(Results!J72,1)","v":""},{"$f":"Results!A108","v":105},{"$f":"RaceTime(Results!C108,Results!D108,Results!E108)","v":"0:45:57"},{"$f":"IF(Results!F108>\"\",Results!F108,Results!G108)","v":"Mark Wheen"},{"$f":"Results!H108","v":"MV50"},{"$f":"RIGHT(Results!J108,1)","v":""},{"$f":"Results!A144","v":141},{"$f":"RaceTime(Results!C144,Results!D144,Results!E144)","v":"0:52:0"},{"$f":"IF(Results!F144>\"\",Results!F144,Results!G144)","v":""},{"$f":"Results!H144","v":""},{"$f":"RIGHT(Results!J144,1)","v":" "},{"$f":"Results!A180","v":177},{"$f":"RaceTime(Results!C180,Results!D180,Results!E180)","v":"0:52:0"},{"$f":"IF(Results!F180>\"\",Results!F180,Results!G180)","v":""},{"$f":"Results!H180","v":""},{"$f":"RIGHT(Results!J180,1)","v":" "},{"$f":"Results!A216","v":213},{"$f":"RaceTime(Results!C216,Results!D216,Results!E216)","v":"0:52:0"},{"$f":"IF(Results!F216>\"\",Results!F216,Results!G216)","v":""},{"$f":"Results!H216","v":""},{"$f":"RIGHT(Results!J216,1)","v":" "},{"$f":"Results!A252","v":249},{"$f":"RaceTime(Results!C252,Results!D252,Results!E252)","v":"0:52:0"},{"$f":"IF(Results!F252>\"\",Results!F252,Results!G252)","v":""},{"$f":"Results!H252","v":""},{"$f":"RIGHT(Results!J252,1)","v":" "},{"$f":"Results!A288","v":285},{"$f":"RaceTime(Results!C288,Results!D288,Results!E288)","v":"0:52:0"},{"$f":"IF(Results!F288>\"\",Results!F288,Results!G288)","v":""},{"$f":"Results!H288","v":""}," ",{"$f":"Results!A324","v":0},{"$f":"RaceTime(Results!C324,Results!D324,Results!E324)","v":":0:0"},{"$f":"IF(Results!F324>\"\",Results!F324,Results!G324)","v":0},{"$f":"Results!H324","v":0},{"$f":"RIGHT(Results!J324,1)","v":""}]
[{"$f":"Results!A37","v":34},{"$f":"RaceTime(Results!C37,Results!D37,Results!E37)","v":"0:32:21"},{"$f":"IF(Results!F37>\"\",Results!F37,Results!G37)","v":"Nick Jones"},{"$f":"Results!H37","v":"MV40"},{"$f":"RIGHT(Results!J37,1)","v":""},{"$f":"Results!A73","v":70},{"$f":"RaceTime(Results!C73,Results!D73,Results!E73)","v":"0:36:28"},{"$f":"IF(Results!F73>\"\",Results!F73,Results!G73)","v":"Anthony Horstead"},{"$f":"Results!H73","v":"MS"},{"$f":"RIGHT(Results!J73,1)","v":""},{"$f":"Results!A109","v":106},{"$f":"RaceTime(Results!C109,Results!D109,Results!E109)","v":"0:46:04"},{"$f":"IF(Results!F109>\"\",Results!F109,Results!G109)","v":"Shane Phillips"},{"$f":"Results!H109","v":"MS"},{"$f":"RIGHT(Results!J109,1)","v":""},{"$f":"Results!A145","v":142},{"$f":"RaceTime(Results!C145,Results!D145,Results!E145)","v":"0:52:0"},{"$f":"IF(Results!F145>\"\",Results!F145,Results!G145)","v":""},{"$f":"Results!H145","v":""},{"$f":"RIGHT(Results!J145,1)","v":" "},{"$f":"Results!A181","v":178},{"$f":"RaceTime(Results!C181,Results!D181,Results!E181)","v":"0:52:0"},{"$f":"IF(Results!F181>\"\",Results!F181,Results!G181)","v":""},{"$f":"Results!H181","v":""},{"$f":"RIGHT(Results!J181,1)","v":" "},{"$f":"Results!A217","v":214},{"$f":"RaceTime(Results!C217,Results!D217,Results!E217)","v":"0:52:0"},{"$f":"IF(Results!F217>\"\",Results!F217,Results!G217)","v":""},{"$f":"Results!H217","v":""},{"$f":"RIGHT(Results!J217,1)","v":" "},{"$f":"Results!A253","v":250},{"$f":"RaceTime(Results!C253,Results!D253,Results!E253)","v":"0:52:0"},{"$f":"IF(Results!F253>\"\",Results!F253,Results!G253)","v":""},{"$f":"Results!H253","v":""},{"$f":"RIGHT(Results!J253,1)","v":" "},{"$f":"Results!A289","v":286},{"$f":"RaceTime(Results!C289,Results!D289,Results!E289)","v":"0:52:0"},{"$f":"IF(Results!F289>\"\",Results!F289,Results!G289)","v":""},{"$f":"Results!H289","v":""}," ",{"$f":"Results!A325","v":0},{"$f":"RaceTime(Results!C325,Results!D325,Results!E325)","v":":0:0"},{"$f":"IF(Results!F325>\"\",Results!F325,Results!G325)","v":0},{"$f":"Results!H325","v":0},{"$f":"RIGHT(Results!J325,1)","v":""}]
[{"$f":"Results!A38","v":35},{"$f":"RaceTime(Results!C38,Results!D38,Results!E38)","v":"0:32:23"},{"$f":"IF(Results!F38>\"\",Results!F38,Results!G38)","v":"Steve Clarke"},{"$f":"Results!H38","v":"MS"},{"$f":"RIGHT(Results!J38,1)","v":""},{"$f":"Results!A74","v":71},{"$f":"RaceTime(Results!C74,Results!D74,Results!E74)","v":"0:36:31"},{"$f":"IF(Results!F74>\"\",Results!F74,Results!G74)","v":"Patryk Szwedt"},{"$f":"Results!H74","v":"MS"},{"$f":"RIGHT(Results!J74,1)","v":""},{"$f":"Results!A110","v":107},{"$f":"RaceTime(Results!C110,Results!D110,Results!E110)","v":"0:46:17"},{"$f":"IF(Results!F110>\"\",Results!F110,Results!G110)","v":"Aisling Spain"},{"$f":"Results!H110","v":"FS"},{"$f":"RIGHT(Results!J110,1)","v":""},{"$f":"Results!A146","v":143},{"$f":"RaceTime(Results!C146,Results!D146,Results!E146)","v":"0:52:0"},{"$f":"IF(Results!F146>\"\",Results!F146,Results!G146)","v":""},{"$f":"Results!H146","v":""},{"$f":"RIGHT(Results!J146,1)","v":" "},{"$f":"Results!A182","v":179},{"$f":"RaceTime(Results!C182,Results!D182,Results!E182)","v":"0:52:0"},{"$f":"IF(Results!F182>\"\",Results!F182,Results!G182)","v":""},{"$f":"Results!H182","v":""},{"$f":"RIGHT(Results!J182,1)","v":" "},{"$f":"Results!A218","v":215},{"$f":"RaceTime(Results!C218,Results!D218,Results!E218)","v":"0:52:0"},{"$f":"IF(Results!F218>\"\",Results!F218,Results!G218)","v":""},{"$f":"Results!H218","v":""},{"$f":"RIGHT(Results!J218,1)","v":" "},{"$f":"Results!A254","v":251},{"$f":"RaceTime(Results!C254,Results!D254,Results!E254)","v":"0:52:0"},{"$f":"IF(Results!F254>\"\",Results!F254,Results!G254)","v":""},{"$f":"Results!H254","v":""},{"$f":"RIGHT(Results!J254,1)","v":" "},{"$f":"Results!A290","v":287},{"$f":"RaceTime(Results!C290,Results!D290,Results!E290)","v":"0:52:0"},{"$f":"IF(Results!F290>\"\",Results!F290,Results!G290)","v":""},{"$f":"Results!H290","v":""}," ",{"$f":"Results!A326","v":0},{"$f":"RaceTime(Results!C326,Results!D326,Results!E326)","v":":0:0"},{"$f":"IF(Results!F326>\"\",Results!F326,Results!G326)","v":0},{"$f":"Results!H326","v":0},{"$f":"RIGHT(Results!J326,1)","v":""}]
[{"$f":"Results!A39","v":36},{"$f":"RaceTime(Results!C39,Results!D39,Results!E39)","v":"0:32:50"},{"$f":"IF(Results!F39>\"\",Results!F39,Results!G39)","v":"Steve Aspey"},{"$f":"Results!H39","v":"MV50"},{"$f":"RIGHT(Results!J39,1)","v":""},{"$f":"Results!A75","v":72},{"$f":"RaceTime(Results!C75,Results!D75,Results!E75)","v":"0:36:39"},{"$f":"IF(Results!F75>\"\",Results!F75,Results!G75)","v":"Mark Platton"},{"$f":"Results!H75","v":"MV50"},{"$f":"RIGHT(Results!J75,1)","v":""},{"$f":"Results!A111","v":108},{"$f":"RaceTime(Results!C111,Results!D111,Results!E111)","v":"0:47:30"},{"$f":"IF(Results!F111>\"\",Results!F111,Results!G111)","v":"Phil Gregory"},{"$f":"Results!H111","v":"MV40"},{"$f":"RIGHT(Results!J111,1)","v":" "},{"$f":"Results!A147","v":144},{"$f":"RaceTime(Results!C147,Results!D147,Results!E147)","v":"0:52:0"},{"$f":"IF(Results!F147>\"\",Results!F147,Results!G147)","v":""},{"$f":"Results!H147","v":""},{"$f":"RIGHT(Results!J147,1)","v":" "},{"$f":"Results!A183","v":180},{"$f":"RaceTime(Results!C183,Results!D183,Results!E183)","v":"0:52:0"},{"$f":"IF(Results!F183>\"\",Results!F183,Results!G183)","v":""},{"$f":"Results!H183","v":""},{"$f":"RIGHT(Results!J183,1)","v":" "},{"$f":"Results!A219","v":216},{"$f":"RaceTime(Results!C219,Results!D219,Results!E219)","v":"0:52:0"},{"$f":"IF(Results!F219>\"\",Results!F219,Results!G219)","v":""},{"$f":"Results!H219","v":""},{"$f":"RIGHT(Results!J219,1)","v":" "},{"$f":"Results!A255","v":252},{"$f":"RaceTime(Results!C255,Results!D255,Results!E255)","v":"0:52:0"},{"$f":"IF(Results!F255>\"\",Results!F255,Results!G255)","v":""},{"$f":"Results!H255","v":""},{"$f":"RIGHT(Results!J255,1)","v":" "},{"$f":"Results!A291","v":288},{"$f":"RaceTime(Results!C291,Results!D291,Results!E291)","v":"0:52:0"},{"$f":"IF(Results!F291>\"\",Results!F291,Results!G291)","v":""},{"$f":"Results!H291","v":""}," ",{"$f":"Results!A327","v":0},{"$f":"RaceTime(Results!C327,Results!D327,Results!E327)","v":":0:0"},{"$f":"IF(Results!F327>\"\",Results!F327,Results!G327)","v":0},{"$f":"Results!H327","v":0},{"$f":"RIGHT(Results!J327,1)","v":""}]

{"sheet":"Sheet2","index":3,"n_rows":0,"n_cols":0,"rows_kept":0,"cut":false,"hidden":false,"merged":[]}

{"sheet":"Cat-Wins","index":4,"n_rows":138,"n_cols":22,"rows_kept":138,"cut":false,"hidden":false,"merged":[]}
[]
[{"$f":"Entries!A1","v":"Bradwell 2015"}]
[null,null,null,null,null,{"$f":"\"Category Winners: \" & Entries!A1","v":"Category Winners: Bradwell 2015"}]
[null,null,null,null,null,"Seniors"]
[null,"1 cat flag",null,"Race Position","Race No.","Name",null,"Time","Club","Category","Special Category",null,null,null,null,"Race No","Position","Name","Time","Club","Category","Special Cat"]
["1st",{"$f":"IF(LEFT(A6,1)*1<Entries!$Q$3+1,E6,\"\")","v":7},null,{"$f":"Results!A4","v":1},{"$f":"Results!B4","v":7},{"$f":"Results!K4","v":"Stuart Bond"},null,{"$f":"RaceTime(Results!C4,Results!D4,Results!E4)","v":"0:23:52"},{"$f":"PROPER(club(Results!I4))","v":"Dark Peak"},{"$f":"Results!H4","v":"MS"},{"$f":"Results!J4","v":"M "},null,"Female Vet 45"]
["2nd",{"$f":"IF(LEFT(A7,1)*1<Entries!$Q$3+1,E7,\"\")","v":62},null,{"$f":"Results!A5","v":2},{"$f":"Results!B5","v":62},{"$f":"Results!K5","v":"John Franklin"},null,{"$f":"RaceTime(Results!C5,Results!D5,Results!E5)","v":"0:24:17"},{"$f":"PROPER(club(Results!I5))","v":"Serpentine Rc"},{"$f":"Results!H5","v":"MS"},{"$f":"Results!J5","v":""},null,"1st",{"$f":"IF(ISERROR(MATCH(P7,B$6:B45,0)),0,MATCH(P7,E$6:E45,0))","v":12},null,{"$f":"OFFSET(Results!$B$3,Q7,0)","v":35},{"$f":"MATCH(\"F*V*\",INDIRECT(\"Results!l\"&4+Q6&\":l$500\"),0)+Q6","v":61},{"$f":"OFFSET(Results!$K$3,Q7,0)","v":"Emma Dent"},{"$f":"RaceTime(OFFSET(Results!$C$3,Q7,0),OFFSET(Results!$C$3,Q7,1),OFFSET(Results!$C$3,Q7,2))","v":"0:35:26"},{"$f":"club(OFFSET(Results!$C$3,Q7,6))","v":"Totley Ac"},{"$f":"OFFSET(Results!$C$3,Q7,5)","v":"FV45"},{"$f":"OFFSET(Results!$C$3,Q7,7)","v":""}]
["3rd",{"$f":"IF(LEFT(A8,1)*1<Entries!$Q$3+1,E8,\"\")","v":57},null,{"$f":"Results!A6","v":3},{"$f":"Results!B6","v":57},{"$f":"Results!K6","v":"Steve Franklin"},null,{"$f":"RaceTime(Results!C6,Results!D6,Results!E6)","v":"0:25:17"},{"$f":"PROPER(club(Results!I6))","v":"Totley Ac"},{"$f":"Results!H6","v":"MS"},{"$f":"Results!J6","v":""},null,"2nd",{"$f":"IF(ISERROR(MATCH(P8,B$6:B46,0)),0,MATCH(P8,E$6:E46,0))","v":29},null,{"$f":"OFFSET(Results!$B$3,Q8,0)","v":34},{"$f":"MATCH(\"F*V*\",INDIRECT(\"Results!l\"&4+Q7&\":l$500\"),0)+Q7","v":84},{"$f":"OFFSET(Results!$K$3,Q8,0)","v":"Yvonne Twelvetrees"},{"$f":"RaceTime(OFFSET(Results!$C$3,Q8,0),OFFSET(Results!$C$3,Q8,1),OFFSET(Results!$C$3,Q8,2))","v":"0:38:41"},{"$f":"club(OFFSET(Results!$C$3,Q8,6))","v":"Totley Ac"},{"$f":"OFFSET(Results!$C$3,Q8,5)","v":"FV60"},{"$f":"OFFSET(Results!$C$3,Q8,7)","v":""}]
["4th",{"$f":"IF(LEFT(A9,1)*1<Entries!$Q$3+1,E9,\"\")","v":""},null,{"$f":"Results!A7","v":4},{"$f":"Results!B7","v":50},{"$f":"Results!K7","v":"Adam Taylor"},null,{"$f":"RaceTime(Results!C7,Results!D7,Results!E7)","v":"0:26:13"},{"$f":"PROPER(club(Results!I7))","v":"Taylored Running Group"},{"$f":"Results!H7","v":"MS"},{"$f":"Results!J7","v":""},null,"3rd",{"$f":"IF(ISERROR(MATCH(P9,B$6:B47,0)),0,MATCH(P9,E$6:E47,0))","v":0},null,{"$f":"OFFSET(Results!$B$3,Q9,0)","v":64},87,{"$f":"OFFSET(Results!$K$3,Q9,0)","v":"Victoria Hawkins"},{"$f":"RaceTime(OFFSET(Results!$C$3,Q9,0),OFFSET(Results!$C$3,Q9,1),OFFSET(Results!$C$3,Q9,2))","v":"0:39:33"},{"$f":"club(OFFSET(Results!$C$3,Q9,6))","v":"Steel City Striders"},{"$f":"OFFSET(Results!$C$3,Q9,5)","v":"FV45"},{"$f":"OFFSET(Results!$C$3,Q9,7)","v":""}]
["5th",{"$f":"IF(LEFT(A10,1)*1<Entries!$Q$3+1,E10,\"\")","v":""},null,{"$f":"Results!A8","v":5},{"$f":"Results!B8","v":56},{"$f":"Results!K8","v":"Bart Shaw"},null,{"$f":"RaceTime(Results!C8,Results!D8,Results!E8)","v":"0:26:43"},{"$f":"PROPER(club(Results!I8))","v":"Totley Ac"},{"$f":"Results!H8","v":"MS"},{"$f":"Results!J8","v":""},null,"4th",{"$f":"IF(ISERROR(MATCH(P10,B$6:B48,0)),0,MATCH(P10,E$6:E48,0))","v":42},null,{"$f":"OFFSET(Results!$B$3,Q10,0)","v":23},88,{"$f":"OFFSET(Results!$K$3,Q10,0)","v":"Carol Beattie"},{"$f":"RaceTime(OFFSET(Results!$C$3,Q10,0),OFFSET(Results!$C$3,Q10,1),OFFSET(Results!$C$3,Q10,2))","v":"0:39:41"},{"$f":"club(OFFSET(Results!$C$3,Q10,6))","v":"Steel City Striders"},{"$f":"OFFSET(Results!$C$3,Q10,5)","v":"FV60"},{"$f":"OFFSET(Results!$C$3,Q10,7)","v":""}]
["6th",{"$f":"IF(LEFT(A11,1)*1<Entries!$Q$3+1,E11,\"\")","v":""},null,{"$f":"Results!A9","v":6},{"$f":"Results!B9","v":89},{"$f":"Results!K9","v":"Austin Frost"},null,{"$f":"RaceTime(Results!C9,Results!D9,Results!E9)","v":"0:26:47"},{"$f":"PROPER(club(Results!I9))","v":"Dark Peak"},{"$f":"Results!H9","v":"MV40"},{"$f":"Results!J9","v":""},null,"5th",{"$f":"IF(ISERROR(MATCH(R11,E$6:E49,0)),0,MATCH(R11,E$6:E49,0))","v":0},null,{"$f":"OFFSET(Results!$B$3,Q11,0)","v":47},90,{"$f":"OFFSET(Results!$K$3,Q11,0)","v":"Maxine Ison"},{"$f":"RaceTime(OFFSET(Results!$C$3,Q11,0),OFFSET(Results!$C$3,Q11,1),OFFSET(Results!$C$3,Q11,2))","v":"0:40:23"},{"$f":"club(OFFSET(Results!$C$3,Q11,6))","v":"Totley Ac"},{"$f":"OFFSET(Results!$C$3,Q11,5)","v":"FV50"},{"$f":"OFFSET(Results!$C$3,Q11,7)","v":""}]
[null,null,null,null,null,null,null,null,null,null,null,null,null,null,null,{"$f":"OFFSET(Results!$B$3,Q12,0)","v":65},92,{"$f":"OFFSET(Results!$K$3,Q12,0)","v":"Jill Davies"},{"$f":"RaceTime(OFFSET(Results!$C$3,Q12,0),OFFSET(Results!$C$3,Q12,1),OFFSET(Results!$C$3,Q12,2))","v":"0:41:49"},{"$f":"club(OFFSET(Results!$C$3,Q12,6))","v":"Steel City Striders"},{"$f":"OFFSET(Results!$C$3,Q12,5)","v":"FV55"},{"$f":"OFFSET(Results!$C$3,Q12,7)","v":""}]
[null,{"$f":"IF(ISERROR(LEFT(A13,1)*1<$F$3+1),\" \",F13)","v":" "},{"$f":"IF(ISERROR(MATCH(F13,B$6:B12,0)>0),\"\",F13)","v":""},null,"Race No.","Ladies"]
["1st",{"$f":"IF(LEFT(A14,1)*1<Entries!$Q$4+1,E14,\" \")","v":94},{"$f":"IF(ISERROR(MATCH(E14,B$6:B13,0)>0),\"\",E14)","v":""},{"$f":"MATCH(\"*F*\",INDIRECT(\"Results!h\"&4+D13&\":h$500\"),0)+D13","v":19},{"$f":"IF(ISERROR(OFFSET(Results!$B$3,D14,0)),\"\",OFFSET(Results!$B$3,D14,0))","v":94},{"$f":"IF(ISERROR(OFFSET(Results!$K$3,D14,0)),\"\",OFFSET(Results!$K$3,D14,0))","v":"Zoe Procter"},null,{"$f":"RaceTime(OFFSET(Results!$C$3,D14,0),OFFSET(Results!$C$3,D14,1),OFFSET(Results!$C$3,D14,2))","v":"0:30:15"},{"$f":"PROPER(club(OFFSET(Results!$C$3,D14,6)))","v":"Pennine Fell Racers"},{"$f":"IF(ISERROR(OFFSET(Results!$C$3,D14,5)),\"\",OFFSET(Results!$C$3,D14,5))","v":"FS"},{"$f":"IF(ISERROR(OFFSET(Results!$C$3,D14,7)),\"\",OFFSET(Results!$C$3,D14,7))","v":"FB"},null," All Vets (45+)"]
["2nd",{"$f":"IF(LEFT(A15,1)*1<Entries!$Q$4+1,E15,\" \")","v":32},{"$f":"IF(ISERROR(MATCH(E15,B$6:B14,0)>0),\"\",E15)","v":""},{"$f":"MATCH(\"*F*\",INDIRECT(\"Results!h\"&4+D14&\":h$500\"),0)+D14","v":42},{"$f":"IF(ISERROR(OFFSET(Results!$B$3,D15,0)),\"\",OFFSET(Results!$B$3,D15,0))","v":32},{"$f":"IF(ISERROR(OFFSET(Results!$K$3,D15,0)),\"\",OFFSET(Results!$K$3,D15,0))","v":"Kate Jenkins"},null,{"$f":"RaceTime(OFFSET(Results!$C$3,D15,0),OFFSET(Results!$C$3,D15,1),OFFSET(Results!$C$3,D15,2))","v":"0:33:15"},{"$f":"PROPER(club(OFFSET(Results!$C$3,D15,6)))","v":"Handsworth Road Hogs"},{"$f":"IF(ISERROR(OFFSET(Results!$C$3,D15,5)),\"\",OFFSET(Results!$C$3,D15,5))","v":"FV40"},{"$f":"IF(ISERROR(OFFSET(Results!$C$3,D15,7)),\"\",OFFSET(Results!$C$3,D15,7))","v":""},null,"1st",{"$f":"IF(ISERROR(MATCH(P15,B$6:B34,0)),0,MATCH(P15,E$6:E34,0))","v":18},null,{"$f":"OFFSET(Results!$B$3,Q15,0)","v":108},{"$f":"MATCH(\"*V*\",INDIRECT(\"Results!l\"&4+Q14&\":l$500\"),0)+Q14","v":11},{"$f":"OFFSET(Results!$K$3,Q15,0)","v":"Chris Bannister"},{"$f":"RaceTime(OFFSET(Results!$C$3,Q15,0),OFFSET(Results!$C$3,Q15,1),OFFSET(Results!$C$3,Q15,2))","v":"0:28:50"},{"$f":"club(OFFSET(Results!$C$3,Q15,6))","v":"Sheffield Tri Club"},{"$f":"OFFSET(Results!$C$3,Q15,5)","v":"MV45"},{"$f":"OFFSET(Results!$C$3,Q15,7)","v":""}]
["3rd",{"$f":"IF(LEFT(A16,1)*1<Entries!$Q$4+1,E16,\" \")","v":103},{"$f":"IF(ISERROR(MATCH(E16,B$6:B15,0)>0),\"\",E16)","v":""},56,{"$f":"IF(ISERROR(OFFSET(Results!$B$3,D16,0)),\"\",OFFSET(Results!$B$3,D16,0))","v":103},{"$f":"IF(ISERROR(OFFSET(Results!$K$3,D16,0)),\"\",OFFSET(Results!$K$3,D16,0))","v":"Clare Howarth"},null,{"$f":"RaceTime(OFFSET(Results!$C$3,D16,0),OFFSET(Results!$C$3,D16,1),OFFSET(Results!$C$3,D16,2))","v":"0:34:52"},{"$f":"PROPER(club(OFFSET(Results!$C$3,D16,6)))","v":"Totley Ac"},{"$f":"IF(ISERROR(OFFSET(Results!$C$3,D16,5)),\"\",OFFSET(Results!$C$3,D16,5))","v":"FS"},{"$f":"IF(ISERROR(OFFSET(Results!$C$3,D16,7)),\"\",OFFSET(Results!$C$3,D16,7))","v":""},null,"2nd",{"$f":"IF(ISERROR(MATCH(P16,B$6:B35,0)),0,MATCH(P16,E$6:E35,0))","v":19},null,{"$f":"OFFSET(Results!$B$3,Q16,0)","v":29},{"$f":"MATCH(\"*V*\",INDIRECT(\"Results!l\"&4+Q15&\":l$500\"),0)+Q15","v":12},{"$f":"OFFSET(Results!$K$3,Q16,0)","v":"Andrew Davies"},{"$f":"RaceTime(OFFSET(Results!$C$3,Q16,0),OFFSET(Results!$C$3,Q16,1),OFFSET(Results!$C$3,Q16,2))","v":"0:28:56"},{"$f":"club(OFFSET(Results!$C$3,Q16,6))","v":"Steel City Striders"},{"$f":"OFFSET(Results!$C$3,Q16,5)","v":"MV45"},{"$f":"OFFSET(Results!$C$3,Q16,7)","v":""}]
["4th",{"$f":"IF(LEFT(A17,1)*1<Entries!$Q$4+1,E17,\" \")","v":" "},{"$f":"IF(ISERROR(MATCH(E17,B$6:B16,0)>0),\"\",E17)","v":""},61,{"$f":"IF(ISERROR(OFFSET(Results!$B$3,D17,0)),\"\",OFFSET(Results!$B$3,D17,0))","v":35},{"$f":"IF(ISERROR(OFFSET(Results!$K$3,D17,0)),\"\",OFFSET(Results!$K$3,D17,0))","v":"Emma Dent"},null,{"$f":"RaceTime(OFFSET(Results!$C$3,D17,0),OFFSET(Results!$C$3,D17,1),OFFSET(Results!$C$3,D17,2))","v":"0:35:26"},{"$f":"PROPER(club(OFFSET(Results!$C$3,D17,6)))","v":"Totley Ac"},{"$f":"IF(ISERROR(OFFSET(Results!$C$3,D17,5)),\"\",OFFSET(Results!$C$3,D17,5))","v":"FV45"},{"$f":"IF(ISERROR(OFFSET(Results!$C$3,D17,7)),\"\",OFFSET(Results!$C$3,D17,7))","v":""},null,"3rd",{"$f":"IF(ISERROR(MATCH(P17,B$6:B36,0)),0,MATCH(P17,E$6:E36,0))","v":0},null,{"$f":"OFFSET(Results!$B$3,Q17,0)","v":90},15,{"$f":"OFFSET(Results!$K$3,Q17,0)","v":"Paul V Stuart"},{"$f":"RaceTime(OFFSET(Results!$C$3,Q17,0),OFFSET(Results!$C$3,Q17,1),OFFSET(Results!$C$3,Q17,2))","v":"0:29:37"},{"$f":"club(OFFSET(Results!$C$3,Q17,6))","v":"Steel City Striders"},{"$f":"OFFSET(Results!$C$3,Q17,5)","v":"MV45"},{"$f":"OFFSET(Results!$C$3,Q17,7)","v":""}]
["5th",{"$f":"IF(LEFT(A18,1)*1<Entries!$Q$4+1,E18,\" \")","v":" "},{"$f":"IF(ISERROR(MATCH(E18,B$6:B17,0)>0),\"\",E18)","v":""},65,{"$f":"IF(ISERROR(OFFSET(Results!$B$3,D18,0)),\"\",OFFSET(Results!$B$3,D18,0))","v":46},{"$f":"IF(ISERROR(OFFSET(Results!$K$3,D18,0)),\"\",OFFSET(Results!$K$3,D18,0))","v":"Clare Holdcroft"},null,{"$f":"RaceTime(OFFSET(Results!$C$3,D18,0),OFFSET(Results!$C$3,D18,1),OFFSET(Results!$C$3,D18,2))","v":"0:35:33"},{"$f":"PROPER(club(OFFSET(Results!$C$3,D18,6)))","v":"Buxton Ac"},{"$f":"IF(ISERROR(OFFSET(Results!$C$3,D18,5)),\"\",OFFSET(Results!$C$3,D18,5))","v":"FV40"},{"$f":"IF(ISERROR(OFFSET(Results!$C$3,D18,7)),\"\",OFFSET(Results!$C$3,D18,7))","v":""},null,"4th",{"$f":"IF(ISERROR(MATCH(P18,B$6:B37,0)),0,MATCH(P18,E$6:E37,0))","v":0},null,{"$f":"OFFSET(Results!$B$3,Q18,0)","v":13},18,{"$f":"OFFSET(Results!$K$3,Q18,0)","v":"Mark Elwis"},{"$f":"RaceTime(OFFSET(Results!$C$3,Q18,0),OFFSET(Results!$C$3,Q18,1),OFFSET(Results!$C$3,Q18,2))","v":"0:30:00"},{"$f":"club(OFFSET(Results!$C$3,Q18,6))","v":"Unattached"},{"$f":"OFFSET(Results!$C$3,Q18,5)","v":"MV50"},{"$f":"OFFSET(Results!$C$3,Q18,7)","v":""}]
["6th",{"$f":"IF(LEFT(A19,1)*1<Entries!$Q$4+1,E19,\" \")","v":" "},{"$f":"IF(ISERROR(MATCH(E19,B$6:B18,0)>0),\"\",E19)","v":""},69,{"$f":"IF(ISERROR(OFFSET(Results!$B$3,D19,0)),\"\",OFFSET(Results!$B$3,D19,0))","v":78},{"$f":"IF(ISERROR(OFFSET(Results!$K$3,D19,0)),\"\",OFFSET(Results!$K$3,D19,0))","v":"Kate Turner"},null,{"$f":"RaceTime(OFFSET(Results!$C$3,D19,0),OFFSET(Results!$C$3,D19,1),OFFSET(Results!$C$3,D19,2))","v":"0:36:18"},{"$f":"PROPER(club(OFFSET(Results!$C$3,D19,6)))","v":"Totley Ac"},{"$f":"IF(ISERROR(OFFSET(Results!$C$3,D19,5)),\"\",OFFSET(Results!$C$3,D19,5))","v":"FS"},{"$f":"IF(ISERROR(OFFSET(Results!$C$3,D19,7)),\"\",OFFSET(Results!$C$3,D19,7))","v":""},null,"5th",{"$f":"IF(ISERROR(MATCH(P19,B$6:B38,0)),0,MATCH(P19,E$6:E38,0))","v":0},null,{"$f":"OFFSET(Results!$B$3,Q19,0)","v":24},20,{"$f":"OFFSET(Results!$K$3,Q19,0)","v":"Mark Quince"},{"$f":"RaceTime(OFFSET(Results!$C$3,Q19,0),OFFSET(Results!$C$3,Q19,1),OFFSET(Results!$C$3,Q19,2))","v":"0:30:35"},{"$f":"club(OFFSET(Results!$C$3,Q19,6))","v":"Buxton Ac"},{"$f":"OFFSET(Results!$C$3,Q19,5)","v":"MV45"},{"$f":"OFFSET(Results!$C$3,Q19,7)","v":""}]
[null,null,null,null,null,null,null,null,null,null,null,null,"6th",{"$f":"IF(ISERROR(MATCH(P20,B$6:B39,0)),0,MATCH(P20,E$6:E39,0))","v":34},null,{"$f":"OFFSET(Results!$B$3,Q20,0)","v":12},26,{"$f":"OFFSET(Results!$K$3,Q20,0)","v":"Mick Archer"},{"$f":"RaceTime(OFFSET(Results!$C$3,Q20,0),OFFSET(Results!$C$3,Q20,1),OFFSET(Results!$C$3,Q20,2))","v":"0:31:22"},{"$f":"club(OFFSET(Results!$C$3,Q20,6))","v":"Dark Peak"},{"$f":"OFFSET(Results!$C$3,Q20,5)","v":"MV50"},{"$f":"OFFSET(Results!$C$3,Q20,7)","v":"MB"}]
[null," ",{"$f":"IF(ISERROR(MATCH(F21,B$6:B20,0)>0),\"\",F21)","v":""},null,"Race No."," All Vets (40+)","This includes V50,V60 etc and Ladies",null,"If the participant has appeared in a higher category they have been grayed"]
["1st",{"$f":"IF(LEFT(A22,1)*1<Entries!$Q$5+1,E22,\" \")","v":89},{"$f":"IF(ISERROR(MATCH(E22,B$6:B21,0)>0),\"\",E22)","v":""},{"$f":"MATCH(\"*V*\",INDIRECT(\"Results!h\"&4+D21&\":h$500\"),0)+D21","v":6},{"$f":"IF(ISERROR(OFFSET(Results!$B$3,D22,0)),\"\",OFFSET(Results!$B$3,D22,0))","v":89},{"$f":"IF(ISERROR(OFFSET(Results!$K$3,D22,0)),\"\",OFFSET(Results!$K$3,D22,0))","v":"Austin Frost"},null,{"$f":"RaceTime(OFFSET(Results!$C$3,D22,0),OFFSET(Results!$C$3,D22,1),OFFSET(Results!$C$3,D22,2))","v":"0:26:47"},{"$f":"PROPER(club(OFFSET(Results!$C$3,D22,6)))","v":"Dark Peak"},{"$f":"IF(ISERROR(OFFSET(Results!$C$3,D22,5)),\"\",OFFSET(Results!$C$3,D22,5))","v":"MV40"},{"$f":"IF(ISERROR(OFFSET(Results!$C$3,D22,7)),\"\",OFFSET(Results!$C$3,D22,7))","v":""}]
["2nd",{"$f":"IF(LEFT(A23,1)*1<Entries!$Q$5+1,E23,\" \")","v":108},{"$f":"IF(ISERROR(MATCH(E23,B$6:B22,0)>0),\"\",E23)","v":""},{"$f":"MATCH(\"*V*\",INDIRECT(\"Results!h\"&4+D22&\":h$500\"),0)+D22","v":11},{"$f":"IF(ISERROR(OFFSET(Results!$B$3,D23,0)),\"\",OFFSET(Results!$B$3,D23,0))","v":108},{"$f":"IF(ISERROR(OFFSET(Results!$K$3,D23,0)),\"\",OFFSET(Results!$K$3,D23,0))","v":"Chris Bannister"},null,{"$f":"RaceTime(OFFSET(Results!$C$3,D23,0),OFFSET(Results!$C$3,D23,1),OFFSET(Results!$C$3,D23,2))","v":"0:28:50"},{"$f":"PROPER(club(OFFSET(Results!$C$3,D23,6)))","v":"Sheffield Tri Club"},{"$f":"IF(ISERROR(OFFSET(Results!$C$3,D23,5)),\"\",OFFSET(Results!$C$3,D23,5))","v":"MV45"},{"$f":"IF(ISERROR(OFFSET(Results!$C$3,D23,7)),\"\",OFFSET(Results!$C$3,D23,7))","v":""},null,"All V55+",null,null,"There may be formating problems with following ?5 results"]
["3rd",{"$f":"IF(LEFT(A24,1)*1<Entries!$Q$5+1,E24,\" \")","v":29},{"$f":"IF(ISERROR(MATCH(E24,B$6:B23,0)>0),\"\",E24)","v":""},12,{"$f":"IF(ISERROR(OFFSET(Results!$B$3,D24,0)),\"\",OFFSET(Results!$B$3,D24,0))","v":29},{"$f":"IF(ISERROR(OFFSET(Results!$K$3,D24,0)),\"\",OFFSET(Results!$K$3,D24,0))","v":"Andrew Davies"},null,{"$f":"RaceTime(OFFSET(Results!$C$3,D24,0),OFFSET(Results!$C$3,D24,1),OFFSET(Results!$C$3,D24,2))","v":"0:28:56"},{"$f":"PROPER(club(OFFSET(Results!$C$3,D24,6)))","v":"Steel City Striders"},{"$f":"IF(ISERROR(OFFSET(Results!$C$3,D24,5)),\"\",OFFSET(Results!$C$3,D24,5))","v":"MV45"},{"$f":"IF(ISERROR(OFFSET(Results!$C$3,D24,7)),\"\",OFFSET(Results!$C$3,D24,7))","v":""},null,"1st",{"$f":"IF(ISERROR(MATCH(P24,B$6:B49,0)),0,MATCH(P24,E$6:E49,0))","v":0},null,{"$f":"OFFSET(Results!$B$3,Q24,0)","v":15},{"$f":"MATCH(\"*E*\",INDIRECT(\"Results!L\"&4+Q23&\":L$500\"),0)+Q23","v":31},{"$f":"OFFSET(Results!$K$3,Q24,0)","v":"Peter Wallis"},{"$f":"RaceTime(OFFSET(Results!$C$3,Q24,0),OFFSET(Results!$C$3,Q24,1),OFFSET(Results!$C$3,Q24,2))","v":"0:32:11"},{"$f":"club(OFFSET(Results!$C$3,Q24,6))","v":"Tideswell Rc"},{"$f":"OFFSET(Results!$C$3,Q24,5)","v":"MV55"},{"$f":"OFFSET(Results!$C$3,Q24,7)","v":"MB"}]
["4th",{"$f":"IF(LEFT(A25,1)*1<Entries!$Q$5+1,E25,\" \")","v":" "},{"$f":"IF(ISERROR(MATCH(E25,B$6:B24,0)>0),\"\",E25)","v":""},14,{"$f":"IF(ISERROR(OFFSET(Results!$B$3,D25,0)),\"\",OFFSET(Results!$B$3,D25,0))","v":92},{"$f":"IF(ISERROR(OFFSET(Results!$K$3,D25,0)),\"\",OFFSET(Results!$K$3,D25,0))","v":"Bob Johnson"},null,{"$f":"RaceTime(OFFSET(Results!$C$3,D25,0),OFFSET(Results!$C$3,D25,1),OFFSET(Results!$C$3,D25,2))","v":"0:29:33"},{"$f":"PROPER(club(OFFSET(Results!$C$3,D25,6)))","v":"Dark Peak"},{"$f":"IF(ISERROR(OFFSET(Results!$C$3,D25,5)),\"\",OFFSET(Results!$C$3,D25,5))","v":"MV40"},{"$f":"IF(ISERROR(OFFSET(Results!$C$3,D25,7)),\"\",OFFSET(Results!$C$3,D25,7))","v":""},null,"2nd",{"$f":"IF(ISERROR(MATCH(P25,B$6:B50,0)),0,MATCH(P25,E$6:E50,0))","v":0},null,{"$f":"OFFSET(Results!$B$3,Q25,0)","v":111},{"$f":"MATCH(\"*E*\",INDIRECT(\"Results!L\"&4+Q24&\":L$500\"),0)+Q24","v":41},{"$f":"OFFSET(Results!$K$3,Q25,0)","v":"Neil Oxley"},{"$f":"RaceTime(OFFSET(Results!$C$3,Q25,0),OFFSET(Results!$C$3,Q25,1),OFFSET(Results!$C$3,Q25,2))","v":"0:33:15"},{"$f":"club(OFFSET(Results!$C$3,Q25,6))","v":"Unattached"},{"$f":"OFFSET(Results!$C$3,Q25,5)","v":"MV65"},{"$f":"OFFSET(Results!$C$3,Q25,7)","v":""}]
["5th",{"$f":"IF(LEFT(A26,1)*1<Entries!$Q$5+1,E26,\" \")","v":" "},{"$f":"IF(ISERROR(MATCH(E26,B$6:B25,0)>0),\"\",E26)","v":""},15,{"$f":"IF(ISERROR(OFFSET(Results!$B$3,D26,0)),\"\",OFFSET(Results!$B$3,D26,0))","v":90},{"$f":"IF(ISERROR(OFFSET(Results!$K$3,D26,0)),\"\",OFFSET(Results!$K$3,D26,0))","v":"Paul V Stuart"},null,{"$f":"RaceTime(OFFSET(Results!$C$3,D26,0),OFFSET(Results!$C$3,D26,1),OFFSET(Results!$C$3,D26,2))","v":"0:29:37"},{"$f":"PROPER(club(OFFSET(Results!$C$3,D26,6)))","v":"Steel City Striders"},{"$f":"IF(ISERROR(OFFSET(Results!$C$3,D26,5)),\"\",OFFSET(Results!$C$3,D26,5))","v":"MV45"},{"$f":"IF(ISERROR(OFFSET(Results!$C$3,D26,7)),\"\",OFFSET(Results!$C$3,D26,7))","v":""},null,"3rd",{"$f":"IF(ISERROR(MATCH(P26,B$6:B51,0)),0,MATCH(P26,E$6:E51,0))","v":0},null,{"$f":"OFFSET(Results!$B$3,Q26,0)","v":2},43,{"$f":"OFFSET(Results!$K$3,Q26,0)","v":"Keith Holmes"},{"$f":"RaceTime(OFFSET(Results!$C$3,Q26,0),OFFSET(Results!$C$3,Q26,1),OFFSET(Results!$C$3,Q26,2))","v":"0:33:18"},{"$f":"club(OFFSET(Results!$C$3,Q26,6))","v":"Dark Peak"},{"$f":"OFFSET(Results!$C$3,Q26,5)","v":"MV60"},{"$f":"OFFSET(Results!$C$3,Q26,7)","v":""}]
["6th",{"$f":"IF(LEFT(A27,1)*1<Entries!$Q$5+1,E27,\" \")","v":" "},{"$f":"IF(ISERROR(MATCH(E27,B$6:B26,0)>0),\"\",E27)","v":""},18,{"$f":"IF(ISERROR(OFFSET(Results!$B$3,D27,0)),\"\",OFFSET(Results!$B$3,D27,0))","v":13},{"$f":"IF(ISERROR(OFFSET(Results!$K$3,D27,0)),\"\",OFFSET(Results!$K$3,D27,0))","v":"Mark Elwis"},null,{"$f":"RaceTime(OFFSET(Results!$C$3,D27,0),OFFSET(Results!$C$3,D27,1),OFFSET(Results!$C$3,D27,2))","v":"0:30:00"},{"$f":"PROPER(club(OFFSET(Results!$C$3,D27,6)))","v":"Unattached"},{"$f":"IF(ISERROR(OFFSET(Results!$C$3,D27,5)),\"\",OFFSET(Results!$C$3,D27,5))","v":"MV50"},{"$f":"IF(ISERROR(OFFSET(Results!$C$3,D27,7)),\"\",OFFSET(Results!$C$3,D27,7))","v":""},null,"4th",{"$f":"IF(ISERROR(MATCH(P27,E$6:E65,0)),0,MATCH(P27,E$6:E65,0))","v":51},null,{"$f":"OFFSET(Results!$B$3,Q27,0)","v":17},52,{"$f":"OFFSET(Results!$K$3,Q27,0)","v":"Graham Barnes"},{"$f":"RaceTime(OFFSET(Results!$C$3,Q27,0),OFFSET(Results!$C$3,Q27,1),OFFSET(Results!$C$3,Q27,2))","v":"0:34:23"},{"$f":"club(OFFSET(Results!$C$3,Q27,6))","v":"Unattached"},{"$f":"OFFSET(Results!$C$3,Q27,5)","v":"MV60"},{"$f":"OFFSET(Results!$C$3,Q27,7)","v":""}]
[null," ",{"$f":"IF(ISERROR(MATCH(E28,B$6:B27,0)>0),\"\",E28)","v":""},null,null,null,null,null,null,null,null,null,"5th",{"$f":"IF(ISERROR(MATCH(P28,E$6:E66,0)),0,MATCH(P28,E$6:E66,0))","v":52},null,{"$f":"OFFSET(Results!$B$3,Q28,0)","v":28},55,{"$f":"OFFSET(Results!$K$3,Q28,0)","v":"Neil Hindle"},{"$f":"RaceTime(OFFSET(Results!$C$3,Q28,0),OFFSET(Results!$C$3,Q28,1),OFFSET(Results!$C$3,Q28,2))","v":"0:34:39"},{"$f":"club(OFFSET(Results!$C$3,Q28,6))","v":"Fra"},{"$f":"OFFSET(Results!$C$3,Q28,5)","v":"MV60"},{"$f":"OFFSET(Results!$C$3,Q28,7)","v":""}]
[null," ",{"$f":"IF(ISERROR(MATCH(F29,B$6:B28,0)>0),\"\",F29)","v":""},null,"Race No.","Female V40+","This includes V50,V60 etc.",null,"If the participant has appeared in a higher category they have been grayed",null,null,null,null,null,null,{"$f":"OFFSET(Results!$B$3,Q29,0)","v":11},58,{"$f":"OFFSET(Results!$K$3,Q29,0)","v":"Peter Stanley"},{"$f":"RaceTime(OFFSET(Results!$C$3,Q29,0),OFFSET(Results!$C$3,Q29,1),OFFSET(Results!$C$3,Q29,2))","v":"0:35:00"},{"$f":"club(OFFSET(Results!$C$3,Q29,6))","v":"Penistone Footpath Runners"},{"$f":"OFFSET(Results!$C$3,Q29,5)","v":"MV55"},{"$f":"OFFSET(Results!$C$3,Q29,7)","v":""}]
["1st",{"$f":"IF(LEFT(A30,1)*1<Entries!$Q$6+1,E30,\" \")","v":32},{"$f":"IF(ISERROR(MATCH(E30,B$6:B29,0)>0),\"\",E30)","v":32},{"$f":"MATCH(\"*FV*\",INDIRECT(\"Results!h\"&4+D29&\":h$500\"),0)+D29","v":42},{"$f":"IF(ISERROR(OFFSET(Results!$B$3,D30,0)),\"\",OFFSET(Results!$B$3,D30,0))","v":32},{"$f":"IF(ISERROR(OFFSET(Results!$K$3,D30,0)),\"\",OFFSET(Results!$K$3,D30,0))","v":"Kate Jenkins"},null,{"$f":"RaceTime(OFFSET(Results!$C$3,D30,0),OFFSET(Results!$C$3,D30,1),OFFSET(Results!$C$3,D30,2))","v":"0:33:15"},{"$f":"PROPER(club(OFFSET(Results!$C$3,D30,6)))","v":"Handsworth Road Hogs"},{"$f":"IF(ISERROR(OFFSET(Results!$C$3,D30,5)),\"\",OFFSET(Results!$C$3,D30,5))","v":"FV40"},{"$f":"IF(ISERROR(OFFSET(Results!$C$3,D30,7)),\"\",OFFSET(Results!$C$3,D30,7))","v":""}]
["2nd",{"$f":"IF(LEFT(A31,1)*1<Entries!$Q$6+1,E31,\" \")","v":35},{"$f":"IF(ISERROR(MATCH(E31,B$6:B30,0)>0),\"\",E31)","v":""},{"$f":"MATCH(\"*FV*\",INDIRECT(\"Results!h\"&4+D30&\":h$500\"),0)+D30","v":61},{"$f":"IF(ISERROR(OFFSET(Results!$B$3,D31,0)),\"\",OFFSET(Results!$B$3,D31,0))","v":35},{"$f":"IF(ISERROR(OFFSET(Results!$K$3,D31,0)),\"\",OFFSET(Results!$K$3,D31,0))","v":"Emma Dent"},null,{"$f":"RaceTime(OFFSET(Results!$C$3,D31,0),OFFSET(Results!$C$3,D31,1),OFFSET(Results!$C$3,D31,2))","v":"0:35:26"},{"$f":"PROPER(club(OFFSET(Results!$C$3,D31,6)))","v":"Totley Ac"},{"$f":"IF(ISERROR(OFFSET(Results!$C$3,D31,5)),\"\",OFFSET(Results!$C$3,D31,5))","v":"FV45"},{"$f":"IF(ISERROR(OFFSET(Results!$C$3,D31,7)),\"\",OFFSET(Results!$C$3,D31,7))","v":""}]
["3rd",{"$f":"IF(LEFT(A32,1)*1<Entries!$Q$6+1,E32,\" \")","v":46},{"$f":"IF(ISERROR(MATCH(E32,B$6:B31,0)>0),\"\",E32)","v":""},65,{"$f":"IF(ISERROR(OFFSET(Results!$B$3,D32,0)),\"\",OFFSET(Results!$B$3,D32,0))","v":46},{"$f":"IF(ISERROR(OFFSET(Results!$K$3,D32,0)),\"\",OFFSET(Results!$K$3,D32,0))","v":"Clare Holdcroft"},null,{"$f":"RaceTime(OFFSET(Results!$C$3,D32,0),OFFSET(Results!$C$3,D32,1),OFFSET(Results!$C$3,D32,2))","v":"0:35:33"},{"$f":"PROPER(club(OFFSET(Results!$C$3,D32,6)))","v":"Buxton Ac"},{"$f":"IF(ISERROR(OFFSET(Results!$C$3,D32,5)),\"\",OFFSET(Results!$C$3,D32,5))","v":"FV40"},{"$f":"IF(ISERROR(OFFSET(Results!$C$3,D32,7)),\"\",OFFSET(Results!$C$3,D32,7))","v":""},null,"Female V55+"]
["4th",{"$f":"IF(LEFT(A33,1)*1<Entries!$Q$6+1,E33,\" \")","v":" "},{"$f":"IF(ISERROR(MATCH(E33,B$6:B32,0)>0),\"\",E33)","v":""},82,{"$f":"IF(ISERROR(OFFSET(Results!$B$3,D33,0)),\"\",OFFSET(Results!$B$3,D33,0))","v":70},{"$f":"IF(ISERROR(OFFSET(Results!$K$3,D33,0)),\"\",OFFSET(Results!$K$3,D33,0))","v":"Rachel Watson"},null,{"$f":"RaceTime(OFFSET(Results!$C$3,D33,0),OFFSET(Results!$C$3,D33,1),OFFSET(Results!$C$3,D33,2))","v":"0:38:19"},{"$f":"PROPER(club(OFFSET(Results!$C$3,D33,6)))","v":"Unattached"},{"$f":"IF(ISERROR(OFFSET(Results!$C$3,D33,5)),\"\",OFFSET(Results!$C$3,D33,5))","v":"FV40"},{"$f":"IF(ISERROR(OFFSET(Results!$C$3,D33,7)),\"\",OFFSET(Results!$C$3,D33,7))","v":""},null,"1st",{"$f":"IF(ISERROR(MATCH(P33,E$6:E71,0)),0,MATCH(P33,E$6:E71,0))","v":29},null,{"$f":"OFFSET(Results!$B$3,Q33,0)","v":34},{"$f":"MATCH(\"F*E*\",INDIRECT(\"Results!L\"&4+Q32&\":L$500\"),0)+Q32","v":84},{"$f":"OFFSET(Results!$K$3,Q33,0)","v":"Yvonne Twelvetrees"},{"$f":"RaceTime(OFFSET(Results!$C$3,Q33,0),OFFSET(Results!$C$3,Q33,1),OFFSET(Results!$C$3,Q33,2))","v":"0:38:41"},{"$f":"club(OFFSET(Results!$C$3,Q33,6))","v":"Totley Ac"},{"$f":"OFFSET(Results!$C$3,Q33,5)","v":"FV60"},{"$f":"OFFSET(Results!$C$3,Q33,7)","v":""}]
["5th",{"$f":"IF(LEFT(A34,1)*1<Entries!$Q$6+1,E34,\" \")","v":" "},{"$f":"IF(ISERROR(MATCH(E34,B$6:B33,0)>0),\"\",E34)","v":""},84,{"$f":"IF(ISERROR(OFFSET(Results!$B$3,D34,0)),\"\",OFFSET(Results!$B$3,D34,0))","v":34},{"$f":"IF(ISERROR(OFFSET(Results!$K$3,D34,0)),\"\",OFFSET(Results!$K$3,D34,0))","v":"Yvonne Twelvetrees"},null,{"$f":"RaceTime(OFFSET(Results!$C$3,D34,0),OFFSET(Results!$C$3,D34,1),OFFSET(Results!$C$3,D34,2))","v":"0:38:41"},{"$f":"PROPER(club(OFFSET(Results!$C$3,D34,6)))","v":"Totley Ac"},{"$f":"IF(ISERROR(OFFSET(Results!$C$3,D34,5)),\"\",OFFSET(Results!$C$3,D34,5))","v":"FV60"},{"$f":"IF(ISERROR(OFFSET(Results!$C$3,D34,7)),\"\",OFFSET(Results!$C$3,D34,7))","v":""},null,"2nd",{"$f":"IF(ISERROR(MATCH(P34,E$6:E72,0)),0,MATCH(P34,E$6:E72,0))","v":42},null,{"$f":"OFFSET(Results!$B$3,Q34,0)","v":23},{"$f":"MATCH(\"F*E*\",INDIRECT(\"Results!L\"&4+Q33&\":L$500\"),0)+Q33","v":88},{"$f":"OFFSET(Results!$K$3,Q34,0)","v":"Carol Beattie"},{"$f":"RaceTime(OFFSET(Results!$C$3,Q34,0),OFFSET(Results!$C$3,Q34,1),OFFSET(Results!$C$3,Q34,2))","v":"0:39:41"},{"$f":"club(OFFSET(Results!$C$3,Q34,6))","v":"Steel City Striders"},{"$f":"OFFSET(Results!$C$3,Q34,5)","v":"FV60"},{"$f":"OFFSET(Results!$C$3,Q34,7)","v":""}]
["6th",{"$f":"IF(LEFT(A35,1)*1<Entries!$Q$6+1,E35,\" \")","v":" "},{"$f":"IF(ISERROR(MATCH(E35,B$6:B34,0)>0),\"\",E35)","v":""},87,{"$f":"IF(ISERROR(OFFSET(Results!$B$3,D35,0)),\"\",OFFSET(Results!$B$3,D35,0))","v":64},{"$f":"IF(ISERROR(OFFSET(Results!$K$3,D35,0)),\"\",OFFSET(Results!$K$3,D35,0))","v":"Victoria Hawkins"},null,{"$f":"RaceTime(OFFSET(Results!$C$3,D35,0),OFFSET(Results!$C$3,D35,1),OFFSET(Results!$C$3,D35,2))","v":"0:39:33"},{"$f":"PROPER(club(OFFSET(Results!$C$3,D35,6)))","v":"Steel City Striders"},{"$f":"IF(ISERROR(OFFSET(Results!$C$3,D35,5)),\"\",OFFSET(Results!$C$3,D35,5))","v":"FV45"},{"$f":"IF(ISERROR(OFFSET(Results!$C$3,D35,7)),\"\",OFFSET(Results!$C$3,D35,7))","v":""},null,"3rd",{"$f":"IF(ISERROR(MATCH(P35,E$6:E73,0)),0,MATCH(P35,E$6:E73,0))","v":44},null,{"$f":"OFFSET(Results!$B$3,Q35,0)","v":65},92,{"$f":"OFFSET(Results!$K$3,Q35,0)","v":"Jill Davies"},{"$f":"RaceTime(OFFSET(Results!$C$3,Q35,0),OFFSET(Results!$C$3,Q35,1),OFFSET(Results!$C$3,Q35,2))","v":"0:41:49"},{"$f":"club(OFFSET(Results!$C$3,Q35,6))","v":"Steel City Striders"},{"$f":"OFFSET(Results!$C$3,Q35,5)","v":"FV55"},{"$f":"OFFSET(Results!$C$3,Q35,7)","v":""}]
[null,null,{"$f":"IF(ISERROR(MATCH(E36,B$6:B35,0)>0),\"\",E36)","v":""},null,null,null,null,null,null,null,null,null,"4th",{"$f":"IF(ISERROR(MATCH(P36,E$6:E74,0)),0,MATCH(P36,E$6:E74,0))","v":46},null,{"$f":"OFFSET(Results!$B$3,Q36,0)","v":48},94,{"$f":"OFFSET(Results!$K$3,Q36,0)","v":"Joan Waller"},{"$f":"RaceTime(OFFSET(Results!$C$3,Q36,0),OFFSET(Results!$C$3,Q36,1),OFFSET(Results!$C$3,Q36,2))","v":"0:41:57"},{"$f":"club(OFFSET(Results!$C$3,Q36,6))","v":"Dark Peak"},{"$f":"OFFSET(Results!$C$3,Q36,5)","v":"FV55"},{"$f":"OFFSET(Results!$C$3,Q36,7)","v":""}]
[null," ",{"$f":"IF(ISERROR(MATCH(E37,B$6:B36,0)>0),\"\",E37)","v":""},null,"Race No.","All V50+","This includes V50,V60 etc and Ladies",null,"If the participant has appeared in a higher category they have been grayed",null,null,null,"5th",{"$f":"IF(ISERROR(MATCH(P37,E$6:E75,0)),0,MATCH(P37,E$6:E75,0))","v":0},null,{"$f":"OFFSET(Results!$B$3,Q37,0)","v":{"$error":"#N/A"}},{"$error":"#N/A"},{"$f":"OFFSET(Results!$K$3,Q37,0)","v":{"$error":"#N/A"}},{"$f":"RaceTime(OFFSET(Results!$C$3,Q37,0),OFFSET(Results!$C$3,Q37,1),OFFSET(Results!$C$3,Q37,2))","v":""},{"$f":"club(OFFSET(Results!$C$3,Q37,6))","v":""},{"$f":"OFFSET(Results!$C$3,Q37,5)","v":{"$error":"#N/A"}},{"$f":"OFFSET(Results!$C$3,Q37,7)","v":{"$error":"#N/A"}}]
["1st",{"$f":"IF(LEFT(A38,1)*1<Entries!$Q$6+1,E38,\" \")","v":13},{"$f":"IF(ISERROR(MATCH(E38,B$6:B37,0)>0),\"\",E38)","v":""},{"$f":"MATCH(\"*D*\",INDIRECT(\"Results!l\"&4+D37&\":l$500\"),0)+D37","v":18},{"$f":"IF(ISERROR(OFFSET(Results!$B$3,D38,0)),\"\",OFFSET(Results!$B$3,D38,0))","v":13},{"$f":"IF(ISERROR(OFFSET(Results!$K$3,D38,0)),\"\",OFFSET(Results!$K$3,D38,0))","v":"Mark Elwis"},null,{"$f":"RaceTime(OFFSET(Results!$C$3,D38,0),OFFSET(Results!$C$3,D38,1),OFFSET(Results!$C$3,D38,2))","v":"0:30:00"},{"$f":"PROPER(club(OFFSET(Results!$C$3,D38,6)))","v":"Unattached"},{"$f":"IF(ISERROR(OFFSET(Results!$C$3,D38,5)),\"\",OFFSET(Results!$C$3,D38,5))","v":"MV50"},{"$f":"IF(ISERROR(OFFSET(Results!$C$3,D38,7)),\"\",OFFSET(Results!$C$3,D38,7))","v":""},null,null,null,null,null,null,null,null,null,""]
["2nd",{"$f":"IF(LEFT(A39,1)*1<Entries!$Q$6+1,E39,\" \")","v":12},{"$f":"IF(ISERROR(MATCH(E39,B$6:B38,0)>0),\"\",E39)","v":""},{"$f":"MATCH(\"*D*\",INDIRECT(\"Results!l\"&4+D38&\":l$500\"),0)+D38","v":26},{"$f":"IF(ISERROR(OFFSET(Results!$B$3,D39,0)),\"\",OFFSET(Results!$B$3,D39,0))","v":12},{"$f":"IF(ISERROR(OFFSET(Results!$K$3,D39,0)),\"\",OFFSET(Results!$K$3,D39,0))","v":"Mick Archer"},null,{"$f":"RaceTime(OFFSET(Results!$C$3,D39,0),OFFSET(Results!$C$3,D39,1),OFFSET(Results!$C$3,D39,2))","v":"0:31:22"},{"$f":"PROPER(club(OFFSET(Results!$C$3,D39,6)))","v":"Dark Peak"},{"$f":"IF(ISERROR(OFFSET(Results!$C$3,D39,5)),\"\",OFFSET(Results!$C$3,D39,5))","v":"MV50"},{"$f":"IF(ISERROR(OFFSET(Results!$C$3,D39,7)),\"\",OFFSET(Results!$C$3,D39,7))","v":"MB"}]
["3rd",{"$f":"IF(LEFT(A40,1)*1<Entries!$Q$6+1,E40,\" \")","v":95},{"$f":"IF(ISERROR(MATCH(E40,B$6:B39,0)>0),\"\",E40)","v":""},{"$f":"MATCH(\"*D*\",INDIRECT(\"Results!l\"&4+D39&\":l$500\"),0)+D39","v":29},{"$f":"IF(ISERROR(OFFSET(Results!$B$3,D40,0)),\"\",OFFSET(Results!$B$3,D40,0))","v":95},{"$f":"IF(ISERROR(OFFSET(Results!$K$3,D40,0)),\"\",OFFSET(Results!$K$3,D40,0))","v":"David Whitaker"},null,{"$f":"RaceTime(OFFSET(Results!$C$3,D40,0),OFFSET(Results!$C$3,D40,1),OFFSET(Results!$C$3,D40,2))","v":"0:32:04"},{"$f":"PROPER(club(OFFSET(Results!$C$3,D40,6)))","v":"Sheffield Tri Club"},{"$f":"IF(ISERROR(OFFSET(Results!$C$3,D40,5)),\"\",OFFSET(Results!$C$3,D40,5))","v":"MV50"},{"$f":"IF(ISERROR(OFFSET(Results!$C$3,D40,7)),\"\",OFFSET(Results!$C$3,D40,7))","v":""},null,"All V 65+"]
["4th",{"$f":"IF(LEFT(A41,1)*1<Entries!$Q$6+1,E41,\" \")","v":" "},{"$f":"IF(ISERROR(MATCH(E41,B$6:B40,0)>0),\"\",E41)","v":""},31,{"$f":"IF(ISERROR(OFFSET(Results!$B$3,D41,0)),\"\",OFFSET(Results!$B$3,D41,0))","v":15},{"$f":"IF(ISERROR(OFFSET(Results!$K$3,D41,0)),\"\",OFFSET(Results!$K$3,D41,0))","v":"Peter Wallis"},null,{"$f":"RaceTime(OFFSET(Results!$C$3,D41,0),OFFSET(Results!$C$3,D41,1),OFFSET(Results!$C$3,D41,2))","v":"0:32:11"},{"$f":"PROPER(club(OFFSET(Results!$C$3,D41,6)))","v":"Tideswell Rc"},{"$f":"IF(ISERROR(OFFSET(Results!$C$3,D41,5)),\"\",OFFSET(Results!$C$3,D41,5))","v":"MV55"},{"$f":"IF(ISERROR(OFFSET(Results!$C$3,D41,7)),\"\",OFFSET(Results!$C$3,D41,7))","v":"MB"},null,"1st",{"$f":"IF(ISERROR(MATCH(P41,E$6:E79,0)),0,MATCH(P41,E$6:E79,0))","v":38},null,{"$f":"OFFSET(Results!$B$3,Q41,0)","v":111},{"$f":"MATCH(\"*W*\",INDIRECT(\"Results!L\"&4+Q40&\":L$500\"),0)+Q40","v":41},{"$f":"OFFSET(Results!$K$3,Q41,0)","v":"Neil Oxley"},{"$f":"RaceTime(OFFSET(Results!$C$3,Q41,0),OFFSET(Results!$C$3,Q41,1),OFFSET(Results!$C$3,Q41,2))","v":"0:33:15"},{"$f":"club(OFFSET(Results!$C$3,Q41,6))","v":"Unattached"},{"$f":"OFFSET(Results!$C$3,Q41,5)","v":"MV65"},{"$f":"OFFSET(Results!$C$3,Q41,7)","v":""}]
["5th",{"$f":"IF(LEFT(A42,1)*1<Entries!$Q$6+1,E42,\" \")","v":" "},{"$f":"IF(ISERROR(MATCH(E42,B$6:B41,0)>0),\"\",E42)","v":""},36,{"$f":"IF(ISERROR(OFFSET(Results!$B$3,D42,0)),\"\",OFFSET(Results!$B$3,D42,0))","v":112},{"$f":"IF(ISERROR(OFFSET(Results!$K$3,D42,0)),\"\",OFFSET(Results!$K$3,D42,0))","v":"Steve Aspey"},null,{"$f":"RaceTime(OFFSET(Results!$C$3,D42,0),OFFSET(Results!$C$3,D42,1),OFFSET(Results!$C$3,D42,2))","v":"0:32:50"},{"$f":"PROPER(club(OFFSET(Results!$C$3,D42,6)))","v":"Unattached"},{"$f":"IF(ISERROR(OFFSET(Results!$C$3,D42,5)),\"\",OFFSET(Results!$C$3,D42,5))","v":"MV50"},{"$f":"IF(ISERROR(OFFSET(Results!$C$3,D42,7)),\"\",OFFSET(Results!$C$3,D42,7))","v":""},null,"2nd",{"$f":"IF(ISERROR(MATCH(P42,E$6:E80,0)),0,MATCH(P42,E$6:E80,0))","v":0},null,{"$f":"OFFSET(Results!$B$3,Q42,0)","v":{"$error":"#N/A"}},{"$f":"MATCH(\"*W*\",INDIRECT(\"Results!L\"&4+Q41&\":L$500\"),0)+Q41","v":{"$error":"#N/A"}},{"$f":"OFFSET(Results!$K$3,Q42,0)","v":{"$error":"#N/A"}},{"$f":"RaceTime(OFFSET(Results!$C$3,Q42,0),OFFSET(Results!$C$3,Q42,1),OFFSET(Results!$C$3,Q42,2))","v":""},{"$f":"club(OFFSET(Results!$C$3,Q42,6))","v":""},{"$f":"OFFSET(Results!$C$3,Q42,5)","v":{"$error":"#N/A"}},{"$f":"OFFSET(Results!$C$3,Q42,7)","v":{"$error":"#N/A"}}]
["6th",{"$f":"IF(LEFT(A43,1)*1<Entries!$Q$6+1,E43,\" \")","v":" "},{"$f":"IF(ISERROR(MATCH(E43,B$6:B42,0)>0),\"\",E43)","v":""},41,{"$f":"IF(ISERROR(OFFSET(Results!$B$3,D43,0)),\"\",OFFSET(Results!$B$3,D43,0))","v":111},{"$f":"IF(ISERROR(OFFSET(Results!$K$3,D43,0)),\"\",OFFSET(Results!$K$3,D43,0))","v":"Neil Oxley"},null,{"$f":"RaceTime(OFFSET(Results!$C$3,D43,0),OFFSET(Results!$C$3,D43,1),OFFSET(Results!$C$3,D43,2))","v":"0:33:15"},{"$f":"PROPER(club(OFFSET(Results!$C$3,D43,6)))","v":"Unattached"},{"$f":"IF(ISERROR(OFFSET(Results!$C$3,D43,5)),\"\",OFFSET(Results!$C$3,D43,5))","v":"MV65"},{"$f":"IF(ISERROR(OFFSET(Results!$C$3,D43,7)),\"\",OFFSET(Results!$C$3,D43,7))","v":""},null,"3rd",{"$f":"IF(ISERROR(MATCH(P43,E$6:E81,0)),0,MATCH(P43,E$6:E81,0))","v":0},null,{"$f":"OFFSET(Results!$B$3,Q43,0)","v":{"$error":"#N/A"}},{"$error":"#N/A"},{"$f":"OFFSET(Results!$K$3,Q43,0)","v":{"$error":"#N/A"}},{"$f":"RaceTime(OFFSET(Results!$C$3,Q43,0),OFFSET(Results!$C$3,Q43,1),OFFSET(Results!$C$3,Q43,2))","v":""},{"$f":"club(OFFSET(Results!$C$3,Q43,6))","v":""},{"$f":"OFFSET(Results!$C$3,Q43,5)","v":{"$error":"#N/A"}},{"$f":"OFFSET(Results!$C$3,Q43,7)","v":{"$error":"#N/A"}}]
[null,null,null,null,null,null,null,null,null,null,null,null,"4th",{"$f":"IF(ISERROR(MATCH(P44,E$6:E82,0)),0,MATCH(P44,E$6:E82,0))","v":0},null,{"$f":"OFFSET(Results!$B$3,Q44,0)","v":{"$error":"#N/A"}},{"$error":"#N/A"},{"$f":"OFFSET(Results!$K$3,Q44,0)","v":{"$error":"#N/A"}},{"$f":"RaceTime(OFFSET(Results!$C$3,Q44,0),OFFSET(Results!$C$3,Q44,1),OFFSET(Results!$C$3,Q44,2))","v":""},{"$f":"club(OFFSET(Results!$C$3,Q44,6))","v":""},{"$f":"OFFSET(Results!$C$3,Q44,5)","v":{"$error":"#N/A"}},{"$f":"OFFSET(Results!$C$3,Q44,7)","v":{"$error":"#N/A"}}]
[null,null,null,null,"Race No.","Female V50+","This includes V60 etc.",null,"If the participant has appeared in a higher category they have been grayed",null,null,null,"5th",{"$f":"IF(ISERROR(MATCH(P45,E$6:E83,0)),0,MATCH(P45,E$6:E83,0))","v":0},null,{"$f":"OFFSET(Results!$B$3,Q45,0)","v":{"$error":"#N/A"}},{"$error":"#N/A"},{"$f":"OFFSET(Results!$K$3,Q45,0)","v":{"$error":"#N/A"}},{"$f":"RaceTime(OFFSET(Results!$C$3,Q45,0),OFFSET(Results!$C$3,Q45,1),OFFSET(Results!$C$3,Q45,2))","v":""},{"$f":"club(OFFSET(Results!$C$3,Q45,6))","v":""},{"$f":"OFFSET(Results!$C$3,Q45,5)","v":{"$error":"#N/A"}},{"$f":"OFFSET(Results!$C$3,Q45,7)","v":{"$error":"#N/A"}}]
["1st",{"$f":"IF(LEFT(A46,1)*1<Entries!$Q$6+1,E46,\" \")","v":34},{"$f":"IF(ISERROR(MATCH(E46,B$6:B45,0)>0),\"\",E46)","v":""},{"$f":"MATCH(\"*FVD*\",INDIRECT(\"Results!l\"&4+D45&\":l$500\"),0)+D45","v":84},{"$f":"IF(ISERROR(OFFSET(Results!$B$3,D46,0)),\"\",OFFSET(Results!$B$3,D46,0))","v":34},{"$f":"IF(ISERROR(OFFSET(Results!$K$3,D46,0)),\"\",OFFSET(Results!$K$3,D46,0))","v":"Yvonne Twelvetrees"},null,{"$f":"RaceTime(OFFSET(Results!$C$3,D46,0),OFFSET(Results!$C$3,D46,1),OFFSET(Results!$C$3,D46,2))","v":"0:38:41"},{"$f":"PROPER(club(OFFSET(Results!$C$3,D46,6)))","v":"Totley Ac"},{"$f":"IF(ISERROR(OFFSET(Results!$C$3,D46,5)),\"\",OFFSET(Results!$C$3,D46,5))","v":"FV60"},{"$f":"IF(ISERROR(OFFSET(Results!$C$3,D46,7)),\"\",OFFSET(Results!$C$3,D46,7))","v":""}]
["2nd",{"$f":"IF(LEFT(A47,1)*1<Entries!$Q$6+1,E47,\" \")","v":23},{"$f":"IF(ISERROR(MATCH(E47,B$6:B46,0)>0),\"\",E47)","v":""},{"$f":"MATCH(\"*FVD*\",INDIRECT(\"Results!l\"&4+D46&\":l$500\"),0)+D46","v":88},{"$f":"IF(ISERROR(OFFSET(Results!$B$3,D47,0)),\"\",OFFSET(Results!$B$3,D47,0))","v":23},{"$f":"IF(ISERROR(OFFSET(Results!$K$3,D47,0)),\"\",OFFSET(Results!$K$3,D47,0))","v":"Carol Beattie"},null,{"$f":"RaceTime(OFFSET(Results!$C$3,D47,0),OFFSET(Results!$C$3,D47,1),OFFSET(Results!$C$3,D47,2))","v":"0:39:41"},{"$f":"PROPER(club(OFFSET(Results!$C$3,D47,6)))","v":"Steel City Striders"},{"$f":"IF(ISERROR(OFFSET(Results!$C$3,D47,5)),\"\",OFFSET(Results!$C$3,D47,5))","v":"FV60"},{"$f":"IF(ISERROR(OFFSET(Results!$C$3,D47,7)),\"\",OFFSET(Results!$C$3,D47,7))","v":""},null,"Female V65+"]
["3rd",{"$f":"IF(LEFT(A48,1)*1<Entries!$Q$6+1,E48,\" \")","v":47},{"$f":"IF(ISERROR(MATCH(E48,B$6:B47,0)>0),\"\",E48)","v":""},90,{"$f":"IF(ISERROR(OFFSET(Results!$B$3,D48,0)),\"\",OFFSET(Results!$B$3,D48,0))","v":47},{"$f":"IF(ISERROR(OFFSET(Results!$K$3,D48,0)),\"\",OFFSET(Results!$K$3,D48,0))","v":"Maxine Ison"},null,{"$f":"RaceTime(OFFSET(Results!$C$3,D48,0),OFFSET(Results!$C$3,D48,1),OFFSET(Results!$C$3,D48,2))","v":"0:40:23"},{"$f":"PROPER(club(OFFSET(Results!$C$3,D48,6)))","v":"Totley Ac"},{"$f":"IF(ISERROR(OFFSET(Results!$C$3,D48,5)),\"\",OFFSET(Results!$C$3,D48,5))","v":"FV50"},{"$f":"IF(ISERROR(OFFSET(Results!$C$3,D48,7)),\"\",OFFSET(Results!$C$3,D48,7))","v":""},null,"1st",{"$f":"IF(ISERROR(MATCH(#REF!,E$6:E86,0)),0,MATCH(#REF!,E$6:E86,0))","v":0},null,{"$f":"OFFSET(Results!$B$3,Q48,0)","v":{"$error":"#N/A"}},{"$f":"MATCH(\"F*W*\",INDIRECT(\"Results!L\"&4+Q47&\":L$500\"),0)+Q47","v":{"$error":"#N/A"}},{"$f":"OFFSET(Results!$K$3,Q48,0)","v":{"$error":"#N/A"}},{"$f":"RaceTime(OFFSET(Results!$C$3,Q48,0),OFFSET(Results!$C$3,Q48,1),OFFSET(Results!$C$3,Q48,2))","v":""},{"$f":"club(OFFSET(Results!$C$3,Q48,6))","v":""},{"$f":"OFFSET(Results!$C$3,Q48,5)","v":{"$error":"#N/A"}},{"$f":"OFFSET(Results!$C$3,Q48,7)","v":{"$error":"#N/A"}}]
["4th",{"$f":"IF(LEFT(A49,1)*1<Entries!$Q$6+1,E49,\" \")","v":" "},{"$f":"IF(ISERROR(MATCH(E49,B$6:B48,0)>0),\"\",E49)","v":""},92,{"$f":"IF(ISERROR(OFFSET(Results!$B$3,D49,0)),\"\",OFFSET(Results!$B$3,D49,0))","v":65},{"$f":"IF(ISERROR(OFFSET(Results!$K$3,D49,0)),\"\",OFFSET(Results!$K$3,D49,0))","v":"Jill Davies"},null,{"$f":"RaceTime(OFFSET(Results!$C$3,D49,0),OFFSET(Results!$C$3,D49,1),OFFSET(Results!$C$3,D49,2))","v":"0:41:49"},{"$f":"PROPER(club(OFFSET(Results!$C$3,D49,6)))","v":"Steel City Striders"},{"$f":"IF(ISERROR(OFFSET(Results!$C$3,D49,5)),\"\",OFFSET(Results!$C$3,D49,5))","v":"FV55"},{"$f":"IF(ISERROR(OFFSET(Results!$C$3,D49,7)),\"\",OFFSET(Results!$C$3,D49,7))","v":""},null,"2nd",{"$f":"IF(ISERROR(MATCH(P49,E$6:E87,0)),0,MATCH(P49,E$6:E87,0))","v":0},null,{"$f":"OFFSET(Results!$B$3,Q49,0)","v":{"$error":"#N/A"}},{"$f":"MATCH(\"F*W*\",INDIRECT(\"Results!L\"&4+Q48&\":L$500\"),0)+Q48","v":{"$error":"#N/A"}},{"$f":"OFFSET(Results!$K$3,Q49,0)","v":{"$error":"#N/A"}},{"$f":"RaceTime(OFFSET(Results!$C$3,Q49,0),OFFSET(Results!$C$3,Q49,1),OFFSET(Results!$C$3,Q49,2))","v":""},{"$f":"club(OFFSET(Results!$C$3,Q49,6))","v":""},{"$f":"OFFSET(Results!$C$3,Q49,5)","v":{"$error":"#N/A"}},{"$f":"OFFSET(Results!$C$3,Q49,7)","v":{"$error":"#N/A"}}]
["5th",{"$f":"IF(LEFT(A50,1)*1<Entries!$Q$6+1,E50,\" \")","v":" "},{"$f":"IF(ISERROR(MATCH(E50,B$6:B49,0)>0),\"\",E50)","v":""},93,{"$f":"IF(ISERROR(OFFSET(Results!$B$3,D50,0)),\"\",OFFSET(Results!$B$3,D50,0))","v":16},{"$f":"IF(ISERROR(OFFSET(Results!$K$3,D50,0)),\"\",OFFSET(Results!$K$3,D50,0))","v":"Diane Clewes"},null,{"$f":"RaceTime(OFFSET(Results!$C$3,D50,0),OFFSET(Results!$C$3,D50,1),OFFSET(Results!$C$3,D50,2))","v":"0:41:52"},{"$f":"PROPER(club(OFFSET(Results!$C$3,D50,6)))","v":"Totley Ac"},{"$f":"IF(ISERROR(OFFSET(Results!$C$3,D50,5)),\"\",OFFSET(Results!$C$3,D50,5))","v":"FV50"},{"$f":"IF(ISERROR(OFFSET(Results!$C$3,D50,7)),\"\",OFFSET(Results!$C$3,D50,7))","v":""},null,"3rd",{"$f":"IF(ISERROR(MATCH(P50,E$6:E88,0)),0,MATCH(P50,E$6:E88,0))","v":0},null,{"$f":"OFFSET(Results!$B$3,Q50,0)","v":{"$error":"#N/A"}},{"$error":"#N/A"},{"$f":"OFFSET(Results!$K$3,Q50,0)","v":{"$error":"#N/A"}},{"$f":"RaceTime(OFFSET(Results!$C$3,Q50,0),OFFSET(Results!$C$3,Q50,1),OFFSET(Results!$C$3,Q50,2))","v":""},{"$f":"club(OFFSET(Results!$C$3,Q50,6))","v":""},{"$f":"OFFSET(Results!$C$3,Q50,5)","v":{"$error":"#N/A"}},{"$f":"OFFSET(Results!$C$3,Q50,7)","v":{"$error":"#N/A"}}]
["6th",{"$f":"IF(LEFT(A51,1)*1<Entries!$Q$6+1,E51,\" \")","v":" "},{"$f":"IF(ISERROR(MATCH(E51,B$6:B50,0)>0),\"\",E51)","v":""},94,{"$f":"IF(ISERROR(OFFSET(Results!$B$3,D51,0)),\"\",OFFSET(Results!$B$3,D51,0))","v":48},{"$f":"IF(ISERROR(OFFSET(Results!$K$3,D51,0)),\"\",OFFSET(Results!$K$3,D51,0))","v":"Joan Waller"},null,{"$f":"RaceTime(OFFSET(Results!$C$3,D51,0),OFFSET(Results!$C$3,D51,1),OFFSET(Results!$C$3,D51,2))","v":"0:41:57"},{"$f":"PROPER(club(OFFSET(Results!$C$3,D51,6)))","v":"Dark Peak"},{"$f":"IF(ISERROR(OFFSET(Results!$C$3,D51,5)),\"\",OFFSET(Results!$C$3,D51,5))","v":"FV55"},{"$f":"IF(ISERROR(OFFSET(Results!$C$3,D51,7)),\"\",OFFSET(Results!$C$3,D51,7))","v":""},null,"4th",{"$f":"IF(ISERROR(MATCH(P51,E$6:E89,0)),0,MATCH(P51,E$6:E89,0))","v":0},null,{"$f":"OFFSET(Results!$B$3,Q51,0)","v":{"$error":"#N/A"}},{"$error":"#N/A"},{"$f":"OFFSET(Results!$K$3,Q51,0)","v":{"$error":"#N/A"}},{"$f":"RaceTime(OFFSET(Results!$C$3,Q51,0),OFFSET(Results!$C$3,Q51,1),OFFSET(Results!$C$3,Q51,2))","v":""},{"$f":"club(OFFSET(Results!$C$3,Q51,6))","v":""},{"$f":"OFFSET(Results!$C$3,Q51,5)","v":{"$error":"#N/A"}},{"$f":"OFFSET(Results!$C$3,Q51,7)","v":{"$error":"#N/A"}}]
[null,null,null,null,null,null,null,null,null,null,null,null,"5th",{"$f":"IF(ISERROR(MATCH(P52,E$6:E90,0)),0,MATCH(P52,E$6:E90,0))","v":0},null,{"$f":"OFFSET(Results!$B$3,Q52,0)","v":{"$error":"#N/A"}},{"$error":"#N/A"},{"$f":"OFFSET(Results!$K$3,Q52,0)","v":{"$error":"#N/A"}},{"$f":"RaceTime(OFFSET(Results!$C$3,Q52,0),OFFSET(Results!$C$3,Q52,1),OFFSET(Results!$C$3,Q52,2))","v":""},{"$f":"club(OFFSET(Results!$C$3,Q52,6))","v":""},{"$f":"OFFSET(Results!$C$3,Q52,5)","v":{"$error":"#N/A"}},{"$f":"OFFSET(Results!$C$3,Q52,7)","v":{"$error":"#N/A"}}]
[null,null,null,null,"Race No.","All V60+","This includes V70 and Ladies",null,"If the participant has appeared in a higher category they have been grayed"]
["1st",{"$f":"IF(LEFT(A54,1)*1<Entries!$Q$6+1,E54,\" \")","v":111},{"$f":"IF(ISERROR(MATCH(E54,B$6:B53,0)>0),\"\",E54)","v":""},{"$f":"MATCH(\"*X*\",INDIRECT(\"Results!l\"&4+D53&\":l$500\"),0)+D53","v":41},{"$f":"IF(ISERROR(OFFSET(Results!$B$3,D54,0)),\"\",OFFSET(Results!$B$3,D54,0))","v":111},{"$f":"IF(ISERROR(OFFSET(Results!$K$3,D54,0)),\"\",OFFSET(Results!$K$3,D54,0))","v":"Neil Oxley"},null,{"$f":"RaceTime(OFFSET(Results!$C$3,D54,0),OFFSET(Results!$C$3,D54,1),OFFSET(Results!$C$3,D54,2))","v":"0:33:15"},{"$f":"PROPER(club(OFFSET(Results!$C$3,D54,6)))","v":"Unattached"},{"$f":"IF(ISERROR(OFFSET(Results!$C$3,D54,5)),\"\",OFFSET(Results!$C$3,D54,5))","v":"MV65"},{"$f":"IF(ISERROR(OFFSET(Results!$C$3,D54,7)),\"\",OFFSET(Results!$C$3,D54,7))","v":""},null,"All V75+"]
["2nd",{"$f":"IF(LEFT(A55,1)*1<Entries!$Q$6+1,E55,\" \")","v":2},{"$f":"IF(ISERROR(MATCH(E55,B$6:B54,0)>0),\"\",E55)","v":""},{"$f":"MATCH(\"*X*\",INDIRECT(\"Results!l\"&4+D54&\":l$500\"),0)+D54","v":43},{"$f":"IF(ISERROR(OFFSET(Results!$B$3,D55,0)),\"\",OFFSET(Results!$B$3,D55,0))","v":2},{"$f":"IF(ISERROR(OFFSET(Results!$K$3,D55,0)),\"\",OFFSET(Results!$K$3,D55,0))","v":"Keith Holmes"},null,{"$f":"RaceTime(OFFSET(Results!$C$3,D55,0),OFFSET(Results!$C$3,D55,1),OFFSET(Results!$C$3,D55,2))","v":"0:33:18"},{"$f":"PROPER(club(OFFSET(Results!$C$3,D55,6)))","v":"Dark Peak"},{"$f":"IF(ISERROR(OFFSET(Results!$C$3,D55,5)),\"\",OFFSET(Results!$C$3,D55,5))","v":"MV60"},{"$f":"IF(ISERROR(OFFSET(Results!$C$3,D55,7)),\"\",OFFSET(Results!$C$3,D55,7))","v":""},null,"1st",{"$f":"IF(ISERROR(MATCH(P55,E$6:E93,0)),0,MATCH(P55,E$6:E93,0))","v":0},null,{"$error":"#N/A"},{"$f":"MATCH(\"*Y*\",INDIRECT(\"Results!L\"&4+Q54&\":L$500\"),0)+Q54","v":{"$error":"#N/A"}},{"$f":"OFFSET(Results!$K$3,Q55,0)","v":{"$error":"#N/A"}},{"$f":"RaceTime(OFFSET(Results!$C$3,Q55,0),OFFSET(Results!$C$3,Q55,1),OFFSET(Results!$C$3,Q55,2))","v":""},{"$f":"club(OFFSET(Results!$C$3,Q55,6))","v":""},{"$f":"OFFSET(Results!$C$3,Q55,5)","v":{"$error":"#N/A"}},{"$f":"OFFSET(Results!$C$3,Q55,7)","v":{"$error":"#N/A"}}]
["3rd",{"$f":"IF(LEFT(A56,1)*1<Entries!$Q$6+1,E56,\" \")","v":17},{"$f":"IF(ISERROR(MATCH(E56,B$6:B55,0)>0),\"\",E56)","v":""},52,{"$f":"IF(ISERROR(OFFSET(Results!$B$3,D56,0)),\"\",OFFSET(Results!$B$3,D56,0))","v":17},{"$f":"IF(ISERROR(OFFSET(Results!$K$3,D56,0)),\"\",OFFSET(Results!$K$3,D56,0))","v":"Graham Barnes"},null,{"$f":"RaceTime(OFFSET(Results!$C$3,D56,0),OFFSET(Results!$C$3,D56,1),OFFSET(Results!$C$3,D56,2))","v":"0:34:23"},{"$f":"PROPER(club(OFFSET(Results!$C$3,D56,6)))","v":"Unattached"},{"$f":"IF(ISERROR(OFFSET(Results!$C$3,D56,5)),\"\",OFFSET(Results!$C$3,D56,5))","v":"MV60"},{"$f":"IF(ISERROR(OFFSET(Results!$C$3,D56,7)),\"\",OFFSET(Results!$C$3,D56,7))","v":""},null,"2nd",{"$f":"IF(ISERROR(MATCH(P56,E$6:E94,0)),0,MATCH(P56,E$6:E94,0))","v":0},null,{"$error":"#N/A"},{"$f":"MATCH(\"*Y*\",INDIRECT(\"Results!L\"&4+Q55&\":L$500\"),0)+Q55","v":{"$error":"#N/A"}},{"$f":"OFFSET(Results!$K$3,Q56,0)","v":{"$error":"#N/A"}},{"$f":"RaceTime(OFFSET(Results!$C$3,Q56,0),OFFSET(Results!$C$3,Q56,1),OFFSET(Results!$C$3,Q56,2))","v":""},{"$f":"club(OFFSET(Results!$C$3,Q56,6))","v":""},{"$f":"OFFSET(Results!$C$3,Q56,5)","v":{"$error":"#N/A"}},{"$f":"OFFSET(Results!$C$3,Q56,7)","v":{"$error":"#N/A"}}]
["4th",{"$f":"IF(LEFT(A57,1)*1<Entries!$Q$6+1,E57,\" \")","v":" "},{"$f":"IF(ISERROR(MATCH(E57,B$6:B56,0)>0),\"\",E57)","v":""},55,{"$f":"IF(ISERROR(OFFSET(Results!$B$3,D57,0)),\"\",OFFSET(Results!$B$3,D57,0))","v":28},{"$f":"IF(ISERROR(OFFSET(Results!$K$3,D57,0)),\"\",OFFSET(Results!$K$3,D57,0))","v":"Neil Hindle"},null,{"$f":"RaceTime(OFFSET(Results!$C$3,D57,0),OFFSET(Results!$C$3,D57,1),OFFSET(Results!$C$3,D57,2))","v":"0:34:39"},{"$f":"PROPER(club(OFFSET(Results!$C$3,D57,6)))","v":"Fra"},{"$f":"IF(ISERROR(OFFSET(Results!$C$3,D57,5)),\"\",OFFSET(Results!$C$3,D57,5))","v":"MV60"},{"$f":"IF(ISERROR(OFFSET(Results!$C$3,D57,7)),\"\",OFFSET(Results!$C$3,D57,7))","v":""},null,"3rd",{"$f":"IF(ISERROR(MATCH(P57,E$6:E95,0)),0,MATCH(P57,E$6:E95,0))","v":0},null,{"$error":"#N/A"},{"$error":"#N/A"},{"$f":"OFFSET(Results!$K$3,Q57,0)","v":{"$error":"#N/A"}},{"$f":"RaceTime(OFFSET(Results!$C$3,Q57,0),OFFSET(Results!$C$3,Q57,1),OFFSET(Results!$C$3,Q57,2))","v":""},{"$f":"club(OFFSET(Results!$C$3,Q57,6))","v":""},{"$f":"OFFSET(Results!$C$3,Q57,5)","v":{"$error":"#N/A"}},{"$f":"OFFSET(Results!$C$3,Q57,7)","v":{"$error":"#N/A"}}]
["5th",{"$f":"IF(LEFT(A58,1)*1<Entries!$Q$6+1,E58,\" \")","v":" "},{"$f":"IF(ISERROR(MATCH(E58,B$6:B57,0)>0),\"\",E58)","v":""},79,{"$f":"IF(ISERROR(OFFSET(Results!$B$3,D58,0)),\"\",OFFSET(Results!$B$3,D58,0))","v":66},{"$f":"IF(ISERROR(OFFSET(Results!$K$3,D58,0)),\"\",OFFSET(Results!$K$3,D58,0))","v":"David Arundale"},null,{"$f":"RaceTime(OFFSET(Results!$C$3,D58,0),OFFSET(Results!$C$3,D58,1),OFFSET(Results!$C$3,D58,2))","v":"0:37:42"},{"$f":"PROPER(club(OFFSET(Results!$C$3,D58,6)))","v":"Dark Peak"},{"$f":"IF(ISERROR(OFFSET(Results!$C$3,D58,5)),\"\",OFFSET(Results!$C$3,D58,5))","v":"MV60"},{"$f":"IF(ISERROR(OFFSET(Results!$C$3,D58,7)),\"\",OFFSET(Results!$C$3,D58,7))","v":""},null,"4th",{"$f":"IF(ISERROR(MATCH(P58,E$6:E96,0)),0,MATCH(P58,E$6:E96,0))","v":0},null,{"$error":"#N/A"},{"$error":"#N/A"},{"$f":"OFFSET(Results!$K$3,Q58,0)","v":{"$error":"#N/A"}},{"$f":"RaceTime(OFFSET(Results!$C$3,Q58,0),OFFSET(Results!$C$3,Q58,1),OFFSET(Results!$C$3,Q58,2))","v":""},{"$f":"club(OFFSET(Results!$C$3,Q58,6))","v":""},{"$f":"OFFSET(Results!$C$3,Q58,5)","v":{"$error":"#N/A"}},{"$f":"OFFSET(Results!$C$3,Q58,7)","v":{"$error":"#N/A"}}]
["6th",{"$f":"IF(LEFT(A59,1)*1<Entries!$Q$6+1,E59,\" \")","v":" "},{"$f":"IF(ISERROR(MATCH(E59,B$6:B58,0)>0),\"\",E59)","v":34},84,{"$f":"IF(ISERROR(OFFSET(Results!$B$3,D59,0)),\"\",OFFSET(Results!$B$3,D59,0))","v":34},{"$f":"IF(ISERROR(OFFSET(Results!$K$3,D59,0)),\"\",OFFSET(Results!$K$3,D59,0))","v":"Yvonne Twelvetrees"},null,{"$f":"RaceTime(OFFSET(Results!$C$3,D59,0),OFFSET(Results!$C$3,D59,1),OFFSET(Results!$C$3,D59,2))","v":"0:38:41"},{"$f":"PROPER(club(OFFSET(Results!$C$3,D59,6)))","v":"Totley Ac"},{"$f":"IF(ISERROR(OFFSET(Results!$C$3,D59,5)),\"\",OFFSET(Results!$C$3,D59,5))","v":"FV60"},{"$f":"IF(ISERROR(OFFSET(Results!$C$3,D59,7)),\"\",OFFSET(Results!$C$3,D59,7))","v":""}]
[]
[null,null,null,null,"Race No.","Female V60+","This includes V70s",null,"If the participant has appeared in a higher category they have been grayed"]
["1st",{"$f":"IF(LEFT(A62,1)*1<Entries!$Q$6+1,E62,\" \")","v":34},{"$f":"IF(ISERROR(MATCH(E62,B$6:B61,0)>0),\"\",E62)","v":34},{"$f":"MATCH(\"F*X*\",INDIRECT(\"Results!l\"&4+D61&\":l$500\"),0)+D61","v":84},{"$f":"IF(ISERROR(OFFSET(Results!$B$3,D62,0)),\"\",OFFSET(Results!$B$3,D62,0))","v":34},{"$f":"IF(ISERROR(OFFSET(Results!$K$3,D62,0)),\"\",OFFSET(Results!$K$3,D62,0))","v":"Yvonne Twelvetrees"},null,{"$f":"RaceTime(OFFSET(Results!$C$3,D62,0),OFFSET(Results!$C$3,D62,1),OFFSET(Results!$C$3,D62,2))","v":"0:38:41"},{"$f":"PROPER(club(OFFSET(Results!$C$3,D62,6)))","v":"Totley Ac"},{"$f":"IF(ISERROR(OFFSET(Results!$C$3,D62,5)),\"\",OFFSET(Results!$C$3,D62,5))","v":"FV60"},{"$f":"IF(ISERROR(OFFSET(Results!$C$3,D62,7)),\"\",OFFSET(Results!$C$3,D62,7))","v":""}]
["2nd",{"$f":"IF(LEFT(A63,1)*1<Entries!$Q$6+1,E63,\" \")","v":23},{"$f":"IF(ISERROR(MATCH(E63,B$6:B62,0)>0),\"\",E63)","v":23},{"$f":"MATCH(\"F*X*\",INDIRECT(\"Results!l\"&4+D62&\":l$500\"),0)+D62","v":88},{"$f":"IF(ISERROR(OFFSET(Results!$B$3,D63,0)),\"\",OFFSET(Results!$B$3,D63,0))","v":23},{"$f":"IF(ISERROR(OFFSET(Results!$K$3,D63,0)),\"\",OFFSET(Results!$K$3,D63,0))","v":"Carol Beattie"},null,{"$f":"RaceTime(OFFSET(Results!$C$3,D63,0),OFFSET(Results!$C$3,D63,1),OFFSET(Results!$C$3,D63,2))","v":"0:39:41"},{"$f":"PROPER(club(OFFSET(Results!$C$3,D63,6)))","v":"Steel City Striders"},{"$f":"IF(ISERROR(OFFSET(Results!$C$3,D63,5)),\"\",OFFSET(Results!$C$3,D63,5))","v":"FV60"},{"$f":"IF(ISERROR(OFFSET(Results!$C$3,D63,7)),\"\",OFFSET(Results!$C$3,D63,7))","v":""}]
["3rd",{"$f":"IF(LEFT(A64,1)*1<Entries!$Q$6+1,E64,\" \")","v":""},{"$f":"IF(ISERROR(MATCH(E64,B$6:B63,0)>0),\"\",E64)","v":""},{"$error":"#N/A"},{"$f":"IF(ISERROR(OFFSET(Results!$B$3,D64,0)),\"\",OFFSET(Results!$B$3,D64,0))","v":""},{"$f":"IF(ISERROR(OFFSET(Results!$K$3,D64,0)),\"\",OFFSET(Results!$K$3,D64,0))","v":""},null,{"$f":"RaceTime(OFFSET(Results!$C$3,D64,0),OFFSET(Results!$C$3,D64,1),OFFSET(Results!$C$3,D64,2))","v":""},{"$f":"PROPER(club(OFFSET(Results!$C$3,D64,6)))","v":""},{"$f":"IF(ISERROR(OFFSET(Results!$C$3,D64,5)),\"\",OFFSET(Results!$C$3,D64,5))","v":""},{"$f":"IF(ISERROR(OFFSET(Results!$C$3,D64,7)),\"\",OFFSET(Results!$C$3,D64,7))","v":""}]
["4th",{"$f":"IF(LEFT(A65,1)*1<Entries!$Q$6+1,E65,\" \")","v":" "},{"$f":"IF(ISERROR(MATCH(E65,B$6:B64,0)>0),\"\",E65)","v":""},{"$error":"#N/A"},{"$f":"IF(ISERROR(OFFSET(Results!$B$3,D65,0)),\"\",OFFSET(Results!$B$3,D65,0))","v":""},{"$f":"IF(ISERROR(OFFSET(Results!$K$3,D65,0)),\"\",OFFSET(Results!$K$3,D65,0))","v":""},null,{"$f":"RaceTime(OFFSET(Results!$C$3,D65,0),OFFSET(Results!$C$3,D65,1),OFFSET(Results!$C$3,D65,2))","v":""},{"$f":"PROPER(club(OFFSET(Results!$C$3,D65,6)))","v":""},{"$f":"IF(ISERROR(OFFSET(Results!$C$3,D65,5)),\"\",OFFSET(Results!$C$3,D65,5))","v":""},{"$f":"IF(ISERROR(OFFSET(Results!$C$3,D65,7)),\"\",OFFSET(Results!$C$3,D65,7))","v":""}]
["5th",{"$f":"IF(LEFT(A66,1)*1<Entries!$Q$6+1,E66,\" \")","v":" "},{"$f":"IF(ISERROR(MATCH(E66,B$6:B65,0)>0),\"\",E66)","v":""},{"$error":"#N/A"},{"$f":"IF(ISERROR(OFFSET(Results!$B$3,D66,0)),\"\",OFFSET(Results!$B$3,D66,0))","v":""},{"$f":"IF(ISERROR(OFFSET(Results!$K$3,D66,0)),\"\",OFFSET(Results!$K$3,D66,0))","v":""},null,{"$f":"RaceTime(OFFSET(Results!$C$3,D66,0),OFFSET(Results!$C$3,D66,1),OFFSET(Results!$C$3,D66,2))","v":""},{"$f":"PROPER(club(OFFSET(Results!$C$3,D66,6)))","v":""},{"$f":"IF(ISERROR(OFFSET(Results!$C$3,D66,5)),\"\",OFFSET(Results!$C$3,D66,5))","v":""},{"$f":"IF(ISERROR(OFFSET(Results!$C$3,D66,7)),\"\",OFFSET(Results!$C$3,D66,7))","v":""}]
["6th",{"$f":"IF(LEFT(A67,1)*1<Entries!$Q$6+1,E67,\" \")","v":" "},{"$f":"IF(ISERROR(MATCH(E67,B$6:B66,0)>0),\"\",E67)","v":""},{"$error":"#N/A"},{"$f":"IF(ISERROR(OFFSET(Results!$B$3,D67,0)),\"\",OFFSET(Results!$B$3,D67,0))","v":""},{"$f":"IF(ISERROR(OFFSET(Results!$K$3,D67,0)),\"\",OFFSET(Results!$K$3,D67,0))","v":""},null,{"$f":"RaceTime(OFFSET(Results!$C$3,D67,0),OFFSET(Results!$C$3,D67,1),OFFSET(Results!$C$3,D67,2))","v":""},{"$f":"PROPER(club(OFFSET(Results!$C$3,D67,6)))","v":""},{"$f":"IF(ISERROR(OFFSET(Results!$C$3,D67,5)),\"\",OFFSET(Results!$C$3,D67,5))","v":""},{"$f":"IF(ISERROR(OFFSET(Results!$C$3,D67,7)),\"\",OFFSET(Results!$C$3,D67,7))","v":""}]
[]
[null,null,null,null,"Race No."]
["1st",{"$f":"IF(LEFT(A70,1)*1<Entries!$Q$6+1,E70,\" \")","v":""},{"$f":"IF(ISERROR(MATCH(E70,B$6:B69,0)>0),\"\",E70)","v":""},{"$f":"MATCH(\"*V7*\",INDIRECT(\"Results!h\"&4+D69&\":h$500\"),0)+D69","v":{"$error":"#N/A"}},{"$f":"IF(ISERROR(OFFSET(Results!$B$3,D70,0)),\"\",OFFSET(Results!$B$3,D70,0))","v":""},{"$f":"IF(ISERROR(OFFSET(Results!$K$3,D70,0)),\"\",OFFSET(Results!$K$3,D70,0))","v":""},null,{"$f":"RaceTime(OFFSET(Results!$C$3,D70,0),OFFSET(Results!$C$3,D70,1),OFFSET(Results!$C$3,D70,2))","v":""},{"$f":"PROPER(club(OFFSET(Results!$C$3,D70,6)))","v":""},{"$f":"IF(ISERROR(OFFSET(Results!$C$3,D70,5)),\"\",OFFSET(Results!$C$3,D70,5))","v":""},{"$f":"IF(ISERROR(OFFSET(Results!$C$3,D70,7)),\"\",OFFSET(Results!$C$3,D70,7))","v":""}]
["2nd",{"$f":"IF(LEFT(A71,1)*1<Entries!$Q$6+1,E71,\" \")","v":""},{"$f":"IF(ISERROR(MATCH(E71,B$6:B70,0)>0),\"\",E71)","v":""},{"$f":"MATCH(\"*V7*\",INDIRECT(\"Results!h\"&4+D70&\":h$500\"),0)+D70","v":{"$error":"#N/A"}},{"$f":"IF(ISERROR(OFFSET(Results!$B$3,D71,0)),\"\",OFFSET(Results!$B$3,D71,0))","v":""},{"$f":"IF(ISERROR(OFFSET(Results!$K$3,D71,0)),\"\",OFFSET(Results!$K$3,D71,0))","v":""},null,{"$f":"RaceTime(OFFSET(Results!$C$3,D71,0),OFFSET(Results!$C$3,D71,1),OFFSET(Results!$C$3,D71,2))","v":""},{"$f":"PROPER(club(OFFSET(Results!$C$3,D71,6)))","v":""},{"$f":"IF(ISERROR(OFFSET(Results!$C$3,D71,5)),\"\",OFFSET(Results!$C$3,D71,5))","v":""},{"$f":"IF(ISERROR(OFFSET(Results!$C$3,D71,7)),\"\",OFFSET(Results!$C$3,D71,7))","v":""}]
["3rd",{"$f":"IF(LEFT(A72,1)*1<Entries!$Q$6+1,E72,\" \")","v":""},{"$f":"IF(ISERROR(MATCH(E72,B$6:B71,0)>0),\"\",E72)","v":""},{"$error":"#N/A"},{"$f":"IF(ISERROR(OFFSET(Results!$B$3,D72,0)),\"\",OFFSET(Results!$B$3,D72,0))","v":""},{"$f":"IF(ISERROR(OFFSET(Results!$K$3,D72,0)),\"\",OFFSET(Results!$K$3,D72,0))","v":""},null,{"$f":"RaceTime(OFFSET(Results!$C$3,D72,0),OFFSET(Results!$C$3,D72,1),OFFSET(Results!$C$3,D72,2))","v":""},{"$f":"PROPER(club(OFFSET(Results!$C$3,D72,6)))","v":""},{"$f":"IF(ISERROR(OFFSET(Results!$C$3,D72,5)),\"\",OFFSET(Results!$C$3,D72,5))","v":""},{"$f":"IF(ISERROR(OFFSET(Results!$C$3,D72,7)),\"\",OFFSET(Results!$C$3,D72,7))","v":""}]
["4th",{"$f":"IF(LEFT(A73,1)*1<Entries!$Q$6+1,E73,\" \")","v":" "},{"$f":"IF(ISERROR(MATCH(E73,B$6:B72,0)>0),\"\",E73)","v":""},{"$error":"#N/A"},{"$f":"IF(ISERROR(OFFSET(Results!$B$3,D73,0)),\"\",OFFSET(Results!$B$3,D73,0))","v":""},{"$f":"IF(ISERROR(OFFSET(Results!$K$3,D73,0)),\"\",OFFSET(Results!$K$3,D73,0))","v":""},null,{"$f":"RaceTime(OFFSET(Results!$C$3,D73,0),OFFSET(Results!$C$3,D73,1),OFFSET(Results!$C$3,D73,2))","v":""},{"$f":"PROPER(club(OFFSET(Results!$C$3,D73,6)))","v":""},{"$f":"IF(ISERROR(OFFSET(Results!$C$3,D73,5)),\"\",OFFSET(Results!$C$3,D73,5))","v":""},{"$f":"IF(ISERROR(OFFSET(Results!$C$3,D73,7)),\"\",OFFSET(Results!$C$3,D73,7))","v":""}]
["5th",{"$f":"IF(LEFT(A74,1)*1<Entries!$Q$6+1,E74,\" \")","v":" "},{"$f":"IF(ISERROR(MATCH(E74,B$6:B73,0)>0),\"\",E74)","v":""},{"$error":"#N/A"},{"$f":"IF(ISERROR(OFFSET(Results!$B$3,D74,0)),\"\",OFFSET(Results!$B$3,D74,0))","v":""},{"$f":"IF(ISERROR(OFFSET(Results!$K$3,D74,0)),\"\",OFFSET(Results!$K$3,D74,0))","v":""},null,{"$f":"RaceTime(OFFSET(Results!$C$3,D74,0),OFFSET(Results!$C$3,D74,1),OFFSET(Results!$C$3,D74,2))","v":""},{"$f":"PROPER(club(OFFSET(Results!$C$3,D74,6)))","v":""},{"$f":"IF(ISERROR(OFFSET(Results!$C$3,D74,5)),\"\",OFFSET(Results!$C$3,D74,5))","v":""},{"$f":"IF(ISERROR(OFFSET(Results!$C$3,D74,7)),\"\",OFFSET(Results!$C$3,D74,7))","v":""}]
["6th",{"$f":"IF(LEFT(A75,1)*1<Entries!$Q$6+1,E75,\" \")","v":" "},{"$f":"IF(ISERROR(MATCH(E75,B$6:B74,0)>0),\"\",E75)","v":""},{"$error":"#N/A"},{"$f":"IF(ISERROR(OFFSET(Results!$B$3,D75,0)),\"\",OFFSET(Results!$B$3,D75,0))","v":""},{"$f":"IF(ISERROR(OFFSET(Results!$K$3,D75,0)),\"\",OFFSET(Results!$K$3,D75,0))","v":""},null,{"$f":"RaceTime(OFFSET(Results!$C$3,D75,0),OFFSET(Results!$C$3,D75,1),OFFSET(Results!$C$3,D75,2))","v":""},{"$f":"PROPER(club(OFFSET(Results!$C$3,D75,6)))","v":""},{"$f":"IF(ISERROR(OFFSET(Results!$C$3,D75,5)),\"\",OFFSET(Results!$C$3,D75,5))","v":""},{"$f":"IF(ISERROR(OFFSET(Results!$C$3,D75,7)),\"\",OFFSET(Results!$C$3,D75,7))","v":""}]
[]
[null," ",{"$f":"IF(ISERROR(MATCH(#REF!,B$6:B76,0)>0),\"\",#REF!)","v":""},null,{"$f":"\"Special Category:- \"&Entries!R13","v":"Special Category:- Nottingham FRC"}]
[null," ",{"$f":"IF(ISERROR(MATCH(#REF!,B$6:B77,0)>0),\"\",#REF!)","v":""},"Race Position","Race No.","Name",null,"Time","Club","Category","Special Category"]
[null," ",{"$f":"IF(ISERROR(MATCH(E77,B$6:B78,0)>0),\"\",E77)","v":""}]
["1st",{"$f":"IF(LEFT(A80,1)*1<Entries!$Q$13+1,E80,\" \")","v":""},{"$f":"IF(ISERROR(MATCH(E80,B$6:B79,0)>0),\"\",E80)","v":""},{"$f":"MATCH(\"*\"&Entries!P$13&\"*\",INDIRECT(\"Results!j\"&4+D79&\":j$500\"),0)+D79","v":{"$error":"#N/A"}},{"$f":"IF(ISERROR(OFFSET(Results!$B$3,D80,0)),\"\",OFFSET(Results!$B$3,D80,0))","v":""},{"$f":"IF(ISERROR(OFFSET(Results!$K$3,D80,0)),\"\",OFFSET(Results!$K$3,D80,0))","v":""},null,{"$f":"RaceTime(OFFSET(Results!$C$3,D80,0),OFFSET(Results!$C$3,D80,1),OFFSET(Results!$C$3,D80,2))","v":""},{"$f":"PROPER(club(OFFSET(Results!$C$3,D80,6)))","v":""},{"$f":"IF(ISERROR(OFFSET(Results!$C$3,D80,5)),\"\",OFFSET(Results!$C$3,D80,5))","v":""},{"$f":"IF(ISERROR(OFFSET(Results!$C$3,D80,7)),\"\",OFFSET(Results!$C$3,D80,7))","v":""}]
["2nd",{"$f":"IF(LEFT(A81,1)*1<Entries!$Q$13+1,E81,\" \")","v":""},{"$f":"IF(ISERROR(MATCH(E81,B$6:B80,0)>0),\"\",E81)","v":""},{"$f":"MATCH(\"*\"&Entries!P$13&\"*\",INDIRECT(\"Results!j\"&4+D80&\":j$500\"),0)+D80","v":{"$error":"#N/A"}},{"$f":"IF(ISERROR(OFFSET(Results!$B$3,D81,0)),\"\",OFFSET(Results!$B$3,D81,0))","v":""},{"$f":"IF(ISERROR(OFFSET(Results!$K$3,D81,0)),\"\",OFFSET(Results!$K$3,D81,0))","v":""},null,{"$f":"RaceTime(OFFSET(Results!$C$3,D81,0),OFFSET(Results!$C$3,D81,1),OFFSET(Results!$C$3,D81,2))","v":""},{"$f":"PROPER(club(OFFSET(Results!$C$3,D81,6)))","v":""},{"$f":"IF(ISERROR(OFFSET(Results!$C$3,D81,5)),\"\",OFFSET(Results!$C$3,D81,5))","v":""},{"$f":"IF(ISERROR(OFFSET(Results!$C$3,D81,7)),\"\",OFFSET(Results!$C$3,D81,7))","v":""}]
["3rd",{"$f":"IF(LEFT(A82,1)*1<Entries!$Q$13+1,E82,\" \")","v":""},{"$f":"IF(ISERROR(MATCH(E82,B$6:B81,0)>0),\"\",E82)","v":""},{"$f":"MATCH(\"*\"&Entries!P$13&\"*\",INDIRECT(\"Results!j\"&4+D81&\":j$500\"),0)+D81","v":{"$error":"#N/A"}},{"$f":"IF(ISERROR(OFFSET(Results!$B$3,D82,0)),\"\",OFFSET(Results!$B$3,D82,0))","v":""},{"$f":"IF(ISERROR(OFFSET(Results!$K$3,D82,0)),\"\",OFFSET(Results!$K$3,D82,0))","v":""},null,{"$f":"RaceTime(OFFSET(Results!$C$3,D82,0),OFFSET(Results!$C$3,D82,1),OFFSET(Results!$C$3,D82,2))","v":""},{"$f":"PROPER(club(OFFSET(Results!$C$3,D82,6)))","v":""},{"$f":"IF(ISERROR(OFFSET(Results!$C$3,D82,5)),\"\",OFFSET(Results!$C$3,D82,5))","v":""},{"$f":"IF(ISERROR(OFFSET(Results!$C$3,D82,7)),\"\",OFFSET(Results!$C$3,D82,7))","v":""}]
["4th",{"$f":"IF(LEFT(A83,1)*1<Entries!$Q$13+1,E83,\" \")","v":" "},{"$f":"IF(ISERROR(MATCH(E83,B$6:B82,0)>0),\"\",E83)","v":""},{"$f":"MATCH(\"*\"&Entries!P$13&\"*\",INDIRECT(\"Results!j\"&4+D82&\":j$500\"),0)+D82","v":{"$error":"#N/A"}},{"$f":"IF(ISERROR(OFFSET(Results!$B$3,D83,0)),\"\",OFFSET(Results!$B$3,D83,0))","v":""},{"$f":"IF(ISERROR(OFFSET(Results!$K$3,D83,0)),\"\",OFFSET(Results!$K$3,D83,0))","v":""},null,{"$f":"RaceTime(OFFSET(Results!$C$3,D83,0),OFFSET(Results!$C$3,D83,1),OFFSET(Results!$C$3,D83,2))","v":""},{"$f":"PROPER(club(OFFSET(Results!$C$3,D83,6)))","v":""},{"$f":"IF(ISERROR(OFFSET(Results!$C$3,D83,5)),\"\",OFFSET(Results!$C$3,D83,5))","v":""},{"$f":"IF(ISERROR(OFFSET(Results!$C$3,D83,7)),\"\",OFFSET(Results!$C$3,D83,7))","v":""}]
["5th",{"$f":"IF(LEFT(A84,1)*1<Entries!$Q$13+1,E84,\" \")","v":" "},{"$f":"IF(ISERROR(MATCH(E84,B$6:B83,0)>0),\"\",E84)","v":""},{"$f":"MATCH(\"*\"&Entries!P$13&\"*\",INDIRECT(\"Results!j\"&4+D83&\":j$500\"),0)+D83","v":{"$error":"#N/A"}},{"$f":"IF(ISERROR(OFFSET(Results!$B$3,D84,0)),\"\",OFFSET(Results!$B$3,D84,0))","v":""},{"$f":"IF(ISERROR(OFFSET(Results!$K$3,D84,0)),\"\",OFFSET(Results!$K$3,D84,0))","v":""},null,{"$f":"RaceTime(OFFSET(Results!$C$3,D84,0),OFFSET(Results!$C$3,D84,1),OFFSET(Results!$C$3,D84,2))","v":""},{"$f":"PROPER(club(OFFSET(Results!$C$3,D84,6)))","v":""},{"$f":"IF(ISERROR(OFFSET(Results!$C$3,D84,5)),\"\",OFFSET(Results!$C$3,D84,5))","v":""},{"$f":"IF(ISERROR(OFFSET(Results!$C$3,D84,7)),\"\",OFFSET(Results!$C$3,D84,7))","v":""}]
["6th",{"$f":"IF(LEFT(A85,1)*1<Entries!$Q$13+1,E85,\" \")","v":" "},{"$f":"IF(ISERROR(MATCH(E85,B$6:B84,0)>0),\"\",E85)","v":""},{"$f":"MATCH(\"*\"&Entries!P$13&\"*\",INDIRECT(\"Results!j\"&4+D84&\":j$500\"),0)+D84","v":{"$error":"#N/A"}},{"$f":"IF(ISERROR(OFFSET(Results!$B$3,D85,0)),\"\",OFFSET(Results!$B$3,D85,0))","v":""},{"$f":"IF(ISERROR(OFFSET(Results!$K$3,D85,0)),\"\",OFFSET(Results!$K$3,D85,0))","v":""},null,{"$f":"RaceTime(OFFSET(Results!$C$3,D85,0),OFFSET(Results!$C$3,D85,1),OFFSET(Results!$C$3,D85,2))","v":""},{"$f":"PROPER(club(OFFSET(Results!$C$3,D85,6)))","v":""},{"$f":"IF(ISERROR(OFFSET(Results!$C$3,D85,5)),\"\",OFFSET(Results!$C$3,D85,5))","v":""},{"$f":"IF(ISERROR(OFFSET(Results!$C$3,D85,7)),\"\",OFFSET(Results!$C$3,D85,7))","v":""}]
["7th",{"$f":"IF(LEFT(A86,1)*1<Entries!$Q$13+1,E86,\" \")","v":" "},{"$f":"IF(ISERROR(MATCH(E86,B$6:B85,0)>0),\"\",E86)","v":""},{"$f":"MATCH(\"*\"&Entries!P$13&\"*\",INDIRECT(\"Results!j\"&4+D85&\":j$500\"),0)+D85","v":{"$error":"#N/A"}},{"$f":"IF(ISERROR(OFFSET(Results!$B$3,D86,0)),\"\",OFFSET(Results!$B$3,D86,0))","v":""},{"$f":"IF(ISERROR(OFFSET(Results!$K$3,D86,0)),\"\",OFFSET(Results!$K$3,D86,0))","v":""},null,{"$f":"RaceTime(OFFSET(Results!$C$3,D86,0),OFFSET(Results!$C$3,D86,1),OFFSET(Results!$C$3,D86,2))","v":""},{"$f":"PROPER(club(OFFSET(Results!$C$3,D86,6)))","v":""},{"$f":"IF(ISERROR(OFFSET(Results!$C$3,D86,5)),\"\",OFFSET(Results!$C$3,D86,5))","v":""},{"$f":"IF(ISERROR(OFFSET(Results!$C$3,D86,7)),\"\",OFFSET(Results!$C$3,D86,7))","v":""}]
["8th",{"$f":"IF(LEFT(A87,1)*1<Entries!$Q$13+1,E87,\" \")","v":" "},{"$f":"IF(ISERROR(MATCH(E87,B$6:B86,0)>0),\"\",E87)","v":""},{"$f":"MATCH(\"*\"&Entries!P$13&\"*\",INDIRECT(\"Results!j\"&4+D86&\":j$500\"),0)+D86","v":{"$error":"#N/A"}},{"$f":"IF(ISERROR(OFFSET(Results!$B$3,D87,0)),\"\",OFFSET(Results!$B$3,D87,0))","v":""},{"$f":"IF(ISERROR(OFFSET(Results!$K$3,D87,0)),\"\",OFFSET(Results!$K$3,D87,0))","v":""},null,{"$f":"RaceTime(OFFSET(Results!$C$3,D87,0),OFFSET(Results!$C$3,D87,1),OFFSET(Results!$C$3,D87,2))","v":""},{"$f":"PROPER(club(OFFSET(Results!$C$3,D87,6)))","v":""},{"$f":"IF(ISERROR(OFFSET(Results!$C$3,D87,5)),\"\",OFFSET(Results!$C$3,D87,5))","v":""},{"$f":"IF(ISERROR(OFFSET(Results!$C$3,D87,7)),\"\",OFFSET(Results!$C$3,D87,7))","v":""}]
["9th",{"$f":"IF(LEFT(A88,1)*1<Entries!$Q$13+1,E88,\" \")","v":" "},{"$f":"IF(ISERROR(MATCH(E88,B$6:B87,0)>0),\"\",E88)","v":""},{"$f":"MATCH(\"*\"&Entries!P$13&\"*\",INDIRECT(\"Results!j\"&4+D87&\":j$500\"),0)+D87","v":{"$error":"#N/A"}},{"$f":"IF(ISERROR(OFFSET(Results!$B$3,D88,0)),\"\",OFFSET(Results!$B$3,D88,0))","v":""},{"$f":"IF(ISERROR(OFFSET(Results!$K$3,D88,0)),\"\",OFFSET(Results!$K$3,D88,0))","v":""},null,{"$f":"RaceTime(OFFSET(Results!$C$3,D88,0),OFFSET(Results!$C$3,D88,1),OFFSET(Results!$C$3,D88,2))","v":""},{"$f":"PROPER(club(OFFSET(Results!$C$3,D88,6)))","v":""},{"$f":"IF(ISERROR(OFFSET(Results!$C$3,D88,5)),\"\",OFFSET(Results!$C$3,D88,5))","v":""},{"$f":"IF(ISERROR(OFFSET(Results!$C$3,D88,7)),\"\",OFFSET(Results!$C$3,D88,7))","v":""}]
["10th",{"$f":"IF(LEFT(A89,1)*1<Entries!$Q$13+1,E89,\" \")","v":""},{"$f":"IF(ISERROR(MATCH(E89,B$6:B88,0)>0),\"\",E89)","v":""},{"$f":"MATCH(\"*\"&Entries!P$13&\"*\",INDIRECT(\"Results!j\"&4+D88&\":j$500\"),0)+D88","v":{"$error":"#N/A"}},{"$f":"IF(ISERROR(OFFSET(Results!$B$3,D89,0)),\"\",OFFSET(Results!$B$3,D89,0))","v":""},{"$f":"IF(ISERROR(OFFSET(Results!$K$3,D89,0)),\"\",OFFSET(Results!$K$3,D89,0))","v":""},null,{"$f":"RaceTime(OFFSET(Results!$C$3,D89,0),OFFSET(Results!$C$3,D89,1),OFFSET(Results!$C$3,D89,2))","v":""},{"$f":"PROPER(club(OFFSET(Results!$C$3,D89,6)))","v":""},{"$f":"IF(ISERROR(OFFSET(Results!$C$3,D89,5)),\"\",OFFSET(Results!$C$3,D89,5))","v":""},{"$f":"IF(ISERROR(OFFSET(Results!$C$3,D89,7)),\"\",OFFSET(Results!$C$3,D89,7))","v":""}]
["11th",{"$f":"IF(LEFT(A90,1)*1<Entries!$Q$13+1,E90,\" \")","v":""},{"$f":"IF(ISERROR(MATCH(E90,B$6:B89,0)>0),\"\",E90)","v":""},{"$f":"MATCH(\"*\"&Entries!P$13&\"*\",INDIRECT(\"Results!j\"&4+D89&\":j$500\"),0)+D89","v":{"$error":"#N/A"}},{"$f":"IF(ISERROR(OFFSET(Results!$B$3,D90,0)),\"\",OFFSET(Results!$B$3,D90,0))","v":""},{"$f":"IF(ISERROR(OFFSET(Results!$K$3,D90,0)),\"\",OFFSET(Results!$K$3,D90,0))","v":""},null,{"$f":"RaceTime(OFFSET(Results!$C$3,D90,0),OFFSET(Results!$C$3,D90,1),OFFSET(Results!$C$3,D90,2))","v":""},{"$f":"PROPER(club(OFFSET(Results!$C$3,D90,6)))","v":""},{"$f":"IF(ISERROR(OFFSET(Results!$C$3,D90,5)),\"\",OFFSET(Results!$C$3,D90,5))","v":""},{"$f":"IF(ISERROR(OFFSET(Results!$C$3,D90,7)),\"\",OFFSET(Results!$C$3,D90,7))","v":""}]
["12th",{"$f":"IF(LEFT(A91,1)*1<Entries!$Q$13+1,E91,\" \")","v":""},{"$f":"IF(ISERROR(MATCH(E91,B$6:B90,0)>0),\"\",E91)","v":""},{"$f":"MATCH(\"*\"&Entries!P$13&\"*\",INDIRECT(\"Results!j\"&4+D90&\":j$500\"),0)+D90","v":{"$error":"#N/A"}},{"$f":"IF(ISERROR(OFFSET(Results!$B$3,D91,0)),\"\",OFFSET(Results!$B$3,D91,0))","v":""},{"$f":"IF(ISERROR(OFFSET(Results!$K$3,D91,0)),\"\",OFFSET(Results!$K$3,D91,0))","v":""},null,{"$f":"RaceTime(OFFSET(Results!$C$3,D91,0),OFFSET(Results!$C$3,D91,1),OFFSET(Results!$C$3,D91,2))","v":""},{"$f":"PROPER(club(OFFSET(Results!$C$3,D91,6)))","v":""},{"$f":"IF(ISERROR(OFFSET(Results!$C$3,D91,5)),\"\",OFFSET(Results!$C$3,D91,5))","v":""},{"$f":"IF(ISERROR(OFFSET(Results!$C$3,D91,7)),\"\",OFFSET(Results!$C$3,D91,7))","v":""}]
["13th",{"$f":"IF(LEFT(A92,1)*1<Entries!$Q$13+1,E92,\" \")","v":""},{"$f":"IF(ISERROR(MATCH(E92,B$6:B91,0)>0),\"\",E92)","v":""},{"$f":"MATCH(\"*\"&Entries!P$13&\"*\",INDIRECT(\"Results!j\"&4+D91&\":j$500\"),0)+D91","v":{"$error":"#N/A"}},{"$f":"IF(ISERROR(OFFSET(Results!$B$3,D92,0)),\"\",OFFSET(Results!$B$3,D92,0))","v":""},{"$f":"IF(ISERROR(OFFSET(Results!$K$3,D92,0)),\"\",OFFSET(Results!$K$3,D92,0))","v":""},null,{"$f":"RaceTime(OFFSET(Results!$C$3,D92,0),OFFSET(Results!$C$3,D92,1),OFFSET(Results!$C$3,D92,2))","v":""},{"$f":"PROPER(club(OFFSET(Results!$C$3,D92,6)))","v":""},{"$f":"IF(ISERROR(OFFSET(Results!$C$3,D92,5)),\"\",OFFSET(Results!$C$3,D92,5))","v":""},{"$f":"IF(ISERROR(OFFSET(Results!$C$3,D92,7)),\"\",OFFSET(Results!$C$3,D92,7))","v":""}]
["14th",{"$f":"IF(LEFT(A93,1)*1<Entries!$Q$13+1,E93,\" \")","v":""},{"$f":"IF(ISERROR(MATCH(E93,B$6:B92,0)>0),\"\",E93)","v":""},{"$f":"MATCH(\"*\"&Entries!P$13&\"*\",INDIRECT(\"Results!j\"&4+D92&\":j$500\"),0)+D92","v":{"$error":"#N/A"}},{"$f":"IF(ISERROR(OFFSET(Results!$B$3,D93,0)),\"\",OFFSET(Results!$B$3,D93,0))","v":""},{"$f":"IF(ISERROR(OFFSET(Results!$K$3,D93,0)),\"\",OFFSET(Results!$K$3,D93,0))","v":""},null,{"$f":"RaceTime(OFFSET(Results!$C$3,D93,0),OFFSET(Results!$C$3,D93,1),OFFSET(Results!$C$3,D93,2))","v":""},{"$f":"PROPER(club(OFFSET(Results!$C$3,D93,6)))","v":""},{"$f":"IF(ISERROR(OFFSET(Results!$C$3,D93,5)),\"\",OFFSET(Results!$C$3,D93,5))","v":""},{"$f":"IF(ISERROR(OFFSET(Results!$C$3,D93,7)),\"\",OFFSET(Results!$C$3,D93,7))","v":""}]
["15th",{"$f":"IF(LEFT(A94,1)*1<Entries!$Q$13+1,E94,\" \")","v":""},{"$f":"IF(ISERROR(MATCH(E94,B$6:B93,0)>0),\"\",E94)","v":""},{"$f":"MATCH(\"*\"&Entries!P$13&\"*\",INDIRECT(\"Results!j\"&4+D93&\":j$500\"),0)+D93","v":{"$error":"#N/A"}},{"$f":"IF(ISERROR(OFFSET(Results!$B$3,D94,0)),\"\",OFFSET(Results!$B$3,D94,0))","v":""},{"$f":"IF(ISERROR(OFFSET(Results!$K$3,D94,0)),\"\",OFFSET(Results!$K$3,D94,0))","v":""},null,{"$f":"RaceTime(OFFSET(Results!$C$3,D94,0),OFFSET(Results!$C$3,D94,1),OFFSET(Results!$C$3,D94,2))","v":""},{"$f":"PROPER(club(OFFSET(Results!$C$3,D94,6)))","v":""},{"$f":"IF(ISERROR(OFFSET(Results!$C$3,D94,5)),\"\",OFFSET(Results!$C$3,D94,5))","v":""},{"$f":"IF(ISERROR(OFFSET(Results!$C$3,D94,7)),\"\",OFFSET(Results!$C$3,D94,7))","v":""}]
[]
[null,null,null,null,{"$f":"\"Female \"&E77","v":"Female Special Category:- Nottingham FRC"},null,null,null,null,null,{"$f":"IF(ISERROR(OFFSET(Results!$C$3,E96,7)),\"\",OFFSET(Results!$C$3,E96,7))","v":""}]
["1st",{"$f":"IF(LEFT(A97,1)*1<Entries!$Q$13+1,E97,\" \")","v":""},{"$f":"IF(ISERROR(MATCH(E97,B$6:B96,0)>0),\"\",E97)","v":""},{"$f":"MATCH(\"F*\"&Entries!P$13&\"*\",INDIRECT(\"Results!j\"&4+D96&\":j$500\"),0)+D96","v":{"$error":"#N/A"}},{"$f":"IF(ISERROR(OFFSET(Results!$B$3,D97,0)),\"\",OFFSET(Results!$B$3,D97,0))","v":""},{"$f":"IF(ISERROR(OFFSET(Results!$K$3,D97,0)),\"\",OFFSET(Results!$K$3,D97,0))","v":""},null,{"$f":"RaceTime(OFFSET(Results!$C$3,D97,0),OFFSET(Results!$C$3,D97,1),OFFSET(Results!$C$3,D97,2))","v":""},{"$f":"PROPER(club(OFFSET(Results!$C$3,D97,6)))","v":""},{"$f":"IF(ISERROR(OFFSET(Results!$C$3,D97,5)),\"\",OFFSET(Results!$C$3,D97,5))","v":""},{"$f":"IF(ISERROR(OFFSET(Results!$C$3,D97,7)),\"\",OFFSET(Results!$C$3,D97,7))","v":""}]
["2nd",{"$f":"IF(LEFT(A98,1)*1<Entries!$Q$13+1,E98,\" \")","v":""},{"$f":"IF(ISERROR(MATCH(E98,B$6:B97,0)>0),\"\",E98)","v":""},{"$f":"MATCH(\"F*\"&Entries!P$13&\"*\",INDIRECT(\"Results!j\"&4+D97&\":j$500\"),0)+D97","v":{"$error":"#N/A"}},{"$f":"IF(ISERROR(OFFSET(Results!$B$3,D98,0)),\"\",OFFSET(Results!$B$3,D98,0))","v":""},{"$f":"IF(ISERROR(OFFSET(Results!$K$3,D98,0)),\"\",OFFSET(Results!$K$3,D98,0))","v":""},null,{"$f":"RaceTime(OFFSET(Results!$C$3,D98,0),OFFSET(Results!$C$3,D98,1),OFFSET(Results!$C$3,D98,2))","v":""},{"$f":"PROPER(club(OFFSET(Results!$C$3,D98,6)))","v":""},{"$f":"IF(ISERROR(OFFSET(Results!$C$3,D98,5)),\"\",OFFSET(Results!$C$3,D98,5))","v":""},{"$f":"IF(ISERROR(OFFSET(Results!$C$3,D98,7)),\"\",OFFSET(Results!$C$3,D98,7))","v":""}]
["3rd",{"$f":"IF(LEFT(A99,1)*1<Entries!$Q$13+1,E99,\" \")","v":""},{"$f":"IF(ISERROR(MATCH(E99,B$6:B98,0)>0),\"\",E99)","v":""},{"$f":"MATCH(\"F*\"&Entries!P$13&\"*\",INDIRECT(\"Results!j\"&4+D98&\":j$500\"),0)+D98","v":{"$error":"#N/A"}},{"$f":"IF(ISERROR(OFFSET(Results!$B$3,D99,0)),\"\",OFFSET(Results!$B$3,D99,0))","v":""},{"$f":"IF(ISERROR(OFFSET(Results!$K$3,D99,0)),\"\",OFFSET(Results!$K$3,D99,0))","v":""},null,{"$f":"RaceTime(OFFSET(Results!$C$3,D99,0),OFFSET(Results!$C$3,D99,1),OFFSET(Results!$C$3,D99,2))","v":""},{"$f":"PROPER(club(OFFSET(Results!$C$3,D99,6)))","v":""},{"$f":"IF(ISERROR(OFFSET(Results!$C$3,D99,5)),\"\",OFFSET(Results!$C$3,D99,5))","v":""},{"$f":"IF(ISERROR(OFFSET(Results!$C$3,D99,7)),\"\",OFFSET(Results!$C$3,D99,7))","v":""}]
[]
[null,null,null,null,{"$f":"\"Special Cat:- \"&Entries!R14","v":"Special Cat:- Bradwell"}]
["1st",{"$f":"IF(LEFT(A102,1)*1<Entries!$Q$13+1,E102,\" \")","v":94},{"$f":"IF(ISERROR(MATCH(E102,B$6:B101,0)>0),\"\",E102)","v":94},{"$f":"MATCH(\"*\"&Entries!P$14&\"*\",INDIRECT(\"Results!j\"&4+D101&\":j$500\"),0)+D101","v":19},{"$f":"IF(ISERROR(OFFSET(Results!$B$3,D102,0)),\"\",OFFSET(Results!$B$3,D102,0))","v":94},{"$f":"IF(ISERROR(OFFSET(Results!$K$3,D102,0)),\"\",OFFSET(Results!$K$3,D102,0))","v":"Zoe Procter"},null,{"$f":"RaceTime(OFFSET(Results!$C$3,D102,0),OFFSET(Results!$C$3,D102,1),OFFSET(Results!$C$3,D102,2))","v":"0:30:15"},{"$f":"PROPER(club(OFFSET(Results!$C$3,D102,6)))","v":"Pennine Fell Racers"},{"$f":"IF(ISERROR(OFFSET(Results!$C$3,D102,5)),\"\",OFFSET(Results!$C$3,D102,5))","v":"FS"},{"$f":"IF(ISERROR(OFFSET(Results!$C$3,D102,7)),\"\",OFFSET(Results!$C$3,D102,7))","v":"FB"}]
["2nd",{"$f":"IF(LEFT(A103,1)*1<Entries!$Q$13+1,E103,\" \")","v":12},{"$f":"IF(ISERROR(MATCH(E103,B$6:B102,0)>0),\"\",E103)","v":12},{"$f":"MATCH(\"*\"&Entries!P$14&\"*\",INDIRECT(\"Results!j\"&4+D102&\":j$500\"),0)+D102","v":26},{"$f":"IF(ISERROR(OFFSET(Results!$B$3,D103,0)),\"\",OFFSET(Results!$B$3,D103,0))","v":12},{"$f":"IF(ISERROR(OFFSET(Results!$K$3,D103,0)),\"\",OFFSET(Results!$K$3,D103,0))","v":"Mick Archer"},null,{"$f":"RaceTime(OFFSET(Results!$C$3,D103,0),OFFSET(Results!$C$3,D103,1),OFFSET(Results!$C$3,D103,2))","v":"0:31:22"},{"$f":"PROPER(club(OFFSET(Results!$C$3,D103,6)))","v":"Dark Peak"},{"$f":"IF(ISERROR(OFFSET(Results!$C$3,D103,5)),\"\",OFFSET(Results!$C$3,D103,5))","v":"MV50"},{"$f":"IF(ISERROR(OFFSET(Results!$C$3,D103,7)),\"\",OFFSET(Results!$C$3,D103,7))","v":"MB"}]
["3rd",{"$f":"IF(LEFT(A104,1)*1<Entries!$Q$13+1,E104,\" \")","v":15},{"$f":"IF(ISERROR(MATCH(E104,B$6:B103,0)>0),\"\",E104)","v":""},{"$f":"MATCH(\"*\"&Entries!P$14&\"*\",INDIRECT(\"Results!j\"&4+D103&\":j$500\"),0)+D103","v":31},{"$f":"IF(ISERROR(OFFSET(Results!$B$3,D104,0)),\"\",OFFSET(Results!$B$3,D104,0))","v":15},{"$f":"IF(ISERROR(OFFSET(Results!$K$3,D104,0)),\"\",OFFSET(Results!$K$3,D104,0))","v":"Peter Wallis"},null,{"$f":"RaceTime(OFFSET(Results!$C$3,D104,0),OFFSET(Results!$C$3,D104,1),OFFSET(Results!$C$3,D104,2))","v":"0:32:11"},{"$f":"PROPER(club(OFFSET(Results!$C$3,D104,6)))","v":"Tideswell Rc"},{"$f":"IF(ISERROR(OFFSET(Results!$C$3,D104,5)),\"\",OFFSET(Results!$C$3,D104,5))","v":"MV55"},{"$f":"IF(ISERROR(OFFSET(Results!$C$3,D104,7)),\"\",OFFSET(Results!$C$3,D104,7))","v":"MB"}]
["4th",{"$f":"IF(LEFT(A105,1)*1<Entries!$Q$13+1,E105,\" \")","v":" "},{"$f":"IF(ISERROR(MATCH(E105,B$6:B104,0)>0),\"\",E105)","v":""},{"$f":"MATCH(\"*\"&Entries!P$14&\"*\",INDIRECT(\"Results!j\"&4+D104&\":j$500\"),0)+D104","v":33},{"$f":"IF(ISERROR(OFFSET(Results!$B$3,D105,0)),\"\",OFFSET(Results!$B$3,D105,0))","v":105},{"$f":"IF(ISERROR(OFFSET(Results!$K$3,D105,0)),\"\",OFFSET(Results!$K$3,D105,0))","v":"Robert Eyre"},null,{"$f":"RaceTime(OFFSET(Results!$C$3,D105,0),OFFSET(Results!$C$3,D105,1),OFFSET(Results!$C$3,D105,2))","v":"0:32:16"},{"$f":"PROPER(club(OFFSET(Results!$C$3,D105,6)))","v":"Unattached"},{"$f":"IF(ISERROR(OFFSET(Results!$C$3,D105,5)),\"\",OFFSET(Results!$C$3,D105,5))","v":"MS"},{"$f":"IF(ISERROR(OFFSET(Results!$C$3,D105,7)),\"\",OFFSET(Results!$C$3,D105,7))","v":"MB"}]
["5th",{"$f":"IF(LEFT(A106,1)*1<Entries!$Q$13+1,E106,\" \")","v":" "},{"$f":"IF(ISERROR(MATCH(E106,B$6:B105,0)>0),\"\",E106)","v":""},{"$f":"MATCH(\"*\"&Entries!P$14&\"*\",INDIRECT(\"Results!j\"&4+D105&\":j$500\"),0)+D105","v":38},{"$f":"IF(ISERROR(OFFSET(Results!$B$3,D106,0)),\"\",OFFSET(Results!$B$3,D106,0))","v":36},{"$f":"IF(ISERROR(OFFSET(Results!$K$3,D106,0)),\"\",OFFSET(Results!$K$3,D106,0))","v":"Mike Jones"},null,{"$f":"RaceTime(OFFSET(Results!$C$3,D106,0),OFFSET(Results!$C$3,D106,1),OFFSET(Results!$C$3,D106,2))","v":"0:33:07"},{"$f":"PROPER(club(OFFSET(Results!$C$3,D106,6)))","v":"Norham Running Club"},{"$f":"IF(ISERROR(OFFSET(Results!$C$3,D106,5)),\"\",OFFSET(Results!$C$3,D106,5))","v":"MV45"},{"$f":"IF(ISERROR(OFFSET(Results!$C$3,D106,7)),\"\",OFFSET(Results!$C$3,D106,7))","v":"MB"}]
["6th",{"$f":"IF(LEFT(A107,1)*1<Entries!$Q$13+1,E107,\" \")","v":" "},{"$f":"IF(ISERROR(MATCH(E107,B$6:B106,0)>0),\"\",E107)","v":""},{"$f":"MATCH(\"*\"&Entries!P$14&\"*\",INDIRECT(\"Results!j\"&4+D106&\":j$500\"),0)+D106","v":46},{"$f":"IF(ISERROR(OFFSET(Results!$B$3,D107,0)),\"\",OFFSET(Results!$B$3,D107,0))","v":93},{"$f":"IF(ISERROR(OFFSET(Results!$K$3,D107,0)),\"\",OFFSET(Results!$K$3,D107,0))","v":"Mike Adsett"},null,{"$f":"RaceTime(OFFSET(Results!$C$3,D107,0),OFFSET(Results!$C$3,D107,1),OFFSET(Results!$C$3,D107,2))","v":"0:33:34"},{"$f":"PROPER(club(OFFSET(Results!$C$3,D107,6)))","v":"Unattached"},{"$f":"IF(ISERROR(OFFSET(Results!$C$3,D107,5)),\"\",OFFSET(Results!$C$3,D107,5))","v":"MV50"},{"$f":"IF(ISERROR(OFFSET(Results!$C$3,D107,7)),\"\",OFFSET(Results!$C$3,D107,7))","v":"MB"}]
[]
[null,null,null,null,{"$f":"\"Female \"&E101","v":"Female Special Cat:- Bradwell"}]
["1st",{"$f":"IF(LEFT(A110,1)*1<Entries!$Q$13+1,E110,\" \")","v":94},{"$f":"IF(ISERROR(MATCH(E110,B$6:B109,0)>0),\"\",E110)","v":94},{"$f":"MATCH(\"F*\"&Entries!P$14&\"*\",INDIRECT(\"Results!j\"&4+D109&\":j$500\"),0)+D109","v":19},{"$f":"IF(ISERROR(OFFSET(Results!$B$3,D110,0)),\"\",OFFSET(Results!$B$3,D110,0))","v":94},{"$f":"IF(ISERROR(OFFSET(Results!$K$3,D110,0)),\"\",OFFSET(Results!$K$3,D110,0))","v":"Zoe Procter"},null,{"$f":"RaceTime(OFFSET(Results!$C$3,D110,0),OFFSET(Results!$C$3,D110,1),OFFSET(Results!$C$3,D110,2))","v":"0:30:15"},{"$f":"PROPER(club(OFFSET(Results!$C$3,D110,6)))","v":"Pennine Fell Racers"},{"$f":"IF(ISERROR(OFFSET(Results!$C$3,D110,5)),\"\",OFFSET(Results!$C$3,D110,5))","v":"FS"},{"$f":"IF(ISERROR(OFFSET(Results!$C$3,D110,7)),\"\",OFFSET(Results!$C$3,D110,7))","v":"FB"}]
["2nd",{"$f":"IF(LEFT(A111,1)*1<Entries!$Q$13+1,E111,\" \")","v":45},{"$f":"IF(ISERROR(MATCH(E111,B$6:B110,0)>0),\"\",E111)","v":""},{"$f":"MATCH(\"F*\"&Entries!P$14&\"*\",INDIRECT(\"Results!j\"&4+D110&\":j$500\"),0)+D110","v":97},{"$f":"IF(ISERROR(OFFSET(Results!$B$3,D111,0)),\"\",OFFSET(Results!$B$3,D111,0))","v":45},{"$f":"IF(ISERROR(OFFSET(Results!$K$3,D111,0)),\"\",OFFSET(Results!$K$3,D111,0))","v":"Heather Marsden"},null,{"$f":"RaceTime(OFFSET(Results!$C$3,D111,0),OFFSET(Results!$C$3,D111,1),OFFSET(Results!$C$3,D111,2))","v":"0:42:26"},{"$f":"PROPER(club(OFFSET(Results!$C$3,D111,6)))","v":"Tideswell Rc"},{"$f":"IF(ISERROR(OFFSET(Results!$C$3,D111,5)),\"\",OFFSET(Results!$C$3,D111,5))","v":"FV45"},{"$f":"IF(ISERROR(OFFSET(Results!$C$3,D111,7)),\"\",OFFSET(Results!$C$3,D111,7))","v":"FB"}]
["3rd",{"$f":"IF(LEFT(A112,1)*1<Entries!$Q$13+1,E112,\" \")","v":38},{"$f":"IF(ISERROR(MATCH(E112,B$6:B111,0)>0),\"\",E112)","v":""},{"$f":"MATCH(\"F*\"&Entries!P$14&\"*\",INDIRECT(\"Results!j\"&4+D111&\":j$500\"),0)+D111","v":101},{"$f":"IF(ISERROR(OFFSET(Results!$B$3,D112,0)),\"\",OFFSET(Results!$B$3,D112,0))","v":38},{"$f":"IF(ISERROR(OFFSET(Results!$K$3,D112,0)),\"\",OFFSET(Results!$K$3,D112,0))","v":"Colette Holden"},null,{"$f":"RaceTime(OFFSET(Results!$C$3,D112,0),OFFSET(Results!$C$3,D112,1),OFFSET(Results!$C$3,D112,2))","v":"0:44:56"},{"$f":"PROPER(club(OFFSET(Results!$C$3,D112,6)))","v":"Tideswell Rc"},{"$f":"IF(ISERROR(OFFSET(Results!$C$3,D112,5)),\"\",OFFSET(Results!$C$3,D112,5))","v":"FV40"},{"$f":"IF(ISERROR(OFFSET(Results!$C$3,D112,7)),\"\",OFFSET(Results!$C$3,D112,7))","v":"FB"}]
[]
[null,null,null,null,{"$f":"\"Special Cat:- \"&Entries!R15","v":"Special Cat:- Hope Valley"}]
["1st",{"$f":"IF(LEFT(A115,1)*1<Entries!$Q$13+1,E115,\" \")","v":""},{"$f":"IF(ISERROR(MATCH(E115,B$6:B114,0)>0),\"\",E115)","v":""},{"$f":"MATCH(\"*\"&Entries!P$15&\"*\",INDIRECT(\"Results!j\"&4+D114&\":j$500\"),0)+D114","v":{"$error":"#N/A"}},{"$f":"IF(ISERROR(OFFSET(Results!$B$3,D115,0)),\"\",OFFSET(Results!$B$3,D115,0))","v":""},{"$f":"IF(ISERROR(OFFSET(Results!$K$3,D115,0)),\"\",OFFSET(Results!$K$3,D115,0))","v":""},null,{"$f":"RaceTime(OFFSET(Results!$C$3,D115,0),OFFSET(Results!$C$3,D115,1),OFFSET(Results!$C$3,D115,2))","v":""},{"$f":"PROPER(club(OFFSET(Results!$C$3,D115,6)))","v":""},{"$f":"IF(ISERROR(OFFSET(Results!$C$3,D115,5)),\"\",OFFSET(Results!$C$3,D115,5))","v":""},{"$f":"IF(ISERROR(OFFSET(Results!$C$3,D115,7)),\"\",OFFSET(Results!$C$3,D115,7))","v":""}]
["2nd",{"$f":"IF(LEFT(A116,1)*1<Entries!$Q$13+1,E116,\" \")","v":""},{"$f":"IF(ISERROR(MATCH(E116,B$6:B115,0)>0),\"\",E116)","v":""},{"$f":"MATCH(\"*\"&Entries!P$15&\"*\",INDIRECT(\"Results!j\"&4+D115&\":j$500\"),0)+D115","v":{"$error":"#N/A"}},{"$f":"IF(ISERROR(OFFSET(Results!$B$3,D116,0)),\"\",OFFSET(Results!$B$3,D116,0))","v":""},{"$f":"IF(ISERROR(OFFSET(Results!$K$3,D116,0)),\"\",OFFSET(Results!$K$3,D116,0))","v":""},null,{"$f":"RaceTime(OFFSET(Results!$C$3,D116,0),OFFSET(Results!$C$3,D116,1),OFFSET(Results!$C$3,D116,2))","v":""},{"$f":"PROPER(club(OFFSET(Results!$C$3,D116,6)))","v":""},{"$f":"IF(ISERROR(OFFSET(Results!$C$3,D116,5)),\"\",OFFSET(Results!$C$3,D116,5))","v":""},{"$f":"IF(ISERROR(OFFSET(Results!$C$3,D116,7)),\"\",OFFSET(Results!$C$3,D116,7))","v":""}]
["3rd",{"$f":"IF(LEFT(A117,1)*1<Entries!$Q$13+1,E117,\" \")","v":""},{"$f":"IF(ISERROR(MATCH(E117,B$6:B116,0)>0),\"\",E117)","v":""},{"$f":"MATCH(\"*\"&Entries!P$15&\"*\",INDIRECT(\"Results!j\"&4+D116&\":j$500\"),0)+D116","v":{"$error":"#N/A"}},{"$f":"IF(ISERROR(OFFSET(Results!$B$3,D117,0)),\"\",OFFSET(Results!$B$3,D117,0))","v":""},{"$f":"IF(ISERROR(OFFSET(Results!$K$3,D117,0)),\"\",OFFSET(Results!$K$3,D117,0))","v":""},null,{"$f":"RaceTime(OFFSET(Results!$C$3,D117,0),OFFSET(Results!$C$3,D117,1),OFFSET(Results!$C$3,D117,2))","v":""},{"$f":"PROPER(club(OFFSET(Results!$C$3,D117,6)))","v":""},{"$f":"IF(ISERROR(OFFSET(Results!$C$3,D117,5)),\"\",OFFSET(Results!$C$3,D117,5))","v":""},{"$f":"IF(ISERROR(OFFSET(Results!$C$3,D117,7)),\"\",OFFSET(Results!$C$3,D117,7))","v":""}]
[]
[null,null,null,null,{"$f":"\"Female \"&E114","v":"Female Special Cat:- Hope Valley"}]
["1st",{"$f":"IF(LEFT(A120,1)*1<Entries!$Q$13+1,E120,\" \")","v":""},{"$f":"IF(ISERROR(MATCH(E120,B$6:B119,0)>0),\"\",E120)","v":""},{"$f":"MATCH(\"F*\"&Entries!P$15&\"*\",INDIRECT(\"Results!j\"&4+D119&\":j$500\"),0)+D119","v":{"$error":"#N/A"}},{"$f":"IF(ISERROR(OFFSET(Results!$B$3,D120,0)),\"\",OFFSET(Results!$B$3,D120,0))","v":""},{"$f":"IF(ISERROR(OFFSET(Results!$K$3,D120,0)),\"\",OFFSET(Results!$K$3,D120,0))","v":""},null,{"$f":"RaceTime(OFFSET(Results!$C$3,D120,0),OFFSET(Results!$C$3,D120,1),OFFSET(Results!$C$3,D120,2))","v":""},{"$f":"PROPER(club(OFFSET(Results!$C$3,D120,6)))","v":""},{"$f":"IF(ISERROR(OFFSET(Results!$C$3,D120,5)),\"\",OFFSET(Results!$C$3,D120,5))","v":""},{"$f":"IF(ISERROR(OFFSET(Results!$C$3,D120,7)),\"\",OFFSET(Results!$C$3,D120,7))","v":""}]
["2nd",{"$f":"IF(LEFT(A121,1)*1<Entries!$Q$13+1,E121,\" \")","v":""},{"$f":"IF(ISERROR(MATCH(E121,B$6:B120,0)>0),\"\",E121)","v":""},{"$f":"MATCH(\"F*\"&Entries!P$15&\"*\",INDIRECT(\"Results!j\"&4+D120&\":j$500\"),0)+D120","v":{"$error":"#N/A"}},{"$f":"IF(ISERROR(OFFSET(Results!$B$3,D121,0)),\"\",OFFSET(Results!$B$3,D121,0))","v":""},{"$f":"IF(ISERROR(OFFSET(Results!$K$3,D121,0)),\"\",OFFSET(Results!$K$3,D121,0))","v":""},null,{"$f":"RaceTime(OFFSET(Results!$C$3,D121,0),OFFSET(Results!$C$3,D121,1),OFFSET(Results!$C$3,D121,2))","v":""},{"$f":"PROPER(club(OFFSET(Results!$C$3,D121,6)))","v":""},{"$f":"IF(ISERROR(OFFSET(Results!$C$3,D121,5)),\"\",OFFSET(Results!$C$3,D121,5))","v":""},{"$f":"IF(ISERROR(OFFSET(Results!$C$3,D121,7)),\"\",OFFSET(Results!$C$3,D121,7))","v":""}]
["3rd",{"$f":"IF(LEFT(A122,1)*1<Entries!$Q$13+1,E122,\" \")","v":""},{"$f":"IF(ISERROR(MATCH(E122,B$6:B121,0)>0),\"\",E122)","v":""},{"$f":"MATCH(\"F*\"&Entries!P$15&\"*\",INDIRECT(\"Results!j\"&4+D121&\":j$500\"),0)+D121","v":{"$error":"#N/A"}},{"$f":"IF(ISERROR(OFFSET(Results!$B$3,D122,0)),\"\",OFFSET(Results!$B$3,D122,0))","v":""},{"$f":"IF(ISERROR(OFFSET(Results!$K$3,D122,0)),\"\",OFFSET(Results!$K$3,D122,0))","v":""},null,{"$f":"RaceTime(OFFSET(Results!$C$3,D122,0),OFFSET(Results!$C$3,D122,1),OFFSET(Results!$C$3,D122,2))","v":""},{"$f":"PROPER(club(OFFSET(Results!$C$3,D122,6)))","v":""},{"$f":"IF(ISERROR(OFFSET(Results!$C$3,D122,5)),\"\",OFFSET(Results!$C$3,D122,5))","v":""},{"$f":"IF(ISERROR(OFFSET(Results!$C$3,D122,7)),\"\",OFFSET(Results!$C$3,D122,7))","v":""}]
[]
[null,null,null,null,"Teams (of 3)"]
["Teams",null,null,"Team",null,"No. Points","No. of finishers","Counter - 1","Counter - 2","Counter - 3",null,"Counter - 4"]
["1st",{"$f":"MATCH(F126,Results!AQ$16:AQ889,0)","v":2},null,{"$f":"PROPER(IFERROR(OFFSET(Results!AF$15,B126,0),\"\"))","v":"Steel City Striders"},null,{"$f":"SMALL(Results!$AQ$15:$AQ$100,ROW(A1))","v":21.001000000000001},{"$f":"OFFSET(Results!AL$15,$B126,0)","v":10},{"$f":"counter(OFFSET(Results!$K$3,INDIRECT(\"Results!Am\"&15+$B126),0),OFFSET(Results!$H$4,INDIRECT(\"Results!Am\"&15+$B126),0),INDIRECT(\"Results!Al\"&15+$B126))","v":"Stuart Bond (10)"},{"$f":"counter(OFFSET(Results!$K$3,INDIRECT(\"Results!An\"&15+$B126),0),OFFSET(Results!$H$4,INDIRECT(\"Results!An\"&15+$B126),0),INDIRECT(\"Results!Am\"&15+$B126))","v":"Austin Frost (1)"},{"$f":"counter(OFFSET(Results!$K$3,INDIRECT(\"Results!Ao\"&15+$B126),0),OFFSET(Results!$H$4,INDIRECT(\"Results!Ao\"&15+$B126),0),INDIRECT(\"Results!An\"&15+$B126))","v":"Bob Johnson (6)"},null,{"$f":"counter(OFFSET(Results!$K$3,INDIRECT(\"Results!Ap\"&15+$B126),0),OFFSET(Results!$H$4,INDIRECT(\"Results!Ap\"&15+$B126),0),INDIRECT(\"Results!Ao\"&15+$B126))","v":"Peter Stenton (14)"}]
["2nd",{"$f":"MATCH(F127,Results!AQ$16:AQ890,0)","v":1},null,{"$f":"PROPER(IFERROR(OFFSET(Results!AF$15,B127,0),\"\"))","v":"U/A"},null,{"$f":"SMALL(Results!$AQ$15:$AQ$100,ROW(A2))","v":34.009},{"$f":"OFFSET(Results!AL$15,$B127,0)","v":19},{"$f":"counter(OFFSET(Results!$K$3,INDIRECT(\"Results!Am\"&15+$B127),0),OFFSET(Results!$H$4,INDIRECT(\"Results!Am\"&15+$B127),0),INDIRECT(\"Results!Al\"&15+$B127))","v":"Steve Fraser (19)"},{"$f":"counter(OFFSET(Results!$K$3,INDIRECT(\"Results!An\"&15+$B127),0),OFFSET(Results!$H$4,INDIRECT(\"Results!An\"&15+$B127),0),INDIRECT(\"Results!Am\"&15+$B127))","v":"Andrew Davies (9)"},{"$f":"counter(OFFSET(Results!$K$3,INDIRECT(\"Results!Ao\"&15+$B127),0),OFFSET(Results!$H$4,INDIRECT(\"Results!Ao\"&15+$B127),0),INDIRECT(\"Results!An\"&15+$B127))","v":"Alasdair Menmuir (12)"},null,{"$f":"counter(OFFSET(Results!$K$3,INDIRECT(\"Results!Ap\"&15+$B127),0),OFFSET(Results!$H$4,INDIRECT(\"Results!Ap\"&15+$B127),0),INDIRECT(\"Results!Ao\"&15+$B127))","v":"Paul V Stuart (13)"}]
["3rd",{"$f":"MATCH(F128,Results!AQ$16:AQ891,0)","v":4},null,{"$f":"PROPER(IFERROR(OFFSET(Results!AF$15,B128,0),\"\"))","v":"Tideswell Rc"},null,{"$f":"SMALL(Results!$AQ$15:$AQ$100,ROW(A3))","v":40.003},{"$f":"OFFSET(Results!AL$15,$B128,0)","v":14},{"$f":"counter(OFFSET(Results!$K$3,INDIRECT(\"Results!Am\"&15+$B128),0),OFFSET(Results!$H$4,INDIRECT(\"Results!Am\"&15+$B128),0),INDIRECT(\"Results!Al\"&15+$B128))","v":"Steve Franklin (14)"},{"$f":"counter(OFFSET(Results!$K$3,INDIRECT(\"Results!An\"&15+$B128),0),OFFSET(Results!$H$4,INDIRECT(\"Results!An\"&15+$B128),0),INDIRECT(\"Results!Am\"&15+$B128))","v":"Bart Shaw (3)"},{"$f":"counter(OFFSET(Results!$K$3,INDIRECT(\"Results!Ao\"&15+$B128),0),OFFSET(Results!$H$4,INDIRECT(\"Results!Ao\"&15+$B128),0),INDIRECT(\"Results!An\"&15+$B128))","v":"Jonathan Douglass (5)"},null,{"$f":"counter(OFFSET(Results!$K$3,INDIRECT(\"Results!Ap\"&15+$B128),0),OFFSET(Results!$H$4,INDIRECT(\"Results!Ap\"&15+$B128),0),INDIRECT(\"Results!Ao\"&15+$B128))","v":"Rob Willis (32)"}]
[]
["Female Teams","offset",null,null,{"$f":"\"Ladies: \"&E124","v":"Ladies: Teams (of 3)"},null,null,"Counter - 1","Counter - 2","Counter - 3"]
["1st",{"$f":"MATCH(Results!AZ16,Results!$AY$16:$AY$48,0)","v":3},null,{"$f":"Results!BA16","v":"Totley Ac"},null,{"$f":"Results!AZ16","v":186.05600000000001},{"$f":"OFFSET(Results!$AX$15,$B131,0)","v":9},{"$f":"OFFSET(Results!$K$3,OFFSET(Results!$AX$15,$B131,-4),0)&\" (\"&OFFSET(Results!$AX$15,B131,-4)&\")\"","v":"Clare Howarth (56)"},{"$f":"OFFSET(Results!$K$3,OFFSET(Results!$AX$15,$B131,-3),0)&\" (\"&OFFSET(Results!$AX$15,$B131,-3)&\")\"","v":"Emma Dent (61)"},{"$f":"OFFSET(Results!$K$3,OFFSET(Results!$AX$15,$B131,-2),0)&\" (\"&OFFSET(Results!$AX$15,$B131,-2)&\")\"","v":"Kate Turner (69)"}]
["2nd",{"$f":"MATCH(Results!AZ17,Results!$AY$16:$AY$48,0)","v":5},null,{"$f":"Results!BA17","v":"Steel City Striders"},null,{"$f":"Results!AZ17","v":251.07599999999999},{"$f":"OFFSET(Results!$AX$15,$B132,0)","v":5},{"$f":"OFFSET(Results!$K$3,OFFSET(Results!$AX$15,$B132,-4),0)&\" (\"&OFFSET(Results!$AX$15,B132,-4)&\")\"","v":"Helen Davis (76)"},{"$f":"OFFSET(Results!$K$3,OFFSET(Results!$AX$15,$B132,-3),0)&\" (\"&OFFSET(Results!$AX$15,$B132,-3)&\")\"","v":"Victoria Hawkins (87)"},{"$f":"OFFSET(Results!$K$3,OFFSET(Results!$AX$15,$B132,-2),0)&\" (\"&OFFSET(Results!$AX$15,$B132,-2)&\")\"","v":"Carol Beattie (88)"}]
["3rd",{"$f":"MATCH(Results!AZ18,Results!$AY$16:$AY$48,0)","v":7},null,{"$f":"Results!BA18","v":"Unattached"},null,{"$f":"Results!AZ18","v":279.08199999999999},{"$f":"OFFSET(Results!$AX$15,$B133,0)","v":4},{"$f":"OFFSET(Results!$K$3,OFFSET(Results!$AX$15,$B133,-4),0)&\" (\"&OFFSET(Results!$AX$15,B133,-4)&\")\"","v":"Rachel Watson (82)"},{"$f":"OFFSET(Results!$K$3,OFFSET(Results!$AX$15,$B133,-3),0)&\" (\"&OFFSET(Results!$AX$15,$B133,-3)&\")\"","v":"Naomi Rabin (95)"},{"$f":"OFFSET(Results!$K$3,OFFSET(Results!$AX$15,$B133,-2),0)&\" (\"&OFFSET(Results!$AX$15,$B133,-2)&\")\"","v":"Vicky Moss (102)"}]
[]
["Vet Teams",null,null,null,{"$f":"\"Vet: \"&E124","v":"Vet: Teams (of 3)"}]
["1st",{"$f":"MATCH(Results!BK16,Results!$BJ$16:$BJ$48,0)","v":2},null,{"$f":"Results!BL16","v":"Dark Peak"},null,{"$f":"Results!BK16","v":46.006},{"$f":"OFFSET(Results!$BI$15,$B136,0)","v":8},{"$f":"OFFSET(Results!$K$3,OFFSET(Results!$BI$15,$B136,-4),0)&\" (\"&OFFSET(Results!$BI$15,B136,-4)&\")\"","v":"Austin Frost (6)"},{"$f":"OFFSET(Results!$K$3,OFFSET(Results!$BI$15,$B136,-3),0)&\" (\"&OFFSET(Results!$BI$15,$B136,-3)&\")\"","v":"Bob Johnson (14)"},{"$f":"OFFSET(Results!$K$3,OFFSET(Results!$BI$15,$B136,-2),0)&\" (\"&OFFSET(Results!$BI$15,B136,-2)&\")\"","v":"Mick Archer (26)"}]
["2nd",{"$f":"MATCH(Results!BK17,Results!$BJ$16:$BJ$48,0)","v":4},null,{"$f":"Results!BL17","v":"Steel City Striders"},null,{"$f":"Results!BK17","v":52.012},{"$f":"OFFSET(Results!$BI$15,$B137,0)","v":9},{"$f":"OFFSET(Results!$K$3,OFFSET(Results!$BI$15,$B137,-4),0)&\" (\"&OFFSET(Results!$BI$15,B137,-4)&\")\"","v":"Andrew Davies (12)"},{"$f":"OFFSET(Results!$K$3,OFFSET(Results!$BI$15,$B137,-3),0)&\" (\"&OFFSET(Results!$BI$15,$B137,-3)&\")\"","v":"Paul V Stuart (15)"},{"$f":"OFFSET(Results!$K$3,OFFSET(Results!$BI$15,$B137,-2),0)&\" (\"&OFFSET(Results!$BI$15,B137,-2)&\")\"","v":"David Perkins (25)"}]
["3rd",{"$f":"MATCH(Results!BK18,Results!$BJ$16:$BJ$48,0)","v":7},null,{"$f":"Results!BL18","v":"Unattached"},null,{"$f":"Results!BK18","v":69.018000000000001},{"$f":"OFFSET(Results!$BI$15,$B138,0)","v":16},{"$f":"OFFSET(Results!$K$3,OFFSET(Results!$BI$15,$B138,-4),0)&\" (\"&OFFSET(Results!$BI$15,B138,-4)&\")\"","v":"Mark Elwis (18)"},{"$f":"OFFSET(Results!$K$3,OFFSET(Results!$BI$15,$B138,-3),0)&\" (\"&OFFSET(Results!$BI$15,$B138,-3)&\")\"","v":"Steve Larkin (21)"},{"$f":"OFFSET(Results!$K$3,OFFSET(Results!$BI$15,$B138,-2),0)&\" (\"&OFFSET(Results!$BI$15,B138,-2)&\")\"","v":"Stephen Moss (30)"}]